Workbook

Sheet GB POLLS
B2: GREAT BRITAIN
B3: Polling | E3: Seat projection | G3: Seat changes (+/-)
B4: Party | C4: % | D4: +/- | E4: Seats | G4: Actual | H4: Notional
B5: CON | C5: 0.28 | D5: ='Projection - GB'!B8 -> -0.167 | E5: ='Projection - GB'!B15 -> 168 | F5: =E5 -> 168 | G5: ='Projection - GB'!B17 -> -197 | H5: =E5-372 -> -204
B6: LAB | C6: 0.44 | D6: ='Projection - GB'!C8 -> 0.111 | E6: ='Projection - GB'!C15 -> 394 | F6: =E6 -> 394 | G6: ='Projection - GB'!C17 -> 192 | H6: =E6-200 -> 194
B7: LD | C7: 0.11 | D7: ='Projection - GB'!D8 -> -0.008 | E7: ='Projection - GB'!D15 -> 27 | F7: =E7 -> 27 | G7: ='Projection - GB'!D17 -> 16 | H7: =E7-8 -> 19
B8: SNP | C8: 0.03 | D8: ='Projection - GB'!E8 -> -0.01 | E8: ='Projection - GB'!E15 -> 38 | F8: =E8 -> 38 | G8: ='Projection - GB'!E17 -> -10 | H8: =E8-48 -> -10
B9: GRN | C9: 0.05 | D9: ='Projection - GB'!F8 -> 0.022 | E9: ='Projection - GB'!F15 -> 1 | F9: =E9 -> 1 | G9: ='Projection - GB'!F17 -> 0 | H9: =E9-1 -> 0
B10: REF | C10: 0.05 | D10: ='Projection - GB'!G8 -> 0.029 | E10: ='Projection - GB'!G15 -> 0 | F10: =E10 -> 0 | G10: ='Projection - GB'!G17 -> 0 | H10: =E10-0 -> 0
B11: PC | C11: ---- | D11: 0 | E11: ='Projection - GB'!H15 -> 3 | F11: =E11 -> 3 | G11: ='Projection - GB'!H17 -> -1 | H11: =E11-2 -> 1
B12: OTH | C12: =100%-C10-C9-C8-C7-C6-C5 -> 0.04 | D12: ='Projection - GB'!I8+'Projection - GB'!H8 -> 0.023 | E12: ='Projection - GB'!I15 -> 19 | F12: =E12 -> 19 | G12: ='Projection - GB'!I17 -> 0 | H12: =E12-19 -> 0
B14: =IF(E16="Labour","Lab lead of...","Con lead of…") -> Lab lead of... | E14: =MAX(C5:C12)-LARGE(C5:C12,2) -> 0.16
B16: =IF(E18="Overall majority of...","Majority winner","Plurality winner") -> Majority winner | E16: =IF(E5>E6,"Conservative","Labour") -> Labour
B18: Result | E18: =IF(MAX(E5:E12)>325,"Overall majority of...","Hung Parliament") -> Overall majority of... | H18: =IF((MAX(E5:E12)>325),(MAX(E5:E12)-(650-(MAX(E5:E12)))),"N/A") -> 138

Sheet WELSH POLLS
B2: WALES
B3: Popular vote projection | G3: Seat projection | I3: Seat changes (+/-)
B4: Party | C4: Polls | D4: Model | E4: Overall | F4: +/- | G4: Seats | I4: Actual | J4: Notional
B5: CON | C5: 0.22 | D5: ='Projection - Wales'!B29 -> 0.23585626 | E5: ='Projection - Wales'!B31 -> 0.22158563 | F5: ='Projection - Wales'!B9 -> -0.13941437 | G5: ='Projection - Wales'!B17 -> 3 | H5: =G5 -> 3 | I5: ='Projection - Wales'!B18 -> -11 | J5: ='Projection - Wales'!B19 -> -8
B6: LAB | C6: 0.45 | D6: ='Projection - Wales'!C29 -> 0.50609517 | E6: ='Projection - Wales'!C31 -> 0.45560952 | F6: ='Projection - Wales'!C9 -> 0.046609517 | G6: ='Projection - Wales'!C17 -> 26 | H6: =G6 -> 26 | I6: ='Projection - Wales'!C18 -> 4 | J6: ='Projection - Wales'!C19 -> 7
B7: LD | C7: 0.08 | D7: ='Projection - Wales'!D29 -> 0.05774399 | E7: ='Projection - Wales'!D31 -> 0.077774399 | F7: ='Projection - Wales'!D9 -> 0.017774399 | G7: ='Projection - Wales'!D17 -> 0 | H7: =G7 -> 0 | I7: ='Projection - Wales'!D18 -> 0 | J7: ='Projection - Wales'!D19 -> 0
B8: GRN | C8: 0.04 | D8: ='Projection - Wales'!E29 -> 0.02864016 | E8: ='Projection - Wales'!E31 -> 0.038864016 | F8: ='Projection - Wales'!E9 -> 0.028864016 | G8: ='Projection - Wales'!E17 -> 0 | H8: =G8 -> 0 | I8: ='Projection - Wales'!E18 -> 0 | J8: ='Projection - Wales'!E19 -> 0
B9: REF | C9: 0.09 | D9: ='Projection - Wales'!F29 -> 0.050825072 | E9: ='Projection - Wales'!F31 -> 0.086082507 | F9: ='Projection - Wales'!F9 -> 0.032082507 | G9: ='Projection - Wales'!F17 -> 0 | H9: =G9 -> 0 | I9: ='Projection - Wales'!F18 -> 0 | J9: ='Projection - Wales'!F19 -> 0
B10: PC | C10: 0.11 | D10: ='Projection - Wales'!G29 -> 0.10074434 | E10: ='Projection - Wales'!G31 -> 0.10907443 | F10: ='Projection - Wales'!G9 -> 0.010074434 | G10: ='Projection - Wales'!G17 -> 3 | H10: =G10 -> 3 | I10: ='Projection - Wales'!G18 -> -1 | J10: ='Projection - Wales'!G19 -> 1
B11: OTH | C11: =100%-C10-C9-C7-C8-C6-C5 -> 0.01 | D11: ='Projection - Wales'!H29 -> 0.020095002 | E11: ='Projection - Wales'!H31 -> 0.0110095 | F11: ='Projection - Wales'!H9 -> 0.0040095002 | G11: ='Projection - Wales'!H17 -> 0 | H11: =G11 -> 0 | I11: ='Projection - Wales'!H18 -> 0 | J11: ='Projection - Wales'!H19 -> 0
B12: Weight | C12: 0.9 | D12: 0.1
B14: Plurality winner | G14: =IF(G5>G6,"Conservative","Labour") -> Labour

Sheet  SCOTTISH POLLS
B2: SCOTLAND
B3: Popular vote projection | G3: Seat projection | I3: Seat changes (+/-)
B4: Party | C4: Polls | D4: Model | E4: Overall | F4: +/- | G4: Seats | I4: Actual | J4: Notional
B5: CON | C5: 0.18 | D5: ='Projection - Scotland'!B29 -> 0.15525159 | E5: ='Projection - Scotland'!B31 -> 0.17752516 | F5: ='Projection - Scotland'!B9 -> -0.073474841 | G5: ='Projection - Scotland'!B17 -> 5 | H5: =G5 -> 5 | I5: ='Projection - Scotland'!B18 -> -1 | J5: ='Projection - Scotland'!B19 -> -1
B6: LAB | C6: 0.29 | D6: ='Projection - Scotland'!C29 -> 0.30263896 | E6: ='Projection - Scotland'!C31 -> 0.2912639 | F6: ='Projection - Scotland'!C9 -> 0.1052639 | G6: ='Projection - Scotland'!C17 -> 11 | H6: =G6 -> 11 | I6: ='Projection - Scotland'!C18 -> 10 | J6: ='Projection - Scotland'!C19 -> 10
B7: LD | C7: 0.08 | D7: ='Projection - Scotland'!D29 -> 0.0881215 | E7: ='Projection - Scotland'!D31 -> 0.08081215 | F7: ='Projection - Scotland'!D9 -> -0.01418785 | G7: ='Projection - Scotland'!D17 -> 3 | H7: =G7 -> 3 | I7: ='Projection - Scotland'!D18 -> -1 | J7: ='Projection - Scotland'!D19 -> 1
B8: GRN | C8: 0.02 | D8: ='Projection - Scotland'!G29 -> 0.03311135 | E8: ='Projection - Scotland'!F31 -> 0.022859477 | F8: ='Projection - Scotland'!F9 -> 0.012859477 | G8: ='Projection - Scotland'!F17 -> 0 | H8: =G8 -> 0 | I8: ='Projection - Scotland'!F18 -> 0 | J8: ='Projection - Scotland'!F19 -> 0
B9: REF | C9: 0.02 | D9: ='Projection - Scotland'!F29 -> 0.048594774 | E9: ='Projection - Scotland'!G31 -> 0.021311135 | F9: ='Projection - Scotland'!G9 -> 0.016311135 | G9: ='Projection - Scotland'!G17 -> 0 | H9: =G9 -> 0 | I9: ='Projection - Scotland'!G18 -> 0 | J9: ='Projection - Scotland'!G19 -> 0
B10: SNP | C10: 0.39 | D10: ='Projection - Scotland'!E29 -> 0.34582166 | E10: ='Projection - Scotland'!E31 -> 0.38558217 | F10: ='Projection - Scotland'!E9 -> -0.064417834 | G10: ='Projection - Scotland'!E17 -> 38 | H10: =G10 -> 38 | I10: ='Projection - Scotland'!E18 -> -10 | J10: ='Projection - Scotland'!E19 -> -10
B11: OTH | C11: =100%-C9-C8-C10-C7-C6-C5 -> 0.02 | D11: ='Projection - Scotland'!H29 -> 0.026460166 | E11: ='Projection - Scotland'!H31 -> 0.020646017 | F11: ='Projection - Scotland'!H9 -> 0.017646017 | G11: ='Projection - Scotland'!H17 -> 0 | H11: =G11 -> 0 | I11: ='Projection - Scotland'!H18 -> 0 | J11: ='Projection - Scotland'!H19 -> 0
B12: Weight | C12: 0.9 | D12: 0.1
B14: Plurality winner | G14: =IF(G10>G6,"SNP","Labour") -> SNP

Sheet Projection - GB
B1: Headline figures - Great Britain
B2: Con | C2: Lab | D2: LD | E2: SNP | F2: Grn | G2: Ref | H2: PC | I2: Oth | J2: Total
A3: GE19 actual result | B3: 0.447 | C3: 0.329 | D3: 0.118 | E3: 0.04 | F3: 0.028 | G3: 0.021 | H3: 0.005 | I3: =100%-H3-G3-F3-E3-D3-C3-B3 -> 0.012 | J3: =SUM(B3:I3) -> 1
A4: Before continuing, let's redistribute the Brexit Party vote to second preferences.
A5: GE19 without BXP | B5: 0.45605585 | C5: 0.33253782 | D5: 0.1188316 | E5: 0.03905245 | F5: 0.02871056 | G5: 0.0063084727 | H5: 0.0052758859 | I5: =100%-H5-G5-F5-E5-D5-C5-B5 -> 0.013227365 | J5: =SUM(B5:I5) -> 1
A6: 2019 seats | B6: 365 | C6: 202 | D6: 11 | E6: 48 | F6: 1 | G6: 0 | H6: 4 | I6: 19 | J6: =SUM(B6:I6) -> 650
A7: Poll figures ---> | B7: ='GB POLLS'!C5 -> 0.28 | C7: ='GB POLLS'!C6 -> 0.44 | D7: ='GB POLLS'!C7 -> 0.11 | E7: ='GB POLLS'!C8 -> 0.03 | F7: ='GB POLLS'!C9 -> 0.05 | G7: ='GB POLLS'!C10 -> 0.05 | H7: 0.0052758859 | I7: =100%-H7-G7-F7-E7-D7-C7-B7 -> 0.034724114
A8: +/- from actual | B8: =B7-B3 -> -0.167 | C8: =C7-C3 -> 0.111 | D8: =D7-D3 -> -0.008 | E8: =E7-E3 -> -0.01 | F8: =F7-F3 -> 0.022 | G8: =G7-G3 -> 0.029 | H8: =H7-H3 -> 0.00027588587 | I8: =I7-I3 -> 0.022724114
A9: +/- from notional | B9: =B7-B5 -> -0.17605585 | C9: =C7-C5 -> 0.10746218 | D9: =D7-D5 -> -0.0088315988 | E9: =E7-E5 -> -0.00905245 | F9: =F7-F5 -> 0.02128944 | G9: =G7-G5 -> 0.043691527 | H9: =H7-H5 -> 0 | I9: =I7-I5 -> 0.021496749
A10: Parties gaining votes | B10: =IF(B9>0%,B9,0%) -> 0 | C10: =IF(C9>0%,C9,0%) -> 0.10746218 | D10: =IF(D9>0%,D9,0%) -> 0 | E10: =IF(E9>0%,E9,0%) -> 0 | F10: =IF(F9>0%,F9,0%) -> 0.02128944 | G10: =IF(G9>0%,G9,0%) -> 0.043691527 | H10: =IF(H9>0%,H9,0%) -> 0 | I10: =IF(I9>0%,I9,0%) -> 0.021496749 | J10: =I10+G10+F10+E10+D10+C10+B10+H10 -> 0.1939399
A11: Share of gain | B11: =-B10/J12 -> 0 | C11: =-C10/J12 -> 0.55410043 | D11: =-D10/J12 -> 0 | E11: =-E10/J12 -> 0 | F11: =-F10/J12 -> 0.10977339 | G11: =-G10/J12 -> 0.22528385 | H11: =-H10/J12 -> 0 | I11: =-I10/J12 -> 0.11084232
A12: Parties losing votes | B12: =IF(B9<0%,B9,0%) -> -0.17605585 | C12: =IF(C9<0%,C9,0%) -> 0 | D12: =IF(D9<0%,D9,0%) -> -0.0088315988 | E12: =IF(E9<0%,E9,0%) -> -0.00905245 | F12: =IF(F9<0%,F9,0%) -> 0 | G12: =IF(G9<0%,G9,0%) -> 0 | H12: =IF(H9<0%,H9,0%) -> 0 | I12: =IF(I9<0%,I9,0%) -> 0 | J12: =SUM(B12:I12) -> -0.1939399
A13: Ratio lost | B13: =IF(B9<0%,(B9/B5),0%) -> -0.3860401 | C13: =IF(C9<0%,(C9/C5),0%) -> 0 | D13: =IF(D9<0%,(D9/D5),0%) -> -0.074320289 | E13: =IF(E9<0%,(E9/E5),0%) -> -0.23180236 | F13: =IF(F9<0%,(F9/F5),0%) -> 0 | G13: =IF(G9<0%,(G9/G5),0%) -> 0 | H13: =IF(H9<0%,(H9/H5),0%) -> 0 | I13: =IF(I9<0%,(I9/I5),0%) -> 0
A15: Seats won | B15: ='Eng24'!L546+Scot24!M60+Wales24!M35 -> 168 | C15: ='Eng24'!M546+Scot24!N60+Wales24!N35 -> 394 | D15: ='Eng24'!N546+Scot24!O60+Wales24!O35 -> 27 | E15: =Scot24!R60 -> 38 | F15: ='Eng24'!O546+Scot24!P60+Wales24!P35 -> 1 | G15: ='Eng24'!P546+Scot24!Q60+Wales24!Q35 -> 0 | H15: =Wales24!R35 -> 3 | I15: =650-H15-G15-F15-E15-D15-C15-B15 -> 19
A16: % of seats | B16: =B15/650 -> 0.25846154 | C16: =C15/650 -> 0.60615385 | D16: =D15/650 -> 0.041538462 | E16: =E15/650 -> 0.058461538 | F16: =F15/650 -> 0.0015384615 | G16: =G15/650 -> 0 | H16: =H15/650 -> 0.0046153846 | I16: =I15/650 -> 0.029230769
A17: +/- | B17: =B15-B6 -> -197 | C17: =C15-C6 -> 192 | D17: =D15-D6 -> 16 | E17: =E15-E6 -> -10 | F17: =F15-F6 -> 0 | G17: =G15-G6 -> 0 | H17: =H15-H6 -> -1 | I17: =I15-I6 -> 0

Sheet Projection - England
B2: Headline figures - England
B3: Con | C3: Lab | D3: LD | E3: Grn | F3: Ref | G3: Oth | H3: Total
A4: GE19 actual result | B4: 0.472 | C4: 0.34 | D4: 0.124 | E4: 0.03 | F4: 0.02 | G4: =100%-F4-E4-D4-C4-B4 -> 0.014 | H4: =SUM(B4:G4) -> 1
A5: Before continuing, let's redistribute the Brexit Party vote to second preferences.
A6: GE19 without BXP | B6: 0.47982547 | C6: 0.34347127 | D6: 0.12483163 | E6: 0.030687108 | F6: 0.0060092248 | G6: =100%-F6-E6-D6-C6-B6 -> 0.015175296 | H6: =SUM(B6:G6) -> 1
A7: 2019 seats (actual) | B7: 345 | C7: 179 | D7: 7 | E7: 1 | F7: 0 | G7: 1 | H7: =SUM(B7:G7) -> 533
A8: 2019 seats (notional) | B8: 355 | C8: 180 | D8: 6 | E8: 1 | F8: 0 | G8: 1 | H8: =SUM(B8:G8) -> 543
A9: Estimate 2024 | B9: =B30 -> 0.2945936 | C9: =C30 -> 0.45124901 | D9: =D30 -> 0.11555411 | E9: =E30 -> 0.052039064 | F9: =F30 -> 0.049829052 | G9: =100%-F9-E9-D9-C9-B9 -> 0.03673517 | H9: =SUM(B9:G9) -> 1
A10: +/- from actual | B10: =B9-B4 -> -0.1774064 | C10: =C9-C4 -> 0.11124901 | D10: =D9-D4 -> -0.0084458924 | E10: =E9-E4 -> 0.022039064 | F10: =F9-F4 -> 0.029829052 | G10: =G9-G4 -> 0.02273517
A11: +/- from notional | B11: =B9-B6 -> -0.18523188 | C11: =C9-C6 -> 0.10777774 | D11: =D9-D6 -> -0.0092775228 | E11: =E9-E6 -> 0.021351956 | F11: =F9-F6 -> 0.043819827 | G11: =G9-G6 -> 0.021559874
A12: Parties gaining votes | B12: =IF(B11>0%,B11,0%) -> 0 | C12: =IF(C11>0%,C11,0%) -> 0.10777774 | D12: =IF(D11>0%,D11,0%) -> 0 | E12: =IF(E11>0%,E11,0%) -> 0.021351956 | F12: =IF(F11>0%,F11,0%) -> 0.043819827 | G12: =IF(G11>0%,G11,0%) -> 0.021559874 | H12: =G12+F12+E12+D12+C12+B12 -> 0.1945094
A13: Share of gain | B13: =-B12/H14 -> 0 | C13: =-C12/H14 -> 0.55410043 | D13: =-D12/H14 -> 0 | E13: =-E12/H14 -> 0.10977339 | F13: =-F12/H14 -> 0.22528385 | G13: =-G12/H14 -> 0.11084232
A14: Parties losing votes | B14: =IF(B11<0%,B11,0%) -> -0.18523188 | C14: =IF(C11<0%,C11,0%) -> 0 | D14: =IF(D11<0%,D11,0%) -> -0.0092775228 | E14: =IF(E11<0%,E11,0%) -> 0 | F14: =IF(F11<0%,F11,0%) -> 0 | G14: =IF(G11<0%,G11,0%) -> 0 | H14: =SUM(B14:G14) -> -0.1945094
A15: Ratio lost | B15: =IF(B11<0%,(B11/B6),0%) -> -0.3860401 | C15: =IF(C11<0%,(C11/C6),0%) -> 0 | D15: =IF(D11<0%,(D11/D6),0%) -> -0.074320289 | E15: =IF(E11<0%,(E11/E6),0%) -> 0 | F15: =IF(F11<0%,(F11/F6),0%) -> 0 | G15: =IF(G11<0%,(G11/G6),0%) -> 0
A16: Ratio lost (weak) | B16: =IF((B14/19.6%<(-100%)),-100%,(B14/19.6%)) -> -0.94506059 | C16: =IF((C14/18.4%<(-100%)),-100%,(C14/18.4%)) -> 0 | D16: =IF((D14/10.5%<(-100%)),-100%,(D14/10.5%)) -> -0.08835736 | E16: =IF((E14/3%<(-100%)),100%,(E14/3%)) -> 0 | F16: =IF((F14/0.6%<(-100%)),-100%,(F14/0.6%)) -> 0 | G16: =IF((G14/1.3%<(-100%)),100%,(G14/1.3%)) -> 0
A17: Ratio lost (strong) | B17: =(IF((B14/19.6%<(-100%)),((B14-(-19.6%)))/28.4%,0%)) -> 0 | C17: =(IF((C14/18.4%<(-100%)),((C14-(-18.4%)))/15.9%,0%)) -> 0 | D17: =(IF((D14/10.5%<(-100%)),((D14-(-10.5%)))/2%,0%)) -> 0 | E17: =(IF((E14/3%<(-100%)),((E14-(-3%)))/0.1%,0%)) -> 0 | F17: 0 | G17: =(IF((G14/1.3%<(-100%)),((G14-(-1.3%)))/0.1%,0%)) -> 0
A18: Estimate 2024 | B18: ='Eng24'!L546 -> 160 | C18: ='Eng24'!M546 -> 357 | D18: ='Eng24'!N546 -> 24 | E18: ='Eng24'!O546 -> 1 | F18: ='Eng24'!P546 -> 0 | G18: ='Eng24'!Q546 -> 1 | H18: =SUM(B18:G18) -> 543
A19: +/- from actual | B19: =B18-B7 -> -185 | C19: =C18-C7 -> 178 | D19: =D18-D7 -> 17 | E19: =E18-E7 -> 0 | F19: =F18-F7 -> 0 | G19: =G18-G7 -> 0 | H19: =H18-H7 -> 10
A20: +/- from notional | B20: =B18-B8 -> -195 | C20: =C18-C8 -> 177 | D20: =D18-D8 -> 18 | E20: =E18-E8 -> 0 | F20: =F18-F8 -> 0 | G20: =G18-G8 -> 0 | H20: =H18-H8 -> 0
B22: Calculating English figures
B23: Con | C23: Lab | D23: LD | E23: Grn | F23: Ref | G23: Oth | H23: Total
A24: GE19 without BXP | B24: 0.47982547 | C24: 0.34347127 | D24: 0.12483163 | E24: 0.030687108 | F24: 0.0060092248 | G24: =100%-F24-E24-D24-C24-B24 -> 0.015175296
A25: National +/- | B25: ='Projection - GB'!B9 -> -0.17605585 | C25: ='Projection - GB'!C9 -> 0.10746218 | D25: ='Projection - GB'!D9 -> -0.0088315988 | E25: ='Projection - GB'!F9 -> 0.02128944 | F25: ='Projection - GB'!G9 -> 0.043691527 | G25: ='Projection - GB'!I9 -> 0.021496749
A26: Parties gaining votes | B26: =-B27*H28 -> 0 | C26: =-C27*H28 -> 0.10777774 | D26: =-D27*H28 -> 0 | E26: =-E27*H28 -> 0.021351956 | F26: =-F27*H28 -> 0.043819827 | G26: =-G27*H28 -> 0.021559874 | H26: =G26+F26+E26+D26+C26+B26 -> 0.1945094
A27: Share of gain | B27: ='Projection - GB'!B11 -> 0 | C27: ='Projection - GB'!C11 -> 0.55410043 | D27: ='Projection - GB'!D11 -> 0 | E27: ='Projection - GB'!F11 -> 0.10977339 | F27: ='Projection - GB'!G11 -> 0.22528385 | G27: ='Projection - GB'!I11 -> 0.11084232
A28: Parties losing votes | B28: =B29*B24 -> -0.18523188 | C28: =C29*C24 -> 0 | D28: =D29*D24 -> -0.0092775228 | E28: =E29*E24 -> 0 | F28: =F29*F24 -> 0 | G28: =G29*G24 -> 0 | H28: =G28+F28+E28+D28+C28+B28 -> -0.1945094
A29: Ratio lost | B29: ='Projection - GB'!B13 -> -0.3860401 | C29: ='Projection - GB'!C13 -> 0 | D29: ='Projection - GB'!D13 -> -0.074320289 | E29: ='Projection - GB'!F13 -> 0 | F29: ='Projection - GB'!G13 -> 0 | G29: ='Projection - GB'!I13 -> 0
A30: Estimate 2024 | B30: =B24+B26+B28 -> 0.2945936 | C30: =C24+C26+C28 -> 0.45124901 | D30: =D24+D26+D28 -> 0.11555411 | E30: =E24+E26+E28 -> 0.052039064 | F30: =F24+F26+F28 -> 0.049829052 | G30: =G24+G26+G28 -> 0.03673517

Sheet Projection - Wales
B1: Headline figures - Wales
B2: Con | C2: Lab | D2: LD | E2: Grn | F2: Ref | G2: PC | H2: Oth | I2: Total
A3: GE19 actual result | B3: 0.361 | C3: 0.409 | D3: 0.06 | E3: 0.01 | F3: 0.054 | G3: 0.099 | H3: =100%-F3-E3-D3-C3-B3-G3 -> 0.007 | I3: =SUM(B3:H3) -> 1
A4: Before continuing, let's redistribute the Brexit Party vote to second preferences.
A5: GE19 without BXP | B5: 0.38415581 | C5: 0.42135346 | D5: 0.062380097 | E5: 0.011851895 | F5: 0.016371137 | G5: 0.10074434 | H5: =100%-F5-E5-D5-C5-B5-G5 -> 0.0031432584 | I5: =SUM(B5:H5) -> 1
A6: 2019 seats (actual) | B6: 14 | C6: 22 | D6: 0 | E6: 0 | F6: 0 | G6: 4 | H6: 0 | I6: =SUM(B6:H6) -> 40
A7: 2019 seats (notional) | B7: 11 | C7: 19 | D7: 0 | E7: 0 | F7: 0 | G7: 2 | H7: 0 | I7: =SUM(B7:H7) -> 32
A8: Estimate 2024 | B8: =B31 -> 0.22158563 | C8: =C31 -> 0.45560952 | D8: =D31 -> 0.077774399 | E8: =E31 -> 0.038864016 | F8: =F31 -> 0.086082507 | G8: =G31 -> 0.10907443 | H8: =100%-F8-E8-D8-C8-B8-G8 -> 0.0110095 | I8: =SUM(B8:H8) -> 1
A9: +/- from actual | B9: =B8-B3 -> -0.13941437 | C9: =C8-C3 -> 0.046609517 | D9: =D8-D3 -> 0.017774399 | E9: =E8-E3 -> 0.028864016 | F9: =F8-F3 -> 0.032082507 | G9: =G8-G3 -> 0.010074434 | H9: =H8-H3 -> 0.0040095002
A10: +/- from notional | B10: =B8-B5 -> -0.16257019 | C10: =C8-C5 -> 0.034256057 | D10: =D8-D5 -> 0.015394302 | E10: =E8-E5 -> 0.027012121 | F10: =F8-F5 -> 0.06971137 | G10: =G8-G5 -> 0.0083300931 | H10: =H8-H5 -> 0.0078662418
A11: Parties gaining votes | B11: =IF(B10>0%,B10,0%) -> 0 | C11: =IF(C10>0%,C10,0%) -> 0.034256057 | D11: =IF(D10>0%,D10,0%) -> 0.015394302 | E11: =IF(E10>0%,E10,0%) -> 0.027012121 | F11: =IF(F10>0%,F10,0%) -> 0.06971137 | G11: =IF(G10>0%,G10,0%) -> 0.0083300931 | H11: =IF(H10>0%,H10,0%) -> 0.0078662418 | I11: =SUM(B11:H11) -> 0.16257019
A12: Share of gain | B12: ='Projection - GB'!B11 -> 0 | C12: =-C11/I13 -> 0.21071549 | D12: =-D11/I13 -> 0.09469327 | E12: =-E11/I13 -> 0.16615667 | F12: =-F11/I13 -> 0.42880784 | G12: =-G11/I13 -> 0.05123998 | H12: =-H11/I13 -> 0.048386743
A13: Parties losing votes | B13: =IF(B10<0%,B10,0%) -> -0.16257019 | C13: =IF(C10<0%,C10,0%) -> 0 | D13: =IF(D10<0%,D10,0%) -> 0 | E13: =IF(E10<0%,E10,0%) -> 0 | F13: =IF(F10<0%,F10,0%) -> 0 | G13: =IF(G10<0%,G10,0%) -> 0 | H13: =IF(H10<0%,H10,0%) -> 0 | I13: =SUM(B13:H13) -> -0.16257019
A14: Ratio lost | B14: =IF(B10<0%,(B10/B5),0%) -> -0.42318814 | C14: =IF(C10<0%,(C10/C5),0%) -> 0 | D14: =IF(D10<0%,(D10/D5),0%) -> 0 | E14: =IF(E10<0%,(E10/E5),0%) -> 0 | F14: =IF(F10<0%,(F10/F5),0%) -> 0 | G14: =IF(G10<0%,(G10/G5),0%) -> 0 | H14: =IF(H10<0%,(H10/H5),0%) -> 0
A15: Ratio lost (weak) | B15: =IF((B13/20.3%<(-100%)),-100%,(B13/20.3%)) -> -0.80083835 | C15: =IF((C13/20.1%<(-100%)),-100%,(C13/20.1%)) -> 0 | D15: =IF((D13/5.9%<(-100%)),-100%,(D13/5.9%)) -> 0 | E15: =IF((E13/1.2%<(-100%)),-100%,(E13/1.2%)) -> 0 | F15: =IF((F13/0.3%<(-100%)),-100%,(F13/0.3%)) -> 0 | G15: =IF((G13/8%<(-100%)),-100%,(G13/8%)) -> 0 | H15: =IF((H13/1%<(-100%)),-100%,(H13/1%)) -> 0
A16: Ratio lost (strong) | B16: =(IF((B13/20.3%<(-100%)),((B13-(-20.3%)))/18.4%,0%)) -> 0 | C16: =(IF((C13/20.1%<(-100%)),((C13-(-20.1%)))/22.4%,0%)) -> 0 | D16: =(IF((D13/5.9%<(-100%)),((D13-(-5.9%)))/0.3%,0%)) -> 0 | E16: =(IF((E13/1.2%<(-100%)),((E13-(-1.2%)))/0%,0%)) -> 0 | F16: =(IF((F13/0.3%<(-100%)),((F13-(-0.3%)))/0%,0%)) -> 0 | G16: =(IF((G13/8%<(-100%)),((G13-(-8%)))/2.1%,0%)) -> 0 | H16: =(IF((H13/1%<(-100%)),((H13-(-1%)))/0%,0%)) -> 0
A17: Estimate 2024 | B17: =Wales24!M35 -> 3 | C17: =Wales24!N35 -> 26 | D17: =Wales24!O35 -> 0 | E17: =Wales24!P35 -> 0 | F17: =Wales24!Q35 -> 0 | G17: =Wales24!R35 -> 3 | H17: =Wales24!S35 -> 0 | I17: =SUM(B17:H17) -> 32
A18: +/- from actual | B18: =B17-B6 -> -11 | C18: =C17-C6 -> 4 | D18: =D17-D6 -> 0 | E18: =E17-E6 -> 0 | F18: =F17-F6 -> 0 | G18: =G17-G6 -> -1 | H18: =H17-H6 -> 0 | I18: =I17-I6 -> -8
A19: +/- from notional | B19: =B17-B7 -> -8 | C19: =C17-C7 -> 7 | D19: =D17-D7 -> 0 | E19: =E17-E7 -> 0 | F19: =F17-F7 -> 0 | G19: =G17-G7 -> 1 | H19: =H17-H7 -> 0 | I19: =I17-I7 -> 0
B21: Calculating Welsh figures
B22: Con | C22: Lab | D22: LD | E22: Grn | F22: Ref | G22: PC | H22: Oth | I22: Total
A23: GE19 without BXP | B23: =B5 -> 0.38415581 | C23: =C5 -> 0.42135346 | D23: =D5 -> 0.062380097 | E23: =E5 -> 0.011851895 | F23: =F5 -> 0.016371137 | G23: =G5 -> 0.10074434 | H23: =100%-G23-F23-E23-D23-C23-B23 -> 0.0031432584
A24: National +/- | B24: ='Projection - GB'!B9 -> -0.17605585 | C24: ='Projection - GB'!C9 -> 0.10746218 | D24: ='Projection - GB'!D9 -> -0.0088315988 | E24: ='Projection - GB'!F9 -> 0.02128944 | F24: ='Projection - GB'!G9 -> 0.043691527 | G24: ='Projection - GB'!H9 -> 0 | H24: ='Projection - GB'!I9 -> 0.021496749
A25: Parties gaining votes | B25: =-B26*I27 -> 0 | C25: =-C26*I27 -> 0.084741713 | D25: =-D26*I27 -> 0 | E25: =-E26*I27 -> 0.016788265 | F25: =-F26*I27 -> 0.034453934 | G25: =-G26*I27 -> 0 | H25: =-H26*I27 -> 0.016951744 | I25: =G25+F25+E25+D25+C25+B25+H25 -> 0.15293566
A26: Share of gain | B26: ='Projection - GB'!B11 -> 0 | C26: ='Projection - GB'!C11 -> 0.55410043 | D26: ='Projection - GB'!D11 -> 0 | E26: ='Projection - GB'!F11 -> 0.10977339 | F26: ='Projection - GB'!G11 -> 0.22528385 | G26: ='Projection - GB'!H11 -> 0 | H26: ='Projection - GB'!I11 -> 0.11084232
A27: Parties losing votes | B27: =B28*B23 -> -0.14829955 | C27: =C28*C23 -> 0 | D27: =D28*D23 -> -0.0046361068 | E27: =E28*E23 -> 0 | F27: =F28*F23 -> 0 | G27: =G28*G23 -> 0 | H27: =H28*H23 -> 0 | I27: =G27+F27+E27+D27+C27+B27+H27 -> -0.15293566
A28: Ratio lost | B28: ='Projection - GB'!B13 -> -0.3860401 | C28: ='Projection - GB'!C13 -> 0 | D28: ='Projection - GB'!D13 -> -0.074320289 | E28: ='Projection - GB'!F13 -> 0 | F28: ='Projection - GB'!G13 -> 0 | G28: ='Projection - GB'!H13 -> 0 | H28: ='Projection - GB'!I13 -> 0
A29: Transition Model (10%) | B29: =B23+B25+B27 -> 0.23585626 | C29: =C23+C25+C27 -> 0.50609517 | D29: =D23+D25+D27 -> 0.05774399 | E29: =E23+E25+E27 -> 0.02864016 | F29: =F23+F25+F27 -> 0.050825072 | G29: =G23+G25+G27 -> 0.10074434 | H29: =H23+H25+H27 -> 0.020095002
A30: Welsh polls (90%) | B30: ='WELSH POLLS'!C5 -> 0.22 | C30: ='WELSH POLLS'!C6 -> 0.45 | D30: ='WELSH POLLS'!C7 -> 0.08 | E30: ='WELSH POLLS'!C8 -> 0.04 | F30: ='WELSH POLLS'!C9 -> 0.09 | G30: ='WELSH POLLS'!C10 -> 0.11 | H30: ='WELSH POLLS'!C11 -> 0.01
A31: Overall estimate | B31: =(B29*10%)+(B30*90%) -> 0.22158563 | C31: =(C29*10%)+(C30*90%) -> 0.45560952 | D31: =(D29*10%)+(D30*90%) -> 0.077774399 | E31: =(E29*10%)+(E30*90%) -> 0.038864016 | F31: =(F29*10%)+(F30*90%) -> 0.086082507 | G31: =(G29*10%)+(G30*90%) -> 0.10907443 | H31: =(H29*10%)+(H30*90%) -> 0.0110095

Sheet Projection - Scotland
B1: Headline figures - Scotland
B2: Con | C2: Lab | D2: LD | E2: SNP | F2: Grn | G2: Ref | H2: Oth | I2: Total
A3: GE19 actual result | B3: 0.251 | C3: 0.186 | D3: 0.095 | E3: 0.45 | F3: 0.01 | G3: 0.005 | H3: =100%-G3-F3-E3-D3-C3-B3 -> 0.003 | I3: =SUM(B3:H3) -> 1
A4: Before continuing, let's redistribute the Brexit Party vote to second preferences.
A5: GE19 without BXP | B5: 0.25286927 | C5: 0.18680769 | D5: 0.095196534 | E5: 0.45017277 | F5: 0.010163901 | G5: 0.0015005759 | H5: =100%-G5-F5-E5-D5-C5-B5 -> 0.0032892623 | I5: =SUM(B5:H5) -> 1
A6: 2019 seats (actual) | B6: 6 | C6: 1 | D6: 4 | E6: 48 | F6: 0 | G6: 0 | H6: 0 | I6: =SUM(B6:H6) -> 59
A7: 2019 seats (notional) | B7: 6 | C7: 1 | D7: 2 | E7: 48 | F7: 0 | G7: 0 | H7: 0 | I7: =SUM(B7:H7) -> 57
A8: Estimate 2024 | B8: =B31 -> 0.17752516 | C8: =C31 -> 0.2912639 | D8: =D31 -> 0.08081215 | E8: =E31 -> 0.38558217 | F8: =F31 -> 0.022859477 | G8: =G31 -> 0.021311135 | H8: =100%-G8-F8-E8-D8-C8-B8 -> 0.020646017 | I8: =SUM(B8:H8) -> 1
A9: +/- from actual | B9: =B8-B3 -> -0.073474841 | C9: =C8-C3 -> 0.1052639 | D9: =D8-D3 -> -0.01418785 | E9: =E8-E3 -> -0.064417834 | F9: =F8-F3 -> 0.012859477 | G9: =G8-G3 -> 0.016311135 | H9: =H8-H3 -> 0.017646017
A10: +/- from notional | B10: =B8-B5 -> -0.075344109 | C10: =C8-C5 -> 0.1044562 | D10: =D8-D5 -> -0.014384384 | E10: =E8-E5 -> -0.064590601 | F10: =F8-F5 -> 0.012695577 | G10: =G8-G5 -> 0.019810559 | H10: =H8-H5 -> 0.017356754
A11: Parties gaining votes | B11: =IF(B10>0%,B10,0%) -> 0 | C11: =IF(C10>0%,C10,0%) -> 0.1044562 | D11: =IF(D10>0%,D10,0%) -> 0 | E11: =IF(E10>0%,E10,0%) -> 0 | F11: =IF(F10>0%,F10,0%) -> 0.012695577 | G11: =IF(G10>0%,G10,0%) -> 0.019810559 | H11: =IF(H10>0%,H10,0%) -> 0.017356754 | I11: =SUM(B11:H11) -> 0.15431909
A12: Share of gain | B12: =-B11/I13 -> 0 | C12: =-C11/I13 -> 0.67688451 | D12: =-D11/I13 -> 0 | E12: =-E11/I13 -> 0 | F12: =-F11/I13 -> 0.082268347 | G12: =-G11/I13 -> 0.128374 | H12: =-H11/I13 -> 0.11247315
A13: Parties losing votes | B13: =IF(B10<0%,B10,0%) -> -0.075344109 | C13: =IF(C10<0%,C10,0%) -> 0 | D13: =IF(D10<0%,D10,0%) -> -0.014384384 | E13: =IF(E10<0%,E10,0%) -> -0.064590601 | F13: =IF(F10<0%,F10,0%) -> 0 | G13: =IF(G10<0%,G10,0%) -> 0 | H13: =IF(H10<0%,H10,0%) -> 0 | I13: =SUM(B13:H13) -> -0.15431909
A14: Ratio lost | B14: =IF(B10<0%,(B10/B5),0%) -> -0.29795676 | C14: =IF(C10<0%,(C10/C5),0%) -> 0 | D14: =IF(D10<0%,(D10/D5),0%) -> -0.15110197 | E14: =IF(E10<0%,(E10/E5),0%) -> -0.14347958 | F14: =IF(F10<0%,(F10/F5),0%) -> 0 | G14: =IF(G10<0%,(G10/G5),0%) -> 0 | H14: =IF(H10<0%,(H10/H5),0%) -> 0
A15: Ratio lost (weak) | B15: =IF((B13/18.1%<(-100%)),-100%,(B13/18.1%)) -> -0.4162658 | C15: =IF((C13/14.4%<(-100%)),-100%,(C13/14.4%)) -> 0 | D15: =IF((D13/8.1%<(-100%)),-100%,(D13/8.1%)) -> -0.17758499 | E15: =IF((E13/20%<(-100%)),-100%,(E13/20%)) -> -0.322953 | F15: =IF((F13/1%<(-100%)),-100%,(F13/1%)) -> 0 | G15: =IF((G13/0.5%<(-100%)),-100%,(G13/0.5%)) -> 0 | H15: =IF((H13/0.3%<(-100%)),100%,(H13/0.3%)) -> 0
A16: Ratio lost (strong) | B16: =(IF((B13/18.1%<(-100%)),((B13-(-18.1%)))/7.2%,0%)) -> 0 | C16: =(IF((C13/14.4%<(-100%)),((C13-(-14.4%)))/4.2%,0%)) -> 0 | D16: =(IF((D13/8.1%<(-100%)),((D13-(-8.1%)))/1.4%,0%)) -> 0 | E16: =(IF((E13/20%<(-100%)),((E13-(-20%)))/25%,0%)) -> 0 | F16: =(IF((F13/1%<(-100%)),((F13-(-1%)))/0%,0%)) -> 0 | G16: =(IF((G13/1%<(-100%)),((G13-(-1%)))/0%,0%)) -> 0 | H16: =(IF((H13/1%<(-100%)),((H13-(-1%)))/0%,0%)) -> 0
A17: Estimate 2024 | B17: =Scot24!M60 -> 5 | C17: =Scot24!N60 -> 11 | D17: =Scot24!O60 -> 3 | E17: =Scot24!R60 -> 38 | F17: =Scot24!P60 -> 0 | G17: =Scot24!Q60 -> 0 | H17: =Scot24!T60 -> 0 | I17: =SUM(B17:H17) -> 57
A18: +/- from actual | B18: =B17-B6 -> -1 | C18: =C17-C6 -> 10 | D18: =D17-D6 -> -1 | E18: =E17-E6 -> -10 | F18: =F17-F6 -> 0 | G18: =G17-G6 -> 0 | H18: =H17-H6 -> 0 | I18: =I17-I6 -> -2
A19: +/- from notional | B19: =Scot24!M61 -> -1 | C19: =Scot24!N61 -> 10 | D19: =Scot24!O61 -> 1 | E19: =Scot24!R61 -> -10 | F19: =Scot24!P61 -> 0 | G19: =Scot24!Q61 -> 0 | H19: =Scot24!T61 -> 0 | I19: =Scot24!U61 -> 0
B21: Calculating Scottish figures
B22: Con | C22: Lab | D22: LD | E22: SNP | F22: Ref | G22: Grn | H22: Oth | I22: Total
A23: GE19 without BXP | B23: =B5 -> 0.25286927 | C23: =C5 -> 0.18680769 | D23: =D5 -> 0.095196534 | E23: =E5 -> 0.45017277 | F23: =G5 -> 0.0015005759 | G23: =F5 -> 0.010163901 | H23: =H5 -> 0.0032892623
A24: National +/- | B24: ='Projection - GB'!B9 -> -0.17605585 | C24: ='Projection - GB'!C9 -> 0.10746218 | D24: ='Projection - GB'!D9 -> -0.0088315988 | E24: ='Projection - GB'!E9 -> -0.00905245 | F24: ='Projection - GB'!F9 -> 0.02128944 | G24: ='Projection - GB'!G9 -> 0.043691527 | H24: ='Projection - GB'!I9 -> 0.021496749
A25: Parties gaining votes | B25: =-B26*I27 -> 0 | C25: =-C26*I27 -> 0.11583127 | D25: =-D26*I27 -> 0 | E25: =-E26*I27 -> 0 | F25: =-F26*I27 -> 0.047094198 | G25: =-G26*I27 -> 0.022947449 | H25: =-H26*I27 -> 0.023170903 | I25: =G25+F25+E25+D25+C25+B25+H25 -> 0.20904382
A26: Share of gain | B26: ='Projection - GB'!B11 -> 0 | C26: ='Projection - GB'!C11 -> 0.55410043 | D26: ='Projection - GB'!D11 -> 0 | E26: ='Projection - GB'!E11 -> 0 | F26: ='Projection - GB'!G11 -> 0.22528385 | G26: ='Projection - GB'!F11 -> 0.10977339 | H26: ='Projection - GB'!I11 -> 0.11084232
A27: Parties losing votes | B27: =B28*B23 -> -0.097617679 | C27: =C28*C23 -> 0 | D27: =D28*D23 -> -0.0070750339 | E27: =E28*E23 -> -0.10435111 | F27: =F28*F23 -> 0 | G27: =G28*G23 -> 0 | H27: =H28*H23 -> 0 | I27: =G27+F27+E27+D27+C27+B27+H27 -> -0.20904382
A28: Ratio lost | B28: ='Projection - GB'!B13 -> -0.3860401 | C28: ='Projection - GB'!C13 -> 0 | D28: ='Projection - GB'!D13 -> -0.074320289 | E28: ='Projection - GB'!E13 -> -0.23180236 | F28: ='Projection - GB'!G13 -> 0 | G28: ='Projection - GB'!F13 -> 0 | H28: ='Projection - GB'!I13 -> 0
A29: Transition Model (10%) | B29: =B23+B25+B27 -> 0.15525159 | C29: =C23+C25+C27 -> 0.30263896 | D29: =D23+D25+D27 -> 0.0881215 | E29: =E23+E25+E27 -> 0.34582166 | F29: =F23+F25+F27 -> 0.048594774 | G29: =G23+G25+G27 -> 0.03311135 | H29: =H23+H25+H27 -> 0.026460166
A30: Scotland polls (90%) | B30: =' SCOTTISH POLLS'!C5 -> 0.18 | C30: =' SCOTTISH POLLS'!C6 -> 0.29 | D30: =' SCOTTISH POLLS'!C7 -> 0.08 | E30: =' SCOTTISH POLLS'!C10 -> 0.39 | F30: =' SCOTTISH POLLS'!C8 -> 0.02 | G30: =' SCOTTISH POLLS'!C9 -> 0.02 | H30: =' SCOTTISH POLLS'!C11 -> 0.02
A31: Scottish estimate | B31: =(B29*10%)+(B30*90%) -> 0.17752516 | C31: =(C29*10%)+(C30*90%) -> 0.2912639 | D31: =(D29*10%)+(D30*90%) -> 0.08081215 | E31: =(E29*10%)+(E30*90%) -> 0.38558217 | F31: =(F29*10%)+(F30*90%) -> 0.022859477 | G31: =(G29*10%)+(G30*90%) -> 0.021311135 | H31: =(H29*10%)+(H30*90%) -> 0.020646017

Sheet Eng19
D1: Calculated by SEAT | Q1: Ratio lost | AD1: Votes lost | AS1: Votes GAINED
A2: Constituency | B2: Region | C2: Nation | D2: con_weak | E2: con_strong | F2: lab_weak | G2: lab_strong | H2: ld_weak | I2: ld_strong | J2: grn_weak | K2: grn_strong | L2: ref_weak | M2: ref_strong | N2: oth_weak | O2: oth_strong | P2: TOTAL | Q2: con_weak | R2: con_strong | S2: lab_weak | T2: lab_strong | U2: ld_weak | V2: ld_strong | W2: grn_weak | X2: grn_strong | Y2: ref_weak | Z2: ref_strong | AA2: oth_weak | AB2: oth_strong | AD2: con_weak | AE2: con_strong | AF2: lab_weak | AG2: lab_strong | AH2: ld_weak | AI2: ld_strong | AJ2: grn_weak | AK2: grn_strong | AL2: ref_weak | AM2: ref_strong | AN2: oth_weak | AO2: oth_strong | AP2: Total weak | AQ2: Total strong | AS2: con_weak | AT2: con_strong | AU2: lab_weak | AV2: lab_strong | AW2: ld_weak | AX2: ld_strong | AY2: grn_weak | AZ2: grn_strong | BA2: ref_weak | BB2: ref_strong | BC2: oth_weak | BD2: oth_strong
A3: Amber Valley | B3: East Midlands | C3: England | D3: 11859.794 | E3: 17236.206 | F3: 6538.4027 | G3: 5671.5973 | H3: 2873 | I3: 0 | J3: 1388 | K3: 0 | L3: 0 | M3: 0 | N3: 0 | O3: 0 | P3: =O3+N3+M3+L3+K3+J3+I3+H3+G3+F3+E3+D3 -> 45567 | Q3: ='Projection - England'!B16 -> -0.94506059 | R3: ='Projection - England'!B17 -> 0 | S3: ='Projection - England'!C16 -> 0 | T3: ='Projection - England'!C17 -> 0 | U3: ='Projection - England'!D16 -> -0.08835736 | V3: ='Projection - England'!D17 -> 0 | W3: ='Projection - England'!E16 -> 0 | X3: ='Projection - England'!E17 -> 0 | Y3: ='Projection - England'!F16 -> 0 | Z3: ='Projection - England'!F17 -> 0 | AA3: ='Projection - England'!G16 -> 0 | AB3: ='Projection - England'!G17 -> 0 | AD3: =Q3*D3 -> -11208.224 | AE3: =R3*E3 -> 0 | AF3: =S3*F3 -> 0 | AG3: =T3*G3 -> 0 | AH3: =U3*H3 -> -253.8507 | AI3: =V3*I3 -> 0 | AJ3: =W3*J3 -> 0 | AK3: =X3*K3 -> 0 | ... AO3: =AB3*O3 -> 0 | AP3: =-(AD3+AF3+AH3+AJ3+AL3+AN3) -> 11462.075 | AQ3: =-(AE3+AG3+AI3+AK3+AM3+AO3) -> 0 | AS3: ='Projection - England'!$B$13*'Eng19'!AP3 -> 0 | AT3: ='Projection - England'!$B$13*'Eng19'!AQ3 -> 0 | AU3: ='Projection - England'!$C$13*'Eng19'!AP3 -> 6351.1405 | AV3: ='Projection - England'!$C$13*'Eng19'!AQ3 -> 0 | AW3: ='Projection - England'!$D$13*'Eng19'!AP3 -> 0 | AX3: ='Projection - England'!$D$13*'Eng19'!AQ3 -> 0 | AY3: ='Projection - England'!$E$13*'Eng19'!AP3 -> 1258.2308 | AZ3: ='Projection - England'!$E$13*'Eng19'!AQ3 -> 0 | BA3: ='Projection - England'!$F$13*'Eng19'!AP3 -> 2582.2204 | BB3: ='Projection - England'!$F$13*'Eng19'!AQ3 -> 0 | BC3: ='Projection - England'!$G$13*'Eng19'!AP3 -> 1270.483 | BD3: ='Projection - England'!$G$13*'Eng19'!AQ3 -> 0
A4: Ashfield | B4: East Midlands | C4: England | D4: 7272.2135 | E4: 10568.933 | F4: 6185.5046 | G4: 5365.4833 | H4: 926.04197 | I4: 0 | J4: 573.59372 | K4: 0 | L4: 2162.7333 | M4: 0 | N4: 153.00291 | O4: 11698.701 | P4: =O4+N4+M4+L4+K4+J4+I4+H4+G4+F4+E4+D4 -> 44906.208 | Q4: =Q3 -> -0.94506059 | R4: =R3 -> 0 | S4: =S3 -> 0 | T4: =T3 -> 0 | U4: =U3 -> -0.08835736 | V4: =V3 -> 0 | W4: =W3 -> 0 | X4: =X3 -> 0 | ... AB4: =AB3 -> 0 | AD4: =Q4*D4 -> -6872.6824 | AE4: =R4*E4 -> 0 | AF4: =S4*F4 -> 0 | AG4: =T4*G4 -> 0 | AH4: =U4*H4 -> -81.822625 | AI4: =V4*I4 -> 0 | AJ4: =W4*J4 -> 0 | AK4: =X4*K4 -> 0 | ... AO4: =AB4*O4 -> 0 | AP4: =-(AD4+AF4+AH4+AJ4+AL4+AN4) -> 6954.505 | AQ4: =-(AE4+AG4+AI4+AK4+AM4+AO4) -> 0 | AS4: ='Projection - England'!$B$13*'Eng19'!AP4 -> 0 | AT4: ='Projection - England'!$B$13*'Eng19'!AQ4 -> 0 | AU4: ='Projection - England'!$C$13*'Eng19'!AP4 -> 3853.4942 | AV4: ='Projection - England'!$C$13*'Eng19'!AQ4 -> 0 | AW4: ='Projection - England'!$D$13*'Eng19'!AP4 -> 0 | AX4: ='Projection - England'!$D$13*'Eng19'!AQ4 -> 0 | AY4: ='Projection - England'!$E$13*'Eng19'!AP4 -> 763.41959 | AZ4: ='Projection - England'!$E$13*'Eng19'!AQ4 -> 0 | BA4: ='Projection - England'!$F$13*'Eng19'!AP4 -> 1566.7377 | BB4: ='Projection - England'!$F$13*'Eng19'!AQ4 -> 0 | BC4: ='Projection - England'!$G$13*'Eng19'!AP4 -> 770.8535 | BD4: ='Projection - England'!$G$13*'Eng19'!AQ4 -> 0
A5: Bassetlaw | B5: East Midlands | C5: England | D5: 11480.191 | E5: 16684.517 | F5: 7777.2399 | G5: 6746.2 | H5: 2784.8625 | I5: 0 | J5: 0 | K5: 0 | L5: 5271.5834 | M5: 0 | N5: 3.9199674 | O5: 299.72323 | P5: =O5+N5+M5+L5+K5+J5+I5+H5+G5+F5+E5+D5 -> 51048.236 | Q5: =Q4 -> -0.94506059 | R5: =R4 -> 0 | S5: =S4 -> 0 | T5: =T4 -> 0 | U5: =U4 -> -0.08835736 | V5: =V4 -> 0 | W5: =W4 -> 0 | X5: =X4 -> 0 | ... AB5: =AB4 -> 0 | AD5: =Q5*D5 -> -10849.476 | AE5: =R5*E5 -> 0 | AF5: =S5*F5 -> 0 | AG5: =T5*G5 -> 0 | AH5: =U5*H5 -> -246.0631 | AI5: =V5*I5 -> 0 | AJ5: =W5*J5 -> 0 | AK5: =X5*K5 -> 0 | ... AO5: =AB5*O5 -> 0 | AP5: =-(AD5+AF5+AH5+AJ5+AL5+AN5) -> 11095.539 | AQ5: =-(AE5+AG5+AI5+AK5+AM5+AO5) -> 0 | AS5: ='Projection - England'!$B$13*'Eng19'!AP5 -> 0 | AT5: ='Projection - England'!$B$13*'Eng19'!AQ5 -> 0 | AU5: ='Projection - England'!$C$13*'Eng19'!AP5 -> 6148.0428 | AV5: ='Projection - England'!$C$13*'Eng19'!AQ5 -> 0 | AW5: ='Projection - England'!$D$13*'Eng19'!AP5 -> 0 | AX5: ='Projection - England'!$D$13*'Eng19'!AQ5 -> 0 | AY5: ='Projection - England'!$E$13*'Eng19'!AP5 -> 1217.9949 | AZ5: ='Projection - England'!$E$13*'Eng19'!AQ5 -> 0 | BA5: ='Projection - England'!$F$13*'Eng19'!AP5 -> 2499.6457 | BB5: ='Projection - England'!$F$13*'Eng19'!AQ5 -> 0 | BC5: ='Projection - England'!$G$13*'Eng19'!AP5 -> 1229.8553 | BD5: ='Projection - England'!$G$13*'Eng19'!AQ5 -> 0
A6: Bolsover | B6: East Midlands | C6: England | D6: 9516.8154 | E6: 13831.083 | F6: 9150.9396 | G6: 7937.7863 | H6: 1769.6553 | I6: 0 | J6: 761.53658 | K6: 0 | L6: 4138.1823 | M6: 0 | N6: 15.792199 | O6: 1207.4817 | P6: =O6+N6+M6+L6+K6+J6+I6+H6+G6+F6+E6+D6 -> 48329.272 | Q6: =Q5 -> -0.94506059 | R6: =R5 -> 0 | S6: =S5 -> 0 | T6: =T5 -> 0 | U6: =U5 -> -0.08835736 | V6: =V5 -> 0 | W6: =W5 -> 0 | X6: =X5 -> 0 | ... AB6: =AB5 -> 0 | AD6: =Q6*D6 -> -8993.9672 | AE6: =R6*E6 -> 0 | AF6: =S6*F6 -> 0 | AG6: =T6*G6 -> 0 | AH6: =U6*H6 -> -156.36207 | AI6: =V6*I6 -> 0 | AJ6: =W6*J6 -> 0 | AK6: =X6*K6 -> 0 | ... AO6: =AB6*O6 -> 0 | AP6: =-(AD6+AF6+AH6+AJ6+AL6+AN6) -> 9150.3293 | AQ6: =-(AE6+AG6+AI6+AK6+AM6+AO6) -> 0 | AS6: ='Projection - England'!$B$13*'Eng19'!AP6 -> 0 | AT6: ='Projection - England'!$B$13*'Eng19'!AQ6 -> 0 | AU6: ='Projection - England'!$C$13*'Eng19'!AP6 -> 5070.2014 | AV6: ='Projection - England'!$C$13*'Eng19'!AQ6 -> 0 | AW6: ='Projection - England'!$D$13*'Eng19'!AP6 -> 0 | AX6: ='Projection - England'!$D$13*'Eng19'!AQ6 -> 0 | AY6: ='Projection - England'!$E$13*'Eng19'!AP6 -> 1004.4627 | AZ6: ='Projection - England'!$E$13*'Eng19'!AQ6 -> 0 | BA6: ='Projection - England'!$F$13*'Eng19'!AP6 -> 2061.4215 | BB6: ='Projection - England'!$F$13*'Eng19'!AQ6 -> 0 | BC6: ='Projection - England'!$G$13*'Eng19'!AP6 -> 1014.2438 | BD6: ='Projection - England'!$G$13*'Eng19'!AQ6 -> 0
A7: Boston and Skegness | B7: East Midlands | C7: England | D7: 14133.403 | E7: 20540.512 | F7: 3646.5601 | G7: 3163.1304 | H7: 2065.4527 | I7: 0 | J7: 0 | K7: 0 | L7: 0 | M7: 0 | N7: 20.382619 | O7: 1558.4682 | P7: =O7+N7+M7+L7+K7+J7+I7+H7+G7+F7+E7+D7 -> 45127.909 | Q7: =Q6 -> -0.94506059 | R7: =R6 -> 0 | S7: =S6 -> 0 | T7: =T6 -> 0 | U7: =U6 -> -0.08835736 | V7: =V6 -> 0 | W7: =W6 -> 0 | X7: =X6 -> 0 | ... AB7: =AB6 -> 0 | AD7: =Q7*D7 -> -13356.922 | AE7: =R7*E7 -> 0 | AF7: =S7*F7 -> 0 | AG7: =T7*G7 -> 0 | AH7: =U7*H7 -> -182.49795 | AI7: =V7*I7 -> 0 | AJ7: =W7*J7 -> 0 | AK7: =X7*K7 -> 0 | ... AO7: =AB7*O7 -> 0 | AP7: =-(AD7+AF7+AH7+AJ7+AL7+AN7) -> 13539.42 | AQ7: =-(AE7+AG7+AI7+AK7+AM7+AO7) -> 0 | AS7: ='Projection - England'!$B$13*'Eng19'!AP7 -> 0 | AT7: ='Projection - England'!$B$13*'Eng19'!AQ7 -> 0 | AU7: ='Projection - England'!$C$13*'Eng19'!AP7 -> 7502.1984 | AV7: ='Projection - England'!$C$13*'Eng19'!AQ7 -> 0 | AW7: ='Projection - England'!$D$13*'Eng19'!AP7 -> 0 | AX7: ='Projection - England'!$D$13*'Eng19'!AQ7 -> 0 | AY7: ='Projection - England'!$E$13*'Eng19'!AP7 -> 1486.268 | AZ7: ='Projection - England'!$E$13*'Eng19'!AQ7 -> 0 | BA7: ='Projection - England'!$F$13*'Eng19'!AP7 -> 3050.2127 | BB7: ='Projection - England'!$F$13*'Eng19'!AQ7 -> 0 | BC7: ='Projection - England'!$G$13*'Eng19'!AP7 -> 1500.7408 | BD7: ='Projection - England'!$G$13*'Eng19'!AQ7 -> 0
A8: Broxtowe | B8: East Midlands | C8: England | D8: 9692.4479 | E8: 14086.335 | F8: 10395.463 | G8: 9017.3217 | H8: 212.64195 | I8: 0 | J8: 1511.0218 | K8: 0 | L8: 338.26674 | M8: 0 | N8: 77.725801 | O8: 5942.9649 | P8: =O8+N8+M8+L8+K8+J8+I8+H8+G8+F8+E8+D8 -> 51274.189 | Q8: =Q7 -> -0.94506059 | R8: =R7 -> 0 | S8: =S7 -> 0 | T8: =T7 -> 0 | U8: =U7 -> -0.08835736 | V8: =V7 -> 0 | W8: =W7 -> 0 | X8: =X7 -> 0 | ... AB8: =AB7 -> 0 | AD8: =Q8*D8 -> -9159.9505 | AE8: =R8*E8 -> 0 | AF8: =S8*F8 -> 0 | AG8: =T8*G8 -> 0 | AH8: =U8*H8 -> -18.788481 | AI8: =V8*I8 -> 0 | AJ8: =W8*J8 -> 0 | AK8: =X8*K8 -> 0 | ... AO8: =AB8*O8 -> 0 | AP8: =-(AD8+AF8+AH8+AJ8+AL8+AN8) -> 9178.739 | AQ8: =-(AE8+AG8+AI8+AK8+AM8+AO8) -> 0 | AS8: ='Projection - England'!$B$13*'Eng19'!AP8 -> 0 | AT8: ='Projection - England'!$B$13*'Eng19'!AQ8 -> 0 | AU8: ='Projection - England'!$C$13*'Eng19'!AP8 -> 5085.9432 | AV8: ='Projection - England'!$C$13*'Eng19'!AQ8 -> 0 | AW8: ='Projection - England'!$D$13*'Eng19'!AP8 -> 0 | AX8: ='Projection - England'!$D$13*'Eng19'!AQ8 -> 0 | AY8: ='Projection - England'!$E$13*'Eng19'!AP8 -> 1007.5813 | AZ8: ='Projection - England'!$E$13*'Eng19'!AQ8 -> 0 | BA8: ='Projection - England'!$F$13*'Eng19'!AP8 -> 2067.8217 | BB8: ='Projection - England'!$F$13*'Eng19'!AQ8 -> 0 | BC8: ='Projection - England'!$G$13*'Eng19'!AP8 -> 1017.3928 | BD8: ='Projection - England'!$G$13*'Eng19'!AQ8 -> 0
A9: Chesterfield | B9: East Midlands | C9: England | D9: 7504.5131 | E9: 10906.541 | F9: 10106.567 | G9: 8766.7246 | H9: 3985 | I9: 0 | J9: 1148 | K9: 0 | L9: 4771 | M9: 0 | N9: 8.5954564 | O9: 657.21414 | P9: =O9+N9+M9+L9+K9+J9+I9+H9+G9+F9+E9+D9 -> 47854.155 | Q9: =Q8 -> -0.94506059 | R9: =R8 -> 0 | S9: =S8 -> 0 | T9: =T8 -> 0 | U9: =U8 -> -0.08835736 | V9: =V8 -> 0 | W9: =W8 -> 0 | X9: =X8 -> 0 | ... AB9: =AB8 -> 0 | AD9: =Q9*D9 -> -7092.2196 | AE9: =R9*E9 -> 0 | AF9: =S9*F9 -> 0 | AG9: =T9*G9 -> 0 | AH9: =U9*H9 -> -352.10408 | AI9: =V9*I9 -> 0 | AJ9: =W9*J9 -> 0 | AK9: =X9*K9 -> 0 | ... AO9: =AB9*O9 -> 0 | AP9: =-(AD9+AF9+AH9+AJ9+AL9+AN9) -> 7444.3237 | AQ9: =-(AE9+AG9+AI9+AK9+AM9+AO9) -> 0 | AS9: ='Projection - England'!$B$13*'Eng19'!AP9 -> 0 | AT9: ='Projection - England'!$B$13*'Eng19'!AQ9 -> 0 | AU9: ='Projection - England'!$C$13*'Eng19'!AP9 -> 4124.9029 | AV9: ='Projection - England'!$C$13*'Eng19'!AQ9 -> 0 | AW9: ='Projection - England'!$D$13*'Eng19'!AP9 -> 0 | AX9: ='Projection - England'!$D$13*'Eng19'!AQ9 -> 0 | AY9: ='Projection - England'!$E$13*'Eng19'!AP9 -> 817.18865 | AZ9: ='Projection - England'!$E$13*'Eng19'!AQ9 -> 0 | BA9: ='Projection - England'!$F$13*'Eng19'!AP9 -> 1677.0859 | BB9: ='Projection - England'!$F$13*'Eng19'!AQ9 -> 0 | BC9: ='Projection - England'!$G$13*'Eng19'!AP9 -> 825.14614 | BD9: ='Projection - England'!$G$13*'Eng19'!AQ9 -> 0
A10: Corby and East Northamptonshire | B10: East Midlands | C10: England | D10: 12036.799 | E10: 17493.453 | F10: 11171.077 | G10: 9690.1116 | H10: 3462.4955 | I10: 0 | J10: 0 | K10: 0 | L10: 0 | M10: 0 | N10: 0 | O10: 0 | P10: =O10+N10+M10+L10+K10+J10+I10+H10+G10+F10+E10+D10 -> 53853.937 | Q10: =Q9 -> -0.94506059 | R10: =R9 -> 0 | S10: =S9 -> 0 | T10: =T9 -> 0 | U10: =U9 -> -0.08835736 | V10: =V9 -> 0 | W10: =W9 -> 0 | X10: =X9 -> 0 | ... AB10: =AB9 -> 0 | AD10: =Q10*D10 -> -11375.505 | AE10: =R10*E10 -> 0 | AF10: =S10*F10 -> 0 | AG10: =T10*G10 -> 0 | AH10: =U10*H10 -> -305.93696 | AI10: =V10*I10 -> 0 | AJ10: =W10*J10 -> 0 | AK10: =X10*K10 -> 0 | ... AO10: =AB10*O10 -> 0 | AP10: =-(AD10+AF10+AH10+AJ10+AL10+AN10) -> 11681.442 | AQ10: =-(AE10+AG10+AI10+AK10+AM10+AO10) -> 0 | AS10: ='Projection - England'!$B$13*'Eng19'!AP10 -> 0 | AT10: ='Projection - England'!$B$13*'Eng19'!AQ10 -> 0 | AU10: ='Projection - England'!$C$13*'Eng19'!AP10 -> 6472.6919 | AV10: ='Projection - England'!$C$13*'Eng19'!AQ10 -> 0 | AW10: ='Projection - England'!$D$13*'Eng19'!AP10 -> 0 | AX10: ='Projection - England'!$D$13*'Eng19'!AQ10 -> 0 | AY10: ='Projection - England'!$E$13*'Eng19'!AP10 -> 1282.3115 | AZ10: ='Projection - England'!$E$13*'Eng19'!AQ10 -> 0 | BA10: ='Projection - England'!$F$13*'Eng19'!AP10 -> 2631.6402 | BB10: ='Projection - England'!$F$13*'Eng19'!AQ10 -> 0 | BC10: ='Projection - England'!$G$13*'Eng19'!AP10 -> 1294.7982 | BD10: ='Projection - England'!$G$13*'Eng19'!AQ10 -> 0
A11: Daventry | B11: East Midlands | C11: England | D11: 14801.69 | E11: 21511.755 | F11: 5576.2823 | G11: 4837.0265 | H11: 7082.8642 | I11: 0 | J11: 2297.129 | K11: 0 | L11: 0 | M11: 0 | N11: 0.15969507 | O11: 12.210388 | P11: =O11+N11+M11+L11+K11+J11+I11+H11+G11+F11+E11+D11 -> 56119.118 | Q11: =Q10 -> -0.94506059 | R11: =R10 -> 0 | S11: =S10 -> 0 | T11: =T10 -> 0 | U11: =U10 -> -0.08835736 | V11: =V10 -> 0 | W11: =W10 -> 0 | X11: =X10 -> 0 | ... AB11: =AB10 -> 0 | AD11: =Q11*D11 -> -13988.494 | AE11: =R11*E11 -> 0 | AF11: =S11*F11 -> 0 | AG11: =T11*G11 -> 0 | AH11: =U11*H11 -> -625.82318 | AI11: =V11*I11 -> 0 | AJ11: =W11*J11 -> 0 | AK11: =X11*K11 -> 0 | ... AO11: =AB11*O11 -> 0 | AP11: =-(AD11+AF11+AH11+AJ11+AL11+AN11) -> 14614.317 | AQ11: =-(AE11+AG11+AI11+AK11+AM11+AO11) -> 0 | AS11: ='Projection - England'!$B$13*'Eng19'!AP11 -> 0 | AT11: ='Projection - England'!$B$13*'Eng19'!AQ11 -> 0 | AU11: ='Projection - England'!$C$13*'Eng19'!AP11 -> 8097.7996 | AV11: ='Projection - England'!$C$13*'Eng19'!AQ11 -> 0 | AW11: ='Projection - England'!$D$13*'Eng19'!AP11 -> 0 | AX11: ='Projection - England'!$D$13*'Eng19'!AQ11 -> 0 | AY11: ='Projection - England'!$E$13*'Eng19'!AP11 -> 1604.2632 | AZ11: ='Projection - England'!$E$13*'Eng19'!AQ11 -> 0 | BA11: ='Projection - England'!$F$13*'Eng19'!AP11 -> 3292.3698 | BB11: ='Projection - England'!$F$13*'Eng19'!AQ11 -> 0 | BC11: ='Projection - England'!$G$13*'Eng19'!AP11 -> 1619.8849 | BD11: ='Projection - England'!$G$13*'Eng19'!AQ11 -> 0
A12: Derby North | B12: East Midlands | C12: England | D12: 8941.0194 | E12: 12994.261 | F12: 10174.342 | G12: 8825.5152 | H12: 3450 | I12: 0 | J12: 1046 | K12: 0 | L12: 1908 | M12: 0 | N12: 9.6165065 | O12: 735.28429 | P12: =O12+N12+M12+L12+K12+J12+I12+H12+G12+F12+E12+D12 -> 48084.038 | Q12: =Q11 -> -0.94506059 | R12: =R11 -> 0 | S12: =S11 -> 0 | T12: =T11 -> 0 | U12: =U11 -> -0.08835736 | V12: =V11 -> 0 | W12: =W11 -> 0 | X12: =X11 -> 0 | ... AB12: =AB11 -> 0 | AD12: =Q12*D12 -> -8449.8051 | AE12: =R12*E12 -> 0 | AF12: =S12*F12 -> 0 | AG12: =T12*G12 -> 0 | AH12: =U12*H12 -> -304.83289 | AI12: =V12*I12 -> 0 | AJ12: =W12*J12 -> 0 | AK12: =X12*K12 -> 0 | ... AO12: =AB12*O12 -> 0 | AP12: =-(AD12+AF12+AH12+AJ12+AL12+AN12) -> 8754.638 | AQ12: =-(AE12+AG12+AI12+AK12+AM12+AO12) -> 0 | AS12: ='Projection - England'!$B$13*'Eng19'!AP12 -> 0 | AT12: ='Projection - England'!$B$13*'Eng19'!AQ12 -> 0 | AU12: ='Projection - England'!$C$13*'Eng19'!AP12 -> 4850.9487 | AV12: ='Projection - England'!$C$13*'Eng19'!AQ12 -> 0 | AW12: ='Projection - England'!$D$13*'Eng19'!AP12 -> 0 | AX12: ='Projection - England'!$D$13*'Eng19'!AQ12 -> 0 | AY12: ='Projection - England'!$E$13*'Eng19'!AP12 -> 961.0263 | AZ12: ='Projection - England'!$E$13*'Eng19'!AQ12 -> 0 | BA12: ='Projection - England'!$F$13*'Eng19'!AP12 -> 1972.2786 | BB12: ='Projection - England'!$F$13*'Eng19'!AQ12 -> 0 | BC12: ='Projection - England'!$G$13*'Eng19'!AP12 -> 970.38443 | BD12: ='Projection - England'!$G$13*'Eng19'!AQ12 -> 0
A13: Derby South | B13: East Midlands | C13: England | D13: 6745.9394 | E13: 9804.0828 | F13: 11810.388 | G13: 10244.668 | H13: 2621 | I13: 0 | J13: 0 | K13: 0 | L13: 2480 | M13: 0 | N13: 1.8441365 | O13: 141.00386 | P13: =O13+N13+M13+L13+K13+J13+I13+H13+G13+F13+E13+D13 -> 43848.926 | Q13: =Q12 -> -0.94506059 | R13: =R12 -> 0 | S13: =S12 -> 0 | T13: =T12 -> 0 | U13: =U12 -> -0.08835736 | V13: =V12 -> 0 | W13: =W12 -> 0 | X13: =X12 -> 0 | ... AB13: =AB12 -> 0 | AD13: =Q13*D13 -> -6375.3215 | AE13: =R13*E13 -> 0 | AF13: =S13*F13 -> 0 | AG13: =T13*G13 -> 0 | AH13: =U13*H13 -> -231.58464 | AI13: =V13*I13 -> 0 | AJ13: =W13*J13 -> 0 | AK13: =X13*K13 -> 0 | ... AO13: =AB13*O13 -> 0 | AP13: =-(AD13+AF13+AH13+AJ13+AL13+AN13) -> 6606.9062 | AQ13: =-(AE13+AG13+AI13+AK13+AM13+AO13) -> 0 | AS13: ='Projection - England'!$B$13*'Eng19'!AP13 -> 0 | AT13: ='Projection - England'!$B$13*'Eng19'!AQ13 -> 0 | AU13: ='Projection - England'!$C$13*'Eng19'!AP13 -> 3660.8896 | AV13: ='Projection - England'!$C$13*'Eng19'!AQ13 -> 0 | AW13: ='Projection - England'!$D$13*'Eng19'!AP13 -> 0 | AX13: ='Projection - England'!$D$13*'Eng19'!AQ13 -> 0 | AY13: ='Projection - England'!$E$13*'Eng19'!AP13 -> 725.26249 | AZ13: ='Projection - England'!$E$13*'Eng19'!AQ13 -> 0 | BA13: ='Projection - England'!$F$13*'Eng19'!AP13 -> 1488.4293 | BB13: ='Projection - England'!$F$13*'Eng19'!AQ13 -> 0 | BC13: ='Projection - England'!$G$13*'Eng19'!AP13 -> 732.32484 | BD13: ='Projection - England'!$G$13*'Eng19'!AQ13 -> 0
A14: Derbyshire Dales | B14: East Midlands | C14: England | D14: 13231.923 | E14: 19230.364 | F14: 7362.0347 | G14: 6386.0392 | H14: 6938.4913 | I14: 0 | J14: 2331.9565 | K14: 0 | L14: 0 | M14: 0 | N14: 0 | O14: 0 | P14: =O14+N14+M14+L14+K14+J14+I14+H14+G14+F14+E14+D14 -> 55480.809 | Q14: =Q13 -> -0.94506059 | R14: =R13 -> 0 | S14: =S13 -> 0 | T14: =T13 -> 0 | U14: =U13 -> -0.08835736 | V14: =V13 -> 0 | W14: =W13 -> 0 | X14: =X13 -> 0 | ... AB14: =AB13 -> 0 | AD14: =Q14*D14 -> -12504.969 | AE14: =R14*E14 -> 0 | AF14: =S14*F14 -> 0 | AG14: =T14*G14 -> 0 | AH14: =U14*H14 -> -613.06678 | AI14: =V14*I14 -> 0 | AJ14: =W14*J14 -> 0 | AK14: =X14*K14 -> 0 | ... AO14: =AB14*O14 -> 0 | AP14: =-(AD14+AF14+AH14+AJ14+AL14+AN14) -> 13118.036 | AQ14: =-(AE14+AG14+AI14+AK14+AM14+AO14) -> 0 | AS14: ='Projection - England'!$B$13*'Eng19'!AP14 -> 0 | AT14: ='Projection - England'!$B$13*'Eng19'!AQ14 -> 0 | AU14: ='Projection - England'!$C$13*'Eng19'!AP14 -> 7268.7093 | AV14: ='Projection - England'!$C$13*'Eng19'!AQ14 -> 0 | AW14: ='Projection - England'!$D$13*'Eng19'!AP14 -> 0 | AX14: ='Projection - England'!$D$13*'Eng19'!AQ14 -> 0 | AY14: ='Projection - England'!$E$13*'Eng19'!AP14 -> 1440.0113 | AZ14: ='Projection - England'!$E$13*'Eng19'!AQ14 -> 0 | BA14: ='Projection - England'!$F$13*'Eng19'!AP14 -> 2955.2817 | BB14: ='Projection - England'!$F$13*'Eng19'!AQ14 -> 0 | BC14: ='Projection - England'!$G$13*'Eng19'!AP14 -> 1454.0336 | BD14: ='Projection - England'!$G$13*'Eng19'!AQ14 -> 0
A15: Erewash | B15: East Midlands | C15: England | D15: 11233.706 | E15: 16326.294 | F15: 9078.7944 | G15: 7875.2056 | H15: 2487 | I15: 0 | J15: 1115 | K15: 0 | L15: 0 | M15: 0 | N15: 9.0110274 | O15: 688.98897 | P15: =O15+N15+M15+L15+K15+J15+I15+H15+G15+F15+E15+D15 -> 48814 | Q15: =Q14 -> -0.94506059 | R15: =R14 -> 0 | S15: =S14 -> 0 | T15: =T14 -> 0 | U15: =U14 -> -0.08835736 | V15: =V14 -> 0 | W15: =W14 -> 0 | X15: =X14 -> 0 | ... AB15: =AB14 -> 0 | AD15: =Q15*D15 -> -10616.533 | AE15: =R15*E15 -> 0 | AF15: =S15*F15 -> 0 | AG15: =T15*G15 -> 0 | AH15: =U15*H15 -> -219.74476 | AI15: =V15*I15 -> 0 | AJ15: =W15*J15 -> 0 | AK15: =X15*K15 -> 0 | ... AO15: =AB15*O15 -> 0 | AP15: =-(AD15+AF15+AH15+AJ15+AL15+AN15) -> 10836.278 | AQ15: =-(AE15+AG15+AI15+AK15+AM15+AO15) -> 0 | AS15: ='Projection - England'!$B$13*'Eng19'!AP15 -> 0 | AT15: ='Projection - England'!$B$13*'Eng19'!AQ15 -> 0 | AU15: ='Projection - England'!$C$13*'Eng19'!AP15 -> 6004.3863 | AV15: ='Projection - England'!$C$13*'Eng19'!AQ15 -> 0 | AW15: ='Projection - England'!$D$13*'Eng19'!AP15 -> 0 | AX15: ='Projection - England'!$D$13*'Eng19'!AQ15 -> 0 | AY15: ='Projection - England'!$E$13*'Eng19'!AP15 -> 1189.535 | AZ15: ='Projection - England'!$E$13*'Eng19'!AQ15 -> 0 | BA15: ='Projection - England'!$F$13*'Eng19'!AP15 -> 2441.2385 | BB15: ='Projection - England'!$F$13*'Eng19'!AQ15 -> 0 | BC15: ='Projection - England'!$G$13*'Eng19'!AP15 -> 1201.1182 | BD15: ='Projection - England'!$G$13*'Eng19'!AQ15 -> 0
... A185: Wimbledon and Coombe | B185: London | C185: England | D185: 9758.1284 | E185: 14181.79 | F185: 6649.378 | G185: 5767.8604 | H185: 11782.638 | I185: 10369.989 | J185: 0 | K185: 0 | L185: 0 | M185: 0 | N185: 5.2078481 | O185: 398.19543 | P185: =O185+N185+M185+L185+K185+J185+I185+H185+G185+F185+E185+D185 -> 58913.188 | Q185: =Q184 -> -0.94506059 | R185: =R184 -> 0 | S185: =S184 -> 0 | T185: =T184 -> 0 | U185: =U184 -> -0.08835736 | V185: =V184 -> 0 | W185: =W184 -> 0 | X185: =X184 -> 0 | ... AB185: =AB184 -> 0 | AD185: =Q185*D185 -> -9222.0227 | AE185: =R185*E185 -> 0 | AF185: =S185*F185 -> 0 | AG185: =T185*G185 -> 0 | AH185: =U185*H185 -> -1041.0827 | AI185: =V185*I185 -> 0 | AJ185: =W185*J185 -> 0 | AK185: =X185*K185 -> 0 | ... AO185: =AB185*O185 -> 0 | AP185: =-(AD185+AF185+AH185+AJ185+AL185+AN185) -> 10263.105 | AQ185: =-(AE185+AG185+AI185+AK185+AM185+AO185) -> 0 | AS185: ='Projection - England'!$B$13*'Eng19'!AP185 -> 0 | AT185: ='Projection - England'!$B$13*'Eng19'!AQ185 -> 0 | AU185: ='Projection - England'!$C$13*'Eng19'!AP185 -> 5686.7911 | AV185: ='Projection - England'!$C$13*'Eng19'!AQ185 -> 0 | AW185: ='Projection - England'!$D$13*'Eng19'!AP185 -> 0 | AX185: ='Projection - England'!$D$13*'Eng19'!AQ185 -> 0 | AY185: ='Projection - England'!$E$13*'Eng19'!AP185 -> 1126.6159 | AZ185: ='Projection - England'!$E$13*'Eng19'!AQ185 -> 0 | BA185: ='Projection - England'!$F$13*'Eng19'!AP185 -> 2312.1119 | BB185: ='Projection - England'!$F$13*'Eng19'!AQ185 -> 0 | BC185: ='Projection - England'!$G$13*'Eng19'!AP185 -> 1137.5865 | BD185: ='Projection - England'!$G$13*'Eng19'!AQ185 -> 0
A186: Berwick and Morpeth | B186: North East | C186: England | D186: 11042.244 | E186: 16048.035 | F186: 6180.8002 | G186: 5361.4027 | H186: 7955.5348 | I186: 0 | J186: 1651.6662 | K186: 0 | L186: 361.17016 | M186: 0 | N186: 0.72645511 | O186: 55.545227 | P186: =O186+N186+M186+L186+K186+J186+I186+H186+G186+F186+E186+D186 -> 48657.125 | Q186: =Q110 -> -0.94506059 | R186: =R110 -> 0 | S186: =S110 -> 0 | T186: =T110 -> 0 | U186: =U110 -> -0.08835736 | V186: =V110 -> 0 | W186: =W110 -> 0 | X186: =X110 -> 0 | ... AB186: =AB110 -> 0 | AD186: =Q186*D186 -> -10435.59 | AE186: =R186*E186 -> 0 | AF186: =S186*F186 -> 0 | AG186: =T186*G186 -> 0 | AH186: =U186*H186 -> -702.93005 | AI186: =V186*I186 -> 0 | AJ186: =W186*J186 -> 0 | AK186: =X186*K186 -> 0 | ... AO186: =AB186*O186 -> 0 | AP186: =-(AD186+AF186+AH186+AJ186+AL186+AN186) -> 11138.52 | AQ186: =-(AE186+AG186+AI186+AK186+AM186+AO186) -> 0 | AS186: ='Projection - England'!$B$13*'Eng19'!AP186 -> 0 | AT186: ='Projection - England'!$B$13*'Eng19'!AQ186 -> 0 | AU186: ='Projection - England'!$C$13*'Eng19'!AP186 -> 6171.8586 | AV186: ='Projection - England'!$C$13*'Eng19'!AQ186 -> 0 | AW186: ='Projection - England'!$D$13*'Eng19'!AP186 -> 0 | AX186: ='Projection - England'!$D$13*'Eng19'!AQ186 -> 0 | AY186: ='Projection - England'!$E$13*'Eng19'!AP186 -> 1222.7131 | AZ186: ='Projection - England'!$E$13*'Eng19'!AQ186 -> 0 | BA186: ='Projection - England'!$F$13*'Eng19'!AP186 -> 2509.3287 | BB186: ='Projection - England'!$F$13*'Eng19'!AQ186 -> 0 | BC186: ='Projection - England'!$G$13*'Eng19'!AP186 -> 1234.6194 | BD186: ='Projection - England'!$G$13*'Eng19'!AQ186 -> 0
A187: Bishop Auckland | B187: North East | C187: England | D187: 10810.62 | E187: 15711.409 | F187: 8782.4261 | G187: 7618.1272 | H187: 2432.1301 | I187: 0 | J187: 307.22194 | K187: 0 | L187: 2835.5418 | M187: 0 | N187: 7.6835468 | O187: 587.48895 | P187: =O187+N187+M187+L187+K187+J187+I187+H187+G187+F187+E187+D187 -> 49092.649 | Q187: =Q186 -> -0.94506059 | R187: =R186 -> 0 | S187: =S186 -> 0 | T187: =T186 -> 0 | U187: =U186 -> -0.08835736 | V187: =V186 -> 0 | W187: =W186 -> 0 | X187: =X186 -> 0 | ... AB187: =AB186 -> 0 | AD187: =Q187*D187 -> -10216.691 | AE187: =R187*E187 -> 0 | AF187: =S187*F187 -> 0 | AG187: =T187*G187 -> 0 | AH187: =U187*H187 -> -214.89659 | AI187: =V187*I187 -> 0 | AJ187: =W187*J187 -> 0 | AK187: =X187*K187 -> 0 | ... AO187: =AB187*O187 -> 0 | AP187: =-(AD187+AF187+AH187+AJ187+AL187+AN187) -> 10431.588 | AQ187: =-(AE187+AG187+AI187+AK187+AM187+AO187) -> 0 | AS187: ='Projection - England'!$B$13*'Eng19'!AP187 -> 0 | AT187: ='Projection - England'!$B$13*'Eng19'!AQ187 -> 0 | AU187: ='Projection - England'!$C$13*'Eng19'!AP187 -> 5780.1472 | AV187: ='Projection - England'!$C$13*'Eng19'!AQ187 -> 0 | AW187: ='Projection - England'!$D$13*'Eng19'!AP187 -> 0 | AX187: ='Projection - England'!$D$13*'Eng19'!AQ187 -> 0 | AY187: ='Projection - England'!$E$13*'Eng19'!AP187 -> 1145.1107 | AZ187: ='Projection - England'!$E$13*'Eng19'!AQ187 -> 0 | BA187: ='Projection - England'!$F$13*'Eng19'!AP187 -> 2350.0683 | BB187: ='Projection - England'!$F$13*'Eng19'!AQ187 -> 0 | BC187: ='Projection - England'!$G$13*'Eng19'!AP187 -> 1156.2614 | BD187: ='Projection - England'!$G$13*'Eng19'!AQ187 -> 0
A188: Blaydon and Consett | B188: North East | C188: England | D188: 6896.5514 | E188: 10022.972 | F188: 12091.225 | G188: 10488.274 | H188: 3083.6963 | I188: 0 | J188: 1230.8254 | K188: 0 | L188: 4518.7917 | M188: 0 | N188: 18.748346 | O188: 1433.5107 | P188: =O188+N188+M188+L188+K188+J188+I188+H188+G188+F188+E188+D188 -> 49784.594 | Q188: =Q187 -> -0.94506059 | R188: =R187 -> 0 | S188: =S187 -> 0 | T188: =T187 -> 0 | U188: =U187 -> -0.08835736 | V188: =V187 -> 0 | W188: =W187 -> 0 | X188: =X187 -> 0 | ... AB188: =AB187 -> 0 | AD188: =Q188*D188 -> -6517.659 | AE188: =R188*E188 -> 0 | AF188: =S188*F188 -> 0 | AG188: =T188*G188 -> 0 | AH188: =U188*H188 -> -272.46726 | AI188: =V188*I188 -> 0 | AJ188: =W188*J188 -> 0 | AK188: =X188*K188 -> 0 | ... AO188: =AB188*O188 -> 0 | AP188: =-(AD188+AF188+AH188+AJ188+AL188+AN188) -> 6790.1262 | AQ188: =-(AE188+AG188+AI188+AK188+AM188+AO188) -> 0 | AS188: ='Projection - England'!$B$13*'Eng19'!AP188 -> 0 | AT188: ='Projection - England'!$B$13*'Eng19'!AQ188 -> 0 | AU188: ='Projection - England'!$C$13*'Eng19'!AP188 -> 3762.4119 | AV188: ='Projection - England'!$C$13*'Eng19'!AQ188 -> 0 | AW188: ='Projection - England'!$D$13*'Eng19'!AP188 -> 0 | AX188: ='Projection - England'!$D$13*'Eng19'!AQ188 -> 0 | AY188: ='Projection - England'!$E$13*'Eng19'!AP188 -> 745.37518 | AZ188: ='Projection - England'!$E$13*'Eng19'!AQ188 -> 0 | BA188: ='Projection - England'!$F$13*'Eng19'!AP188 -> 1529.7058 | BB188: ='Projection - England'!$F$13*'Eng19'!AQ188 -> 0 | BC188: ='Projection - England'!$G$13*'Eng19'!AP188 -> 752.63338 | BD188: ='Projection - England'!$G$13*'Eng19'!AQ188 -> 0
A189: Blyth and Ashington | B189: North East | C189: England | D189: 8081.268 | E189: 11744.757 | F189: 12730.312 | G189: 11042.636 | H189: 1543.7247 | I189: 0 | J189: 1181.4888 | K189: 0 | L189: 4602.2949 | M189: 0 | N189: 5.2292464 | O189: 399.83155 | P189: =O189+N189+M189+L189+K189+J189+I189+H189+G189+F189+E189+D189 -> 51331.542 | Q189: =Q188 -> -0.94506059 | R189: =R188 -> 0 | S189: =S188 -> 0 | T189: =T188 -> 0 | U189: =U188 -> -0.08835736 | V189: =V188 -> 0 | W189: =W188 -> 0 | X189: =X188 -> 0 | ... AB189: =AB188 -> 0 | AD189: =Q189*D189 -> -7637.288 | AE189: =R189*E189 -> 0 | AF189: =S189*F189 -> 0 | AG189: =T189*G189 -> 0 | AH189: =U189*H189 -> -136.39944 | AI189: =V189*I189 -> 0 | AJ189: =W189*J189 -> 0 | AK189: =X189*K189 -> 0 | ... AO189: =AB189*O189 -> 0 | AP189: =-(AD189+AF189+AH189+AJ189+AL189+AN189) -> 7773.6874 | AQ189: =-(AE189+AG189+AI189+AK189+AM189+AO189) -> 0 | AS189: ='Projection - England'!$B$13*'Eng19'!AP189 -> 0 | AT189: ='Projection - England'!$B$13*'Eng19'!AQ189 -> 0 | AU189: ='Projection - England'!$C$13*'Eng19'!AP189 -> 4307.4035 | AV189: ='Projection - England'!$C$13*'Eng19'!AQ189 -> 0 | AW189: ='Projection - England'!$D$13*'Eng19'!AP189 -> 0 | AX189: ='Projection - England'!$D$13*'Eng19'!AQ189 -> 0 | AY189: ='Projection - England'!$E$13*'Eng19'!AP189 -> 853.34402 | AZ189: ='Projection - England'!$E$13*'Eng19'!AQ189 -> 0 | BA189: ='Projection - England'!$F$13*'Eng19'!AP189 -> 1751.2863 | BB189: ='Projection - England'!$F$13*'Eng19'!AQ189 -> 0 | BC189: ='Projection - England'!$G$13*'Eng19'!AP189 -> 861.65358 | BD189: ='Projection - England'!$G$13*'Eng19'!AQ189 -> 0
A190: City of Durham | B190: North East | C190: England | D190: 6960.7625 | E190: 10116.292 | F190: 11316.832 | G190: 9816.543 | H190: 7822.991 | I190: 0 | J190: 1681.7735 | K190: 0 | L190: 2952.0472 | M190: 0 | N190: 5.946007 | O190: 454.63553 | P190: =O190+N190+M190+L190+K190+J190+I190+H190+G190+F190+E190+D190 -> 51127.822 | Q190: =Q189 -> -0.94506059 | R190: =R189 -> 0 | S190: =S189 -> 0 | T190: =T189 -> 0 | U190: =U189 -> -0.08835736 | V190: =V189 -> 0 | W190: =W189 -> 0 | X190: =X189 -> 0 | ... AB190: =AB189 -> 0 | AD190: =Q190*D190 -> -6578.3423 | AE190: =R190*E190 -> 0 | AF190: =S190*F190 -> 0 | AG190: =T190*G190 -> 0 | AH190: =U190*H190 -> -691.21884 | AI190: =V190*I190 -> 0 | AJ190: =W190*J190 -> 0 | AK190: =X190*K190 -> 0 | ... AO190: =AB190*O190 -> 0 | AP190: =-(AD190+AF190+AH190+AJ190+AL190+AN190) -> 7269.5612 | AQ190: =-(AE190+AG190+AI190+AK190+AM190+AO190) -> 0 | AS190: ='Projection - England'!$B$13*'Eng19'!AP190 -> 0 | AT190: ='Projection - England'!$B$13*'Eng19'!AQ190 -> 0 | AU190: ='Projection - England'!$C$13*'Eng19'!AP190 -> 4028.067 | AV190: ='Projection - England'!$C$13*'Eng19'!AQ190 -> 0 | AW190: ='Projection - England'!$D$13*'Eng19'!AP190 -> 0 | AX190: ='Projection - England'!$D$13*'Eng19'!AQ190 -> 0 | AY190: ='Projection - England'!$E$13*'Eng19'!AP190 -> 798.00437 | AZ190: ='Projection - England'!$E$13*'Eng19'!AQ190 -> 0 | BA190: ='Projection - England'!$F$13*'Eng19'!AP190 -> 1637.7148 | BB190: ='Projection - England'!$F$13*'Eng19'!AQ190 -> 0 | BC190: ='Projection - England'!$G$13*'Eng19'!AP190 -> 805.77506 | BD190: ='Projection - England'!$G$13*'Eng19'!AQ190 -> 0
