Workbook

Sheet GB POLLS
B2: GREAT BRITAIN
B3: Polling | E3: Seat projection | G3: Seat changes (+/-)
B4: Party | C4: % | D4: +/- | E4: Seats | G4: Actual | H4: Notional
B5: CON | C5: 0.28 | D5: ='Projection - GB'!B8 -> -0.167 | E5: ='Projection - GB'!B15 -> 168 | F5: =E5 -> 168 | G5: ='Projection - GB'!B17 -> -197 | H5: =E5-372 -> -204
B6: LAB | C6: 0.44 | D6: ='Projection - GB'!C8 -> 0.111 | E6: ='Projection - GB'!C15 -> 394 | F6: =E6 -> 394 | G6: ='Projection - GB'!C17 -> 192 | H6: =E6-200 -> 194
B7: LD | C7: 0.11 | D7: ='Projection - GB'!D8 -> -0.008 | E7: ='Projection - GB'!D15 -> 27 | F7: =E7 -> 27 | G7: ='Projection - GB'!D17 -> 16 | H7: =E7-8 -> 19
B8: SNP | C8: 0.03 | D8: ='Projection - GB'!E8 -> -0.01 | E8: ='Projection - GB'!E15 -> 38 | F8: =E8 -> 38 | G8: ='Projection - GB'!E17 -> -10 | H8: =E8-48 -> -10
B9: GRN | C9: 0.05 | D9: ='Projection - GB'!F8 -> 0.022 | E9: ='Projection - GB'!F15 -> 1 | F9: =E9 -> 1 | G9: ='Projection - GB'!F17 -> 0 | H9: =E9-1 -> 0
B10: REF | C10: 0.05 | D10: ='Projection - GB'!G8 -> 0.029 | E10: ='Projection - GB'!G15 -> 0 | F10: =E10 -> 0 | G10: ='Projection - GB'!G17 -> 0 | H10: =E10-0 -> 0
B11: PC | C11: ---- | D11: 0 | E11: ='Projection - GB'!H15 -> 3 | F11: =E11 -> 3 | G11: ='Projection - GB'!H17 -> -1 | H11: =E11-2 -> 1
B12: OTH | C12: =100%-C10-C9-C8-C7-C6-C5 -> 0.04 | D12: ='Projection - GB'!I8+'Projection - GB'!H8 -> 0.023 | E12: ='Projection - GB'!I15 -> 19 | F12: =E12 -> 19 | G12: ='Projection - GB'!I17 -> 0 | H12: =E12-19 -> 0
B14: =IF(E16="Labour","Lab lead of...","Con lead of…") -> Lab lead of... | E14: =MAX(C5:C12)-LARGE(C5:C12,2) -> 0.16
B16: =IF(E18="Overall majority of...","Majority winner","Plurality winner") -> Majority winner | E16: =IF(E5>E6,"Conservative","Labour") -> Labour
B18: Result | E18: =IF(MAX(E5:E12)>325,"Overall majority of...","Hung Parliament") -> Overall majority of... | H18: =IF((MAX(E5:E12)>325),(MAX(E5:E12)-(650-(MAX(E5:E12)))),"N/A") -> 138

Sheet WELSH POLLS
B2: WALES
B3: Popular vote projection | G3: Seat projection | I3: Seat changes (+/-)
B4: Party | C4: Polls | D4: Model | E4: Overall | F4: +/- | G4: Seats | I4: Actual | J4: Notional
B5: CON | C5: 0.22 | D5: ='Projection - Wales'!B29 -> 0.23585626 | E5: ='Projection - Wales'!B31 -> 0.22158563 | F5: ='Projection - Wales'!B9 -> -0.13941437 | G5: ='Projection - Wales'!B17 -> 3 | H5: =G5 -> 3 | I5: ='Projection - Wales'!B18 -> -11 | J5: ='Projection - Wales'!B19 -> -8
B6: LAB | C6: 0.45 | D6: ='Projection - Wales'!C29 -> 0.50609517 | E6: ='Projection - Wales'!C31 -> 0.45560952 | F6: ='Projection - Wales'!C9 -> 0.046609517 | G6: ='Projection - Wales'!C17 -> 26 | H6: =G6 -> 26 | I6: ='Projection - Wales'!C18 -> 4 | J6: ='Projection - Wales'!C19 -> 7
B7: LD | C7: 0.08 | D7: ='Projection - Wales'!D29 -> 0.05774399 | E7: ='Projection - Wales'!D31 -> 0.077774399 | F7: ='Projection - Wales'!D9 -> 0.017774399 | G7: ='Projection - Wales'!D17 -> 0 | H7: =G7 -> 0 | I7: ='Projection - Wales'!D18 -> 0 | J7: ='Projection - Wales'!D19 -> 0
B8: GRN | C8: 0.04 | D8: ='Projection - Wales'!E29 -> 0.02864016 | E8: ='Projection - Wales'!E31 -> 0.038864016 | F8: ='Projection - Wales'!E9 -> 0.028864016 | G8: ='Projection - Wales'!E17 -> 0 | H8: =G8 -> 0 | I8: ='Projection - Wales'!E18 -> 0 | J8: ='Projection - Wales'!E19 -> 0
B9: REF | C9: 0.09 | D9: ='Projection - Wales'!F29 -> 0.050825072 | E9: ='Projection - Wales'!F31 -> 0.086082507 | F9: ='Projection - Wales'!F9 -> 0.032082507 | G9: ='Projection - Wales'!F17 -> 0 | H9: =G9 -> 0 | I9: ='Projection - Wales'!F18 -> 0 | J9: ='Projection - Wales'!F19 -> 0
B10: PC | C10: 0.11 | D10: ='Projection - Wales'!G29 -> 0.10074434 | E10: ='Projection - Wales'!G31 -> 0.10907443 | F10: ='Projection - Wales'!G9 -> 0.010074434 | G10: ='Projection - Wales'!G17 -> 3 | H10: =G10 -> 3 | I10: ='Projection - Wales'!G18 -> -1 | J10: ='Projection - Wales'!G19 -> 1
B11: OTH | C11: =100%-C10-C9-C7-C8-C6-C5 -> 0.01 | D11: ='Projection - Wales'!H29 -> 0.020095002 | E11: ='Projection - Wales'!H31 -> 0.0110095 | F11: ='Projection - Wales'!H9 -> 0.0040095002 | G11: ='Projection - Wales'!H17 -> 0 | H11: =G11 -> 0 | I11: ='Projection - Wales'!H18 -> 0 | J11: ='Projection - Wales'!H19 -> 0
B12: Weight | C12: 0.9 | D12: 0.1
B14: Plurality winner | G14: =IF(G5>G6,"Conservative","Labour") -> Labour

Sheet  SCOTTISH POLLS
B2: SCOTLAND
B3: Popular vote projection | G3: Seat projection | I3: Seat changes (+/-)
B4: Party | C4: Polls | D4: Model | E4: Overall | F4: +/- | G4: Seats | I4: Actual | J4: Notional
B5: CON | C5: 0.18 | D5: ='Projection - Scotland'!B29 -> 0.15525159 | E5: ='Projection - Scotland'!B31 -> 0.17752516 | F5: ='Projection - Scotland'!B9 -> -0.073474841 | G5: ='Projection - Scotland'!B17 -> 5 | H5: =G5 -> 5 | I5: ='Projection - Scotland'!B18 -> -1 | J5: ='Projection - Scotland'!B19 -> -1
B6: LAB | C6: 0.29 | D6: ='Projection - Scotland'!C29 -> 0.30263896 | E6: ='Projection - Scotland'!C31 -> 0.2912639 | F6: ='Projection - Scotland'!C9 -> 0.1052639 | G6: ='Projection - Scotland'!C17 -> 11 | H6: =G6 -> 11 | I6: ='Projection - Scotland'!C18 -> 10 | J6: ='Projection - Scotland'!C19 -> 10
B7: LD | C7: 0.08 | D7: ='Projection - Scotland'!D29 -> 0.0881215 | E7: ='Projection - Scotland'!D31 -> 0.08081215 | F7: ='Projection - Scotland'!D9 -> -0.01418785 | G7: ='Projection - Scotland'!D17 -> 3 | H7: =G7 -> 3 | I7: ='Projection - Scotland'!D18 -> -1 | J7: ='Projection - Scotland'!D19 -> 1
B8: GRN | C8: 0.02 | D8: ='Projection - Scotland'!G29 -> 0.03311135 | E8: ='Projection - Scotland'!F31 -> 0.022859477 | F8: ='Projection - Scotland'!F9 -> 0.012859477 | G8: ='Projection - Scotland'!F17 -> 0 | H8: =G8 -> 0 | I8: ='Projection - Scotland'!F18 -> 0 | J8: ='Projection - Scotland'!F19 -> 0
B9: REF | C9: 0.02 | D9: ='Projection - Scotland'!F29 -> 0.048594774 | E9: ='Projection - Scotland'!G31 -> 0.021311135 | F9: ='Projection - Scotland'!G9 -> 0.016311135 | G9: ='Projection - Scotland'!G17 -> 0 | H9: =G9 -> 0 | I9: ='Projection - Scotland'!G18 -> 0 | J9: ='Projection - Scotland'!G19 -> 0
B10: SNP | C10: 0.39 | D10: ='Projection - Scotland'!E29 -> 0.34582166 | E10: ='Projection - Scotland'!E31 -> 0.38558217 | F10: ='Projection - Scotland'!E9 -> -0.064417834 | G10: ='Projection - Scotland'!E17 -> 38 | H10: =G10 -> 38 | I10: ='Projection - Scotland'!E18 -> -10 | J10: ='Projection - Scotland'!E19 -> -10
B11: OTH | C11: =100%-C9-C8-C10-C7-C6-C5 -> 0.02 | D11: ='Projection - Scotland'!H29 -> 0.026460166 | E11: ='Projection - Scotland'!H31 -> 0.020646017 | F11: ='Projection - Scotland'!H9 -> 0.017646017 | G11: ='Projection - Scotland'!H17 -> 0 | H11: =G11 -> 0 | I11: ='Projection - Scotland'!H18 -> 0 | J11: ='Projection - Scotland'!H19 -> 0
B12: Weight | C12: 0.9 | D12: 0.1
B14: Plurality winner | G14: =IF(G10>G6,"SNP","Labour") -> SNP

Sheet Projection - GB
B1: Headline figures - Great Britain
B2: Con | C2: Lab | D2: LD | E2: SNP | F2: Grn | G2: Ref | H2: PC | I2: Oth | J2: Total
A3: GE19 actual result | B3: 0.447 | C3: 0.329 | D3: 0.118 | E3: 0.04 | F3: 0.028 | G3: 0.021 | H3: 0.005 | I3: =100%-H3-G3-F3-E3-D3-C3-B3 -> 0.012 | J3: =SUM(B3:I3) -> 1
A4: Before continuing, let's redistribute the Brexit Party vote to second preferences.
A5: GE19 without BXP | B5: 0.45605585 | C5: 0.33253782 | D5: 0.1188316 | E5: 0.03905245 | F5: 0.02871056 | G5: 0.0063084727 | H5: 0.0052758859 | I5: =100%-H5-G5-F5-E5-D5-C5-B5 -> 0.013227365 | J5: =SUM(B5:I5) -> 1
A6: 2019 seats | B6: 365 | C6: 202 | D6: 11 | E6: 48 | F6: 1 | G6: 0 | H6: 4 | I6: 19 | J6: =SUM(B6:I6) -> 650
A7: Poll figures ---> | B7: ='GB POLLS'!C5 -> 0.28 | C7: ='GB POLLS'!C6 -> 0.44 | D7: ='GB POLLS'!C7 -> 0.11 | E7: ='GB POLLS'!C8 -> 0.03 | F7: ='GB POLLS'!C9 -> 0.05 | G7: ='GB POLLS'!C10 -> 0.05 | H7: 0.0052758859 | I7: =100%-H7-G7-F7-E7-D7-C7-B7 -> 0.034724114
A8: +/- from actual | B8: =B7-B3 -> -0.167 | C8: =C7-C3 -> 0.111 | D8: =D7-D3 -> -0.008 | E8: =E7-E3 -> -0.01 | F8: =F7-F3 -> 0.022 | G8: =G7-G3 -> 0.029 | H8: =H7-H3 -> 0.00027588587 | I8: =I7-I3 -> 0.022724114
A9: +/- from notional | B9: =B7-B5 -> -0.17605585 | C9: =C7-C5 -> 0.10746218 | D9: =D7-D5 -> -0.0088315988 | E9: =E7-E5 -> -0.00905245 | F9: =F7-F5 -> 0.02128944 | G9: =G7-G5 -> 0.043691527 | H9: =H7-H5 -> 0 | I9: =I7-I5 -> 0.021496749
A10: Parties gaining votes | B10: =IF(B9>0%,B9,0%) -> 0 | C10: =IF(C9>0%,C9,0%) -> 0.10746218 | D10: =IF(D9>0%,D9,0%) -> 0 | E10: =IF(E9>0%,E9,0%) -> 0 | F10: =IF(F9>0%,F9,0%) -> 0.02128944 | G10: =IF(G9>0%,G9,0%) -> 0.043691527 | H10: =IF(H9>0%,H9,0%) -> 0 | I10: =IF(I9>0%,I9,0%) -> 0.021496749 | J10: =I10+G10+F10+E10+D10+C10+B10+H10 -> 0.1939399
A11: Share of gain | B11: =-B10/J12 -> 0 | C11: =-C10/J12 -> 0.55410043 | D11: =-D10/J12 -> 0 | E11: =-E10/J12 -> 0 | F11: =-F10/J12 -> 0.10977339 | G11: =-G10/J12 -> 0.22528385 | H11: =-H10/J12 -> 0 | I11: =-I10/J12 -> 0.11084232
A12: Parties losing votes | B12: =IF(B9<0%,B9,0%) -> -0.17605585 | C12: =IF(C9<0%,C9,0%) -> 0 | D12: =IF(D9<0%,D9,0%) -> -0.0088315988 | E12: =IF(E9<0%,E9,0%) -> -0.00905245 | F12: =IF(F9<0%,F9,0%) -> 0 | G12: =IF(G9<0%,G9,0%) -> 0 | H12: =IF(H9<0%,H9,0%) -> 0 | I12: =IF(I9<0%,I9,0%) -> 0 | J12: =SUM(B12:I12) -> -0.1939399
A13: Ratio lost | B13: =IF(B9<0%,(B9/B5),0%) -> -0.3860401 | C13: =IF(C9<0%,(C9/C5),0%) -> 0 | D13: =IF(D9<0%,(D9/D5),0%) -> -0.074320289 | E13: =IF(E9<0%,(E9/E5),0%) -> -0.23180236 | F13: =IF(F9<0%,(F9/F5),0%) -> 0 | G13: =IF(G9<0%,(G9/G5),0%) -> 0 | H13: =IF(H9<0%,(H9/H5),0%) -> 0 | I13: =IF(I9<0%,(I9/I5),0%) -> 0
A15: Seats won | B15: ='Eng24'!L546+Scot24!M60+Wales24!M35 -> 168 | C15: ='Eng24'!M546+Scot24!N60+Wales24!N35 -> 394 | D15: ='Eng24'!N546+Scot24!O60+Wales24!O35 -> 27 | E15: =Scot24!R60 -> 38 | F15: ='Eng24'!O546+Scot24!P60+Wales24!P35 -> 1 | G15: ='Eng24'!P546+Scot24!Q60+Wales24!Q35 -> 0 | H15: =Wales24!R35 -> 3 | I15: =650-H15-G15-F15-E15-D15-C15-B15 -> 19
A16: % of seats | B16: =B15/650 -> 0.25846154 | C16: =C15/650 -> 0.60615385 | D16: =D15/650 -> 0.041538462 | E16: =E15/650 -> 0.058461538 | F16: =F15/650 -> 0.0015384615 | G16: =G15/650 -> 0 | H16: =H15/650 -> 0.0046153846 | I16: =I15/650 -> 0.029230769
A17: +/- | B17: =B15-B6 -> -197 | C17: =C15-C6 -> 192 | D17: =D15-D6 -> 16 | E17: =E15-E6 -> -10 | F17: =F15-F6 -> 0 | G17: =G15-G6 -> 0 | H17: =H15-H6 -> -1 | I17: =I15-I6 -> 0

Sheet Projection - England
B2: Headline figures - England
B3: Con | C3: Lab | D3: LD | E3: Grn | F3: Ref | G3: Oth | H3: Total
A4: GE19 actual result | B4: 0.472 | C4: 0.34 | D4: 0.124 | E4: 0.03 | F4: 0.02 | G4: =100%-F4-E4-D4-C4-B4 -> 0.014 | H4: =SUM(B4:G4) -> 1
A5: Before continuing, let's redistribute the Brexit Party vote to second preferences.
A6: GE19 without BXP | B6: 0.47982547 | C6: 0.34347127 | D6: 0.12483163 | E6: 0.030687108 | F6: 0.0060092248 | G6: =100%-F6-E6-D6-C6-B6 -> 0.015175296 | H6: =SUM(B6:G6) -> 1
A7: 2019 seats (actual) | B7: 345 | C7: 179 | D7: 7 | E7: 1 | F7: 0 | G7: 1 | H7: =SUM(B7:G7) -> 533
A8: 2019 seats (notional) | B8: 355 | C8: 180 | D8: 6 | E8: 1 | F8: 0 | G8: 1 | H8: =SUM(B8:G8) -> 543
A9: Estimate 2024 | B9: =B30 -> 0.2945936 | C9: =C30 -> 0.45124901 | D9: =D30 -> 0.11555411 | E9: =E30 -> 0.052039064 | F9: =F30 -> 0.049829052 | G9: =100%-F9-E9-D9-C9-B9 -> 0.03673517 | H9: =SUM(B9:G9) -> 1
A10: +/- from actual | B10: =B9-B4 -> -0.1774064 | C10: =C9-C4 -> 0.11124901 | D10: =D9-D4 -> -0.0084458924 | E10: =E9-E4 -> 0.022039064 | F10: =F9-F4 -> 0.029829052 | G10: =G9-G4 -> 0.02273517
A11: +/- from notional | B11: =B9-B6 -> -0.18523188 | C11: =C9-C6 -> 0.10777774 | D11: =D9-D6 -> -0.0092775228 | E11: =E9-E6 -> 0.021351956 | F11: =F9-F6 -> 0.043819827 | G11: =G9-G6 -> 0.021559874
A12: Parties gaining votes | B12: =IF(B11>0%,B11,0%) -> 0 | C12: =IF(C11>0%,C11,0%) -> 0.10777774 | D12: =IF(D11>0%,D11,0%) -> 0 | E12: =IF(E11>0%,E11,0%) -> 0.021351956 | F12: =IF(F11>0%,F11,0%) -> 0.043819827 | G12: =IF(G11>0%,G11,0%) -> 0.021559874 | H12: =G12+F12+E12+D12+C12+B12 -> 0.1945094
A13: Share of gain | B13: =-B12/H14 -> 0 | C13: =-C12/H14 -> 0.55410043 | D13: =-D12/H14 -> 0 | E13: =-E12/H14 -> 0.10977339 | F13: =-F12/H14 -> 0.22528385 | G13: =-G12/H14 -> 0.11084232
A14: Parties losing votes | B14: =IF(B11<0%,B11,0%) -> -0.18523188 | C14: =IF(C11<0%,C11,0%) -> 0 | D14: =IF(D11<0%,D11,0%) -> -0.0092775228 | E14: =IF(E11<0%,E11,0%) -> 0 | F14: =IF(F11<0%,F11,0%) -> 0 | G14: =IF(G11<0%,G11,0%) -> 0 | H14: =SUM(B14:G14) -> -0.1945094
A15: Ratio lost | B15: =IF(B11<0%,(B11/B6),0%) -> -0.3860401 | C15: =IF(C11<0%,(C11/C6),0%) -> 0 | D15: =IF(D11<0%,(D11/D6),0%) -> -0.074320289 | E15: =IF(E11<0%,(E11/E6),0%) -> 0 | F15: =IF(F11<0%,(F11/F6),0%) -> 0 | G15: =IF(G11<0%,(G11/G6),0%) -> 0
A16: Ratio lost (weak) | B16: =IF((B14/19.6%<(-100%)),-100%,(B14/19.6%)) -> -0.94506059 | C16: =IF((C14/18.4%<(-100%)),-100%,(C14/18.4%)) -> 0 | D16: =IF((D14/10.5%<(-100%)),-100%,(D14/10.5%)) -> -0.08835736 | E16: =IF((E14/3%<(-100%)),100%,(E14/3%)) -> 0 | F16: =IF((F14/0.6%<(-100%)),-100%,(F14/0.6%)) -> 0 | G16: =IF((G14/1.3%<(-100%)),100%,(G14/1.3%)) -> 0
A17: Ratio lost (strong) | B17: =(IF((B14/19.6%<(-100%)),((B14-(-19.6%)))/28.4%,0%)) -> 0 | C17: =(IF((C14/18.4%<(-100%)),((C14-(-18.4%)))/15.9%,0%)) -> 0 | D17: =(IF((D14/10.5%<(-100%)),((D14-(-10.5%)))/2%,0%)) -> 0 | E17: =(IF((E14/3%<(-100%)),((E14-(-3%)))/0.1%,0%)) -> 0 | F17: 0 | G17: =(IF((G14/1.3%<(-100%)),((G14-(-1.3%)))/0.1%,0%)) -> 0
A18: Estimate 2024 | B18: ='Eng24'!L546 -> 160 | C18: ='Eng24'!M546 -> 357 | D18: ='Eng24'!N546 -> 24 | E18: ='Eng24'!O546 -> 1 | F18: ='Eng24'!P546 -> 0 | G18: ='Eng24'!Q546 -> 1 | H18: =SUM(B18:G18) -> 543
A19: +/- from actual | B19: =B18-B7 -> -185 | C19: =C18-C7 -> 178 | D19: =D18-D7 -> 17 | E19: =E18-E7 -> 0 | F19: =F18-F7 -> 0 | G19: =G18-G7 -> 0 | H19: =H18-H7 -> 10
A20: +/- from notional | B20: =B18-B8 -> -195 | C20: =C18-C8 -> 177 | D20: =D18-D8 -> 18 | E20: =E18-E8 -> 0 | F20: =F18-F8 -> 0 | G20: =G18-G8 -> 0 | H20: =H18-H8 -> 0
B22: Calculating English figures
B23: Con | C23: Lab | D23: LD | E23: Grn | F23: Ref | G23: Oth | H23: Total
A24: GE19 without BXP | B24: 0.47982547 | C24: 0.34347127 | D24: 0.12483163 | E24: 0.030687108 | F24: 0.0060092248 | G24: =100%-F24-E24-D24-C24-B24 -> 0.015175296
A25: National +/- | B25: ='Projection - GB'!B9 -> -0.17605585 | C25: ='Projection - GB'!C9 -> 0.10746218 | D25: ='Projection - GB'!D9 -> -0.0088315988 | E25: ='Projection - GB'!F9 -> 0.02128944 | F25: ='Projection - GB'!G9 -> 0.043691527 | G25: ='Projection - GB'!I9 -> 0.021496749
A26: Parties gaining votes | B26: =-B27*H28 -> 0 | C26: =-C27*H28 -> 0.10777774 | D26: =-D27*H28 -> 0 | E26: =-E27*H28 -> 0.021351956 | F26: =-F27*H28 -> 0.043819827 | G26: =-G27*H28 -> 0.021559874 | H26: =G26+F26+E26+D26+C26+B26 -> 0.1945094
A27: Share of gain | B27: ='Projection - GB'!B11 -> 0 | C27: ='Projection - GB'!C11 -> 0.55410043 | D27: ='Projection - GB'!D11 -> 0 | E27: ='Projection - GB'!F11 -> 0.10977339 | F27: ='Projection - GB'!G11 -> 0.22528385 | G27: ='Projection - GB'!I11 -> 0.11084232
A28: Parties losing votes | B28: =B29*B24 -> -0.18523188 | C28: =C29*C24 -> 0 | D28: =D29*D24 -> -0.0092775228 | E28: =E29*E24 -> 0 | F28: =F29*F24 -> 0 | G28: =G29*G24 -> 0 | H28: =G28+F28+E28+D28+C28+B28 -> -0.1945094
A29: Ratio lost | B29: ='Projection - GB'!B13 -> -0.3860401 | C29: ='Projection - GB'!C13 -> 0 | D29: ='Projection - GB'!D13 -> -0.074320289 | E29: ='Projection - GB'!F13 -> 0 | F29: ='Projection - GB'!G13 -> 0 | G29: ='Projection - GB'!I13 -> 0
A30: Estimate 2024 | B30: =B24+B26+B28 -> 0.2945936 | C30: =C24+C26+C28 -> 0.45124901 | D30: =D24+D26+D28 -> 0.11555411 | E30: =E24+E26+E28 -> 0.052039064 | F30: =F24+F26+F28 -> 0.049829052 | G30: =G24+G26+G28 -> 0.03673517

Sheet Projection - Wales
B1: Headline figures - Wales
B2: Con | C2: Lab | D2: LD | E2: Grn | F2: Ref | G2: PC | H2: Oth | I2: Total
A3: GE19 actual result | B3: 0.361 | C3: 0.409 | D3: 0.06 | E3: 0.01 | F3: 0.054 | G3: 0.099 | H3: =100%-F3-E3-D3-C3-B3-G3 -> 0.007 | I3: =SUM(B3:H3) -> 1
A4: Before continuing, let's redistribute the Brexit Party vote to second preferences.
A5: GE19 without BXP | B5: 0.38415581 | C5: 0.42135346 | D5: 0.062380097 | E5: 0.011851895 | F5: 0.016371137 | G5: 0.10074434 | H5: =100%-F5-E5-D5-C5-B5-G5 -> 0.0031432584 | I5: =SUM(B5:H5) -> 1
A6: 2019 seats (actual) | B6: 14 | C6: 22 | D6: 0 | E6: 0 | F6: 0 | G6: 4 | H6: 0 | I6: =SUM(B6:H6) -> 40
A7: 2019 seats (notional) | B7: 11 | C7: 19 | D7: 0 | E7: 0 | F7: 0 | G7: 2 | H7: 0 | I7: =SUM(B7:H7) -> 32
A8: Estimate 2024 | B8: =B31 -> 0.22158563 | C8: =C31 -> 0.45560952 | D8: =D31 -> 0.077774399 | E8: =E31 -> 0.038864016 | F8: =F31 -> 0.086082507 | G8: =G31 -> 0.10907443 | H8: =100%-F8-E8-D8-C8-B8-G8 -> 0.0110095 | I8: =SUM(B8:H8) -> 1
A9: +/- from actual | B9: =B8-B3 -> -0.13941437 | C9: =C8-C3 -> 0.046609517 | D9: =D8-D3 -> 0.017774399 | E9: =E8-E3 -> 0.028864016 | F9: =F8-F3 -> 0.032082507 | G9: =G8-G3 -> 0.010074434 | H9: =H8-H3 -> 0.0040095002
A10: +/- from notional | B10: =B8-B5 -> -0.16257019 | C10: =C8-C5 -> 0.034256057 | D10: =D8-D5 -> 0.015394302 | E10: =E8-E5 -> 0.027012121 | F10: =F8-F5 -> 0.06971137 | G10: =G8-G5 -> 0.0083300931 | H10: =H8-H5 -> 0.0078662418
A11: Parties gaining votes | B11: =IF(B10>0%,B10,0%) -> 0 | C11: =IF(C10>0%,C10,0%) -> 0.034256057 | D11: =IF(D10>0%,D10,0%) -> 0.015394302 | E11: =IF(E10>0%,E10,0%) -> 0.027012121 | F11: =IF(F10>0%,F10,0%) -> 0.06971137 | G11: =IF(G10>0%,G10,0%) -> 0.0083300931 | H11: =IF(H10>0%,H10,0%) -> 0.0078662418 | I11: =SUM(B11:H11) -> 0.16257019
A12: Share of gain | B12: ='Projection - GB'!B11 -> 0 | C12: =-C11/I13 -> 0.21071549 | D12: =-D11/I13 -> 0.09469327 | E12: =-E11/I13 -> 0.16615667 | F12: =-F11/I13 -> 0.42880784 | G12: =-G11/I13 -> 0.05123998 | H12: =-H11/I13 -> 0.048386743
A13: Parties losing votes | B13: =IF(B10<0%,B10,0%) -> -0.16257019 | C13: =IF(C10<0%,C10,0%) -> 0 | D13: =IF(D10<0%,D10,0%) -> 0 | E13: =IF(E10<0%,E10,0%) -> 0 | F13: =IF(F10<0%,F10,0%) -> 0 | G13: =IF(G10<0%,G10,0%) -> 0 | H13: =IF(H10<0%,H10,0%) -> 0 | I13: =SUM(B13:H13) -> -0.16257019
A14: Ratio lost | B14: =IF(B10<0%,(B10/B5),0%) -> -0.42318814 | C14: =IF(C10<0%,(C10/C5),0%) -> 0 | D14: =IF(D10<0%,(D10/D5),0%) -> 0 | E14: =IF(E10<0%,(E10/E5),0%) -> 0 | F14: =IF(F10<0%,(F10/F5),0%) -> 0 | G14: =IF(G10<0%,(G10/G5),0%) -> 0 | H14: =IF(H10<0%,(H10/H5),0%) -> 0
A15: Ratio lost (weak) | B15: =IF((B13/20.3%<(-100%)),-100%,(B13/20.3%)) -> -0.80083835 | C15: =IF((C13/20.1%<(-100%)),-100%,(C13/20.1%)) -> 0 | D15: =IF((D13/5.9%<(-100%)),-100%,(D13/5.9%)) -> 0 | E15: =IF((E13/1.2%<(-100%)),-100%,(E13/1.2%)) -> 0 | F15: =IF((F13/0.3%<(-100%)),-100%,(F13/0.3%)) -> 0 | G15: =IF((G13/8%<(-100%)),-100%,(G13/8%)) -> 0 | H15: =IF((H13/1%<(-100%)),-100%,(H13/1%)) -> 0
A16: Ratio lost (strong) | B16: =(IF((B13/20.3%<(-100%)),((B13-(-20.3%)))/18.4%,0%)) -> 0 | C16: =(IF((C13/20.1%<(-100%)),((C13-(-20.1%)))/22.4%,0%)) -> 0 | D16: =(IF((D13/5.9%<(-100%)),((D13-(-5.9%)))/0.3%,0%)) -> 0 | E16: =(IF((E13/1.2%<(-100%)),((E13-(-1.2%)))/0%,0%)) -> 0 | F16: =(IF((F13/0.3%<(-100%)),((F13-(-0.3%)))/0%,0%)) -> 0 | G16: =(IF((G13/8%<(-100%)),((G13-(-8%)))/2.1%,0%)) -> 0 | H16: =(IF((H13/1%<(-100%)),((H13-(-1%)))/0%,0%)) -> 0
A17: Estimate 2024 | B17: =Wales24!M35 -> 3 | C17: =Wales24!N35 -> 26 | D17: =Wales24!O35 -> 0 | E17: =Wales24!P35 -> 0 | F17: =Wales24!Q35 -> 0 | G17: =Wales24!R35 -> 3 | H17: =Wales24!S35 -> 0 | I17: =SUM(B17:H17) -> 32
A18: +/- from actual | B18: =B17-B6 -> -11 | C18: =C17-C6 -> 4 | D18: =D17-D6 -> 0 | E18: =E17-E6 -> 0 | F18: =F17-F6 -> 0 | G18: =G17-G6 -> -1 | H18: =H17-H6 -> 0 | I18: =I17-I6 -> -8
A19: +/- from notional | B19: =B17-B7 -> -8 | C19: =C17-C7 -> 7 | D19: =D17-D7 -> 0 | E19: =E17-E7 -> 0 | F19: =F17-F7 -> 0 | G19: =G17-G7 -> 1 | H19: =H17-H7 -> 0 | I19: =I17-I7 -> 0
B21: Calculating Welsh figures
B22: Con | C22: Lab | D22: LD | E22: Grn | F22: Ref | G22: PC | H22: Oth | I22: Total
A23: GE19 without BXP | B23: =B5 -> 0.38415581 | C23: =C5 -> 0.42135346 | D23: =D5 -> 0.062380097 | E23: =E5 -> 0.011851895 | F23: =F5 -> 0.016371137 | G23: =G5 -> 0.10074434 | H23: =100%-G23-F23-E23-D23-C23-B23 -> 0.0031432584
A24: National +/- | B24: ='Projection - GB'!B9 -> -0.17605585 | C24: ='Projection - GB'!C9 -> 0.10746218 | D24: ='Projection - GB'!D9 -> -0.0088315988 | E24: ='Projection - GB'!F9 -> 0.02128944 | F24: ='Projection - GB'!G9 -> 0.043691527 | G24: ='Projection - GB'!H9 -> 0 | H24: ='Projection - GB'!I9 -> 0.021496749
A25: Parties gaining votes | B25: =-B26*I27 -> 0 | C25: =-C26*I27 -> 0.084741713 | D25: =-D26*I27 -> 0 | E25: =-E26*I27 -> 0.016788265 | F25: =-F26*I27 -> 0.034453934 | G25: =-G26*I27 -> 0 | H25: =-H26*I27 -> 0.016951744 | I25: =G25+F25+E25+D25+C25+B25+H25 -> 0.15293566
A26: Share of gain | B26: ='Projection - GB'!B11 -> 0 | C26: ='Projection - GB'!C11 -> 0.55410043 | D26: ='Projection - GB'!D11 -> 0 | E26: ='Projection - GB'!F11 -> 0.10977339 | F26: ='Projection - GB'!G11 -> 0.22528385 | G26: ='Projection - GB'!H11 -> 0 | H26: ='Projection - GB'!I11 -> 0.11084232
A27: Parties losing votes | B27: =B28*B23 -> -0.14829955 | C27: =C28*C23 -> 0 | D27: =D28*D23 -> -0.0046361068 | E27: =E28*E23 -> 0 | F27: =F28*F23 -> 0 | G27: =G28*G23 -> 0 | H27: =H28*H23 -> 0 | I27: =G27+F27+E27+D27+C27+B27+H27 -> -0.15293566
A28: Ratio lost | B28: ='Projection - GB'!B13 -> -0.3860401 | C28: ='Projection - GB'!C13 -> 0 | D28: ='Projection - GB'!D13 -> -0.074320289 | E28: ='Projection - GB'!F13 -> 0 | F28: ='Projection - GB'!G13 -> 0 | G28: ='Projection - GB'!H13 -> 0 | H28: ='Projection - GB'!I13 -> 0
A29: Transition Model (10%) | B29: =B23+B25+B27 -> 0.23585626 | C29: =C23+C25+C27 -> 0.50609517 | D29: =D23+D25+D27 -> 0.05774399 | E29: =E23+E25+E27 -> 0.02864016 | F29: =F23+F25+F27 -> 0.050825072 | G29: =G23+G25+G27 -> 0.10074434 | H29: =H23+H25+H27 -> 0.020095002
A30: Welsh polls (90%) | B30: ='WELSH POLLS'!C5 -> 0.22 | C30: ='WELSH POLLS'!C6 -> 0.45 | D30: ='WELSH POLLS'!C7 -> 0.08 | E30: ='WELSH POLLS'!C8 -> 0.04 | F30: ='WELSH POLLS'!C9 -> 0.09 | G30: ='WELSH POLLS'!C10 -> 0.11 | H30: ='WELSH POLLS'!C11 -> 0.01
A31: Overall estimate | B31: =(B29*10%)+(B30*90%) -> 0.22158563 | C31: =(C29*10%)+(C30*90%) -> 0.45560952 | D31: =(D29*10%)+(D30*90%) -> 0.077774399 | E31: =(E29*10%)+(E30*90%) -> 0.038864016 | F31: =(F29*10%)+(F30*90%) -> 0.086082507 | G31: =(G29*10%)+(G30*90%) -> 0.10907443 | H31: =(H29*10%)+(H30*90%) -> 0.0110095

Sheet Projection - Scotland
B1: Headline figures - Scotland
B2: Con | C2: Lab | D2: LD | E2: SNP | F2: Grn | G2: Ref | H2: Oth | I2: Total
A3: GE19 actual result | B3: 0.251 | C3: 0.186 | D3: 0.095 | E3: 0.45 | F3: 0.01 | G3: 0.005 | H3: =100%-G3-F3-E3-D3-C3-B3 -> 0.003 | I3: =SUM(B3:H3) -> 1
A4: Before continuing, let's redistribute the Brexit Party vote to second preferences.
A5: GE19 without BXP | B5: 0.25286927 | C5: 0.18680769 | D5: 0.095196534 | E5: 0.45017277 | F5: 0.010163901 | G5: 0.0015005759 | H5: =100%-G5-F5-E5-D5-C5-B5 -> 0.0032892623 | I5: =SUM(B5:H5) -> 1
A6: 2019 seats (actual) | B6: 6 | C6: 1 | D6: 4 | E6: 48 | F6: 0 | G6: 0 | H6: 0 | I6: =SUM(B6:H6) -> 59
A7: 2019 seats (notional) | B7: 6 | C7: 1 | D7: 2 | E7: 48 | F7: 0 | G7: 0 | H7: 0 | I7: =SUM(B7:H7) -> 57
A8: Estimate 2024 | B8: =B31 -> 0.17752516 | C8: =C31 -> 0.2912639 | D8: =D31 -> 0.08081215 | E8: =E31 -> 0.38558217 | F8: =F31 -> 0.022859477 | G8: =G31 -> 0.021311135 | H8: =100%-G8-F8-E8-D8-C8-B8 -> 0.020646017 | I8: =SUM(B8:H8) -> 1
A9: +/- from actual | B9: =B8-B3 -> -0.073474841 | C9: =C8-C3 -> 0.1052639 | D9: =D8-D3 -> -0.01418785 | E9: =E8-E3 -> -0.064417834 | F9: =F8-F3 -> 0.012859477 | G9: =G8-G3 -> 0.016311135 | H9: =H8-H3 -> 0.017646017
A10: +/- from notional | B10: =B8-B5 -> -0.075344109 | C10: =C8-C5 -> 0.1044562 | D10: =D8-D5 -> -0.014384384 | E10: =E8-E5 -> -0.064590601 | F10: =F8-F5 -> 0.012695577 | G10: =G8-G5 -> 0.019810559 | H10: =H8-H5 -> 0.017356754
A11: Parties gaining votes | B11: =IF(B10>0%,B10,0%) -> 0 | C11: =IF(C10>0%,C10,0%) -> 0.1044562 | D11: =IF(D10>0%,D10,0%) -> 0 | E11: =IF(E10>0%,E10,0%) -> 0 | F11: =IF(F10>0%,F10,0%) -> 0.012695577 | G11: =IF(G10>0%,G10,0%) -> 0.019810559 | H11: =IF(H10>0%,H10,0%) -> 0.017356754 | I11: =SUM(B11:H11) -> 0.15431909
A12: Share of gain | B12: =-B11/I13 -> 0 | C12: =-C11/I13 -> 0.67688451 | D12: =-D11/I13 -> 0 | E12: =-E11/I13 -> 0 | F12: =-F11/I13 -> 0.082268347 | G12: =-G11/I13 -> 0.128374 | H12: =-H11/I13 -> 0.11247315
A13: Parties losing votes | B13: =IF(B10<0%,B10,0%) -> -0.075344109 | C13: =IF(C10<0%,C10,0%) -> 0 | D13: =IF(D10<0%,D10,0%) -> -0.014384384 | E13: =IF(E10<0%,E10,0%) -> -0.064590601 | F13: =IF(F10<0%,F10,0%) -> 0 | G13: =IF(G10<0%,G10,0%) -> 0 | H13: =IF(H10<0%,H10,0%) -> 0 | I13: =SUM(B13:H13) -> -0.15431909
A14: Ratio lost | B14: =IF(B10<0%,(B10/B5),0%) -> -0.29795676 | C14: =IF(C10<0%,(C10/C5),0%) -> 0 | D14: =IF(D10<0%,(D10/D5),0%) -> -0.15110197 | E14: =IF(E10<0%,(E10/E5),0%) -> -0.14347958 | F14: =IF(F10<0%,(F10/F5),0%) -> 0 | G14: =IF(G10<0%,(G10/G5),0%) -> 0 | H14: =IF(H10<0%,(H10/H5),0%) -> 0
A15: Ratio lost (weak) | B15: =IF((B13/18.1%<(-100%)),-100%,(B13/18.1%)) -> -0.4162658 | C15: =IF((C13/14.4%<(-100%)),-100%,(C13/14.4%)) -> 0 | D15: =IF((D13/8.1%<(-100%)),-100%,(D13/8.1%)) -> -0.17758499 | E15: =IF((E13/20%<(-100%)),-100%,(E13/20%)) -> -0.322953 | F15: =IF((F13/1%<(-100%)),-100%,(F13/1%)) -> 0 | G15: =IF((G13/0.5%<(-100%)),-100%,(G13/0.5%)) -> 0 | H15: =IF((H13/0.3%<(-100%)),100%,(H13/0.3%)) -> 0
A16: Ratio lost (strong) | B16: =(IF((B13/18.1%<(-100%)),((B13-(-18.1%)))/7.2%,0%)) -> 0 | C16: =(IF((C13/14.4%<(-100%)),((C13-(-14.4%)))/4.2%,0%)) -> 0 | D16: =(IF((D13/8.1%<(-100%)),((D13-(-8.1%)))/1.4%,0%)) -> 0 | E16: =(IF((E13/20%<(-100%)),((E13-(-20%)))/25%,0%)) -> 0 | F16: =(IF((F13/1%<(-100%)),((F13-(-1%)))/0%,0%)) -> 0 | G16: =(IF((G13/1%<(-100%)),((G13-(-1%)))/0%,0%)) -> 0 | H16: =(IF((H13/1%<(-100%)),((H13-(-1%)))/0%,0%)) -> 0
A17: Estimate 2024 | B17: =Scot24!M60 -> 5 | C17: =Scot24!N60 -> 11 | D17: =Scot24!O60 -> 3 | E17: =Scot24!R60 -> 38 | F17: =Scot24!P60 -> 0 | G17: =Scot24!Q60 -> 0 | H17: =Scot24!T60 -> 0 | I17: =SUM(B17:H17) -> 57
A18: +/- from actual | B18: =B17-B6 -> -1 | C18: =C17-C6 -> 10 | D18: =D17-D6 -> -1 | E18: =E17-E6 -> -10 | F18: =F17-F6 -> 0 | G18: =G17-G6 -> 0 | H18: =H17-H6 -> 0 | I18: =I17-I6 -> -2
A19: +/- from notional | B19: =Scot24!M61 -> -1 | C19: =Scot24!N61 -> 10 | D19: =Scot24!O61 -> 1 | E19: =Scot24!R61 -> -10 | F19: =Scot24!P61 -> 0 | G19: =Scot24!Q61 -> 0 | H19: =Scot24!T61 -> 0 | I19: =Scot24!U61 -> 0
B21: Calculating Scottish figures
B22: Con | C22: Lab | D22: LD | E22: SNP | F22: Ref | G22: Grn | H22: Oth | I22: Total
A23: GE19 without BXP | B23: =B5 -> 0.25286927 | C23: =C5 -> 0.18680769 | D23: =D5 -> 0.095196534 | E23: =E5 -> 0.45017277 | F23: =G5 -> 0.0015005759 | G23: =F5 -> 0.010163901 | H23: =H5 -> 0.0032892623
A24: National +/- | B24: ='Projection - GB'!B9 -> -0.17605585 | C24: ='Projection - GB'!C9 -> 0.10746218 | D24: ='Projection - GB'!D9 -> -0.0088315988 | E24: ='Projection - GB'!E9 -> -0.00905245 | F24: ='Projection - GB'!F9 -> 0.02128944 | G24: ='Projection - GB'!G9 -> 0.043691527 | H24: ='Projection - GB'!I9 -> 0.021496749
A25: Parties gaining votes | B25: =-B26*I27 -> 0 | C25: =-C26*I27 -> 0.11583127 | D25: =-D26*I27 -> 0 | E25: =-E26*I27 -> 0 | F25: =-F26*I27 -> 0.047094198 | G25: =-G26*I27 -> 0.022947449 | H25: =-H26*I27 -> 0.023170903 | I25: =G25+F25+E25+D25+C25+B25+H25 -> 0.20904382
A26: Share of gain | B26: ='Projection - GB'!B11 -> 0 | C26: ='Projection - GB'!C11 -> 0.55410043 | D26: ='Projection - GB'!D11 -> 0 | E26: ='Projection - GB'!E11 -> 0 | F26: ='Projection - GB'!G11 -> 0.22528385 | G26: ='Projection - GB'!F11 -> 0.10977339 | H26: ='Projection - GB'!I11 -> 0.11084232
A27: Parties losing votes | B27: =B28*B23 -> -0.097617679 | C27: =C28*C23 -> 0 | D27: =D28*D23 -> -0.0070750339 | E27: =E28*E23 -> -0.10435111 | F27: =F28*F23 -> 0 | G27: =G28*G23 -> 0 | H27: =H28*H23 -> 0 | I27: =G27+F27+E27+D27+C27+B27+H27 -> -0.20904382
A28: Ratio lost | B28: ='Projection - GB'!B13 -> -0.3860401 | C28: ='Projection - GB'!C13 -> 0 | D28: ='Projection - GB'!D13 -> -0.074320289 | E28: ='Projection - GB'!E13 -> -0.23180236 | F28: ='Projection - GB'!G13 -> 0 | G28: ='Projection - GB'!F13 -> 0 | H28: ='Projection - GB'!I13 -> 0
A29: Transition Model (10%) | B29: =B23+B25+B27 -> 0.15525159 | C29: =C23+C25+C27 -> 0.30263896 | D29: =D23+D25+D27 -> 0.0881215 | E29: =E23+E25+E27 -> 0.34582166 | F29: =F23+F25+F27 -> 0.048594774 | G29: =G23+G25+G27 -> 0.03311135 | H29: =H23+H25+H27 -> 0.026460166
A30: Scotland polls (90%) | B30: =' SCOTTISH POLLS'!C5 -> 0.18 | C30: =' SCOTTISH POLLS'!C6 -> 0.29 | D30: =' SCOTTISH POLLS'!C7 -> 0.08 | E30: =' SCOTTISH POLLS'!C10 -> 0.39 | F30: =' SCOTTISH POLLS'!C8 -> 0.02 | G30: =' SCOTTISH POLLS'!C9 -> 0.02 | H30: =' SCOTTISH POLLS'!C11 -> 0.02
A31: Scottish estimate | B31: =(B29*10%)+(B30*90%) -> 0.17752516 | C31: =(C29*10%)+(C30*90%) -> 0.2912639 | D31: =(D29*10%)+(D30*90%) -> 0.08081215 | E31: =(E29*10%)+(E30*90%) -> 0.38558217 | F31: =(F29*10%)+(F30*90%) -> 0.022859477 | G31: =(G29*10%)+(G30*90%) -> 0.021311135 | H31: =(H29*10%)+(H30*90%) -> 0.020646017

Sheet Eng19
D1: Calculated by SEAT | Q1: Ratio lost | AD1: Votes lost | AS1: Votes GAINED
A2: Constituency | B2: Region | C2: Nation | D2: con_weak | E2: con_strong | F2: lab_weak | G2: lab_strong | H2: ld_weak | I2: ld_strong | J2: grn_weak | K2: grn_strong | L2: ref_weak | M2: ref_strong | N2: oth_weak | O2: oth_strong | P2: TOTAL | Q2: con_weak | R2: con_strong | S2: lab_weak | T2: lab_strong | U2: ld_weak | V2: ld_strong | W2: grn_weak | X2: grn_strong | Y2: ref_weak | Z2: ref_strong | AA2: oth_weak | AB2: oth_strong | AD2: con_weak | AE2: con_strong | AF2: lab_weak | AG2: lab_strong | AH2: ld_weak | AI2: ld_strong | AJ2: grn_weak | AK2: grn_strong | AL2: ref_weak | AM2: ref_strong | AN2: oth_weak | AO2: oth_strong | AP2: Total weak | AQ2: Total strong | AS2: con_weak | AT2: con_strong | AU2: lab_weak | AV2: lab_strong | AW2: ld_weak | AX2: ld_strong | AY2: grn_weak | AZ2: grn_strong | BA2: ref_weak | BB2: ref_strong | BC2: oth_weak | BD2: oth_strong
A3: Amber Valley | B3: East Midlands | C3: England | D3: 11859.794 | E3: 17236.206 | F3: 6538.4027 | G3: 5671.5973 | H3: 2873 | I3: 0 | J3: 1388 | K3: 0 | L3: 0 | M3: 0 | N3: 0 | O3: 0 | P3: =O3+N3+M3+L3+K3+J3+I3+H3+G3+F3+E3+D3 -> 45567 | Q3: ='Projection - England'!B16 -> -0.94506059 | R3: ='Projection - England'!B17 -> 0 | S3: ='Projection - England'!C16 -> 0 | T3: ='Projection - England'!C17 -> 0 | U3: ='Projection - England'!D16 -> -0.08835736 | V3: ='Projection - England'!D17 -> 0 | W3: ='Projection - England'!E16 -> 0 | X3: ='Projection - England'!E17 -> 0 | Y3: ='Projection - England'!F16 -> 0 | Z3: ='Projection - England'!F17 -> 0 | AA3: ='Projection - England'!G16 -> 0 | AB3: ='Projection - England'!G17 -> 0 | AD3: =Q3*D3 -> -11208.224 | AE3: =R3*E3 -> 0 | AF3: =S3*F3 -> 0 | AG3: =T3*G3 -> 0 | AH3: =U3*H3 -> -253.8507 | AI3: =V3*I3 -> 0 | AJ3: =W3*J3 -> 0 | AK3: =X3*K3 -> 0 | ... AO3: =AB3*O3 -> 0 | AP3: =-(AD3+AF3+AH3+AJ3+AL3+AN3) -> 11462.075 | AQ3: =-(AE3+AG3+AI3+AK3+AM3+AO3) -> 0 | AS3: ='Projection - England'!$B$13*'Eng19'!AP3 -> 0 | AT3: ='Projection - England'!$B$13*'Eng19'!AQ3 -> 0 | AU3: ='Projection - England'!$C$13*'Eng19'!AP3 -> 6351.1405 | AV3: ='Projection - England'!$C$13*'Eng19'!AQ3 -> 0 | AW3: ='Projection - England'!$D$13*'Eng19'!AP3 -> 0 | AX3: ='Projection - England'!$D$13*'Eng19'!AQ3 -> 0 | AY3: ='Projection - England'!$E$13*'Eng19'!AP3 -> 1258.2308 | AZ3: ='Projection - England'!$E$13*'Eng19'!AQ3 -> 0 | BA3: ='Projection - England'!$F$13*'Eng19'!AP3 -> 2582.2204 | BB3: ='Projection - England'!$F$13*'Eng19'!AQ3 -> 0 | BC3: ='Projection - England'!$G$13*'Eng19'!AP3 -> 1270.483 | BD3: ='Projection - England'!$G$13*'Eng19'!AQ3 -> 0
A4: Ashfield | B4: East Midlands | C4: England | D4: 7272.2135 | E4: 10568.933 | F4: 6185.5046 | G4: 5365.4833 | H4: 926.04197 | I4: 0 | J4: 573.59372 | K4: 0 | L4: 2162.7333 | M4: 0 | N4: 153.00291 | O4: 11698.701 | P4: =O4+N4+M4+L4+K4+J4+I4+H4+G4+F4+E4+D4 -> 44906.208 | Q4: =Q3 -> -0.94506059 | R4: =R3 -> 0 | S4: =S3 -> 0 | T4: =T3 -> 0 | U4: =U3 -> -0.08835736 | V4: =V3 -> 0 | W4: =W3 -> 0 | X4: =X3 -> 0 | ... AB4: =AB3 -> 0 | AD4: =Q4*D4 -> -6872.6824 | AE4: =R4*E4 -> 0 | AF4: =S4*F4 -> 0 | AG4: =T4*G4 -> 0 | AH4: =U4*H4 -> -81.822625 | AI4: =V4*I4 -> 0 | AJ4: =W4*J4 -> 0 | AK4: =X4*K4 -> 0 | ... AO4: =AB4*O4 -> 0 | AP4: =-(AD4+AF4+AH4+AJ4+AL4+AN4) -> 6954.505 | AQ4: =-(AE4+AG4+AI4+AK4+AM4+AO4) -> 0 | AS4: ='Projection - England'!$B$13*'Eng19'!AP4 -> 0 | AT4: ='Projection - England'!$B$13*'Eng19'!AQ4 -> 0 | AU4: ='Projection - England'!$C$13*'Eng19'!AP4 -> 3853.4942 | AV4: ='Projection - England'!$C$13*'Eng19'!AQ4 -> 0 | AW4: ='Projection - England'!$D$13*'Eng19'!AP4 -> 0 | AX4: ='Projection - England'!$D$13*'Eng19'!AQ4 -> 0 | AY4: ='Projection - England'!$E$13*'Eng19'!AP4 -> 763.41959 | AZ4: ='Projection - England'!$E$13*'Eng19'!AQ4 -> 0 | BA4: ='Projection - England'!$F$13*'Eng19'!AP4 -> 1566.7377 | BB4: ='Projection - England'!$F$13*'Eng19'!AQ4 -> 0 | BC4: ='Projection - England'!$G$13*'Eng19'!AP4 -> 770.8535 | BD4: ='Projection - England'!$G$13*'Eng19'!AQ4 -> 0
A5: Bassetlaw | B5: East Midlands | C5: England | D5: 11480.191 | E5: 16684.517 | F5: 7777.2399 | G5: 6746.2 | H5: 2784.8625 | I5: 0 | J5: 0 | K5: 0 | L5: 5271.5834 | M5: 0 | N5: 3.9199674 | O5: 299.72323 | P5: =O5+N5+M5+L5+K5+J5+I5+H5+G5+F5+E5+D5 -> 51048.236 | Q5: =Q4 -> -0.94506059 | R5: =R4 -> 0 | S5: =S4 -> 0 | T5: =T4 -> 0 | U5: =U4 -> -0.08835736 | V5: =V4 -> 0 | W5: =W4 -> 0 | X5: =X4 -> 0 | ... AB5: =AB4 -> 0 | AD5: =Q5*D5 -> -10849.476 | AE5: =R5*E5 -> 0 | AF5: =S5*F5 -> 0 | AG5: =T5*G5 -> 0 | AH5: =U5*H5 -> -246.0631 | AI5: =V5*I5 -> 0 | AJ5: =W5*J5 -> 0 | AK5: =X5*K5 -> 0 | ... AO5: =AB5*O5 -> 0 | AP5: =-(AD5+AF5+AH5+AJ5+AL5+AN5) -> 11095.539 | AQ5: =-(AE5+AG5+AI5+AK5+AM5+AO5) -> 0 | AS5: ='Projection - England'!$B$13*'Eng19'!AP5 -> 0 | AT5: ='Projection - England'!$B$13*'Eng19'!AQ5 -> 0 | AU5: ='Projection - England'!$C$13*'Eng19'!AP5 -> 6148.0428 | AV5: ='Projection - England'!$C$13*'Eng19'!AQ5 -> 0 | AW5: ='Projection - England'!$D$13*'Eng19'!AP5 -> 0 | AX5: ='Projection - England'!$D$13*'Eng19'!AQ5 -> 0 | AY5: ='Projection - England'!$E$13*'Eng19'!AP5 -> 1217.9949 | AZ5: ='Projection - England'!$E$13*'Eng19'!AQ5 -> 0 | BA5: ='Projection - England'!$F$13*'Eng19'!AP5 -> 2499.6457 | BB5: ='Projection - England'!$F$13*'Eng19'!AQ5 -> 0 | BC5: ='Projection - England'!$G$13*'Eng19'!AP5 -> 1229.8553 | BD5: ='Projection - England'!$G$13*'Eng19'!AQ5 -> 0
A6: Bolsover | B6: East Midlands | C6: England | D6: 9516.8154 | E6: 13831.083 | F6: 9150.9396 | G6: 7937.7863 | H6: 1769.6553 | I6: 0 | J6: 761.53658 | K6: 0 | L6: 4138.1823 | M6: 0 | N6: 15.792199 | O6: 1207.4817 | P6: =O6+N6+M6+L6+K6+J6+I6+H6+G6+F6+E6+D6 -> 48329.272 | Q6: =Q5 -> -0.94506059 | R6: =R5 -> 0 | S6: =S5 -> 0 | T6: =T5 -> 0 | U6: =U5 -> -0.08835736 | V6: =V5 -> 0 | W6: =W5 -> 0 | X6: =X5 -> 0 | ... AB6: =AB5 -> 0 | AD6: =Q6*D6 -> -8993.9672 | AE6: =R6*E6 -> 0 | AF6: =S6*F6 -> 0 | AG6: =T6*G6 -> 0 | AH6: =U6*H6 -> -156.36207 | AI6: =V6*I6 -> 0 | AJ6: =W6*J6 -> 0 | AK6: =X6*K6 -> 0 | ... AO6: =AB6*O6 -> 0 | AP6: =-(AD6+AF6+AH6+AJ6+AL6+AN6) -> 9150.3293 | AQ6: =-(AE6+AG6+AI6+AK6+AM6+AO6) -> 0 | AS6: ='Projection - England'!$B$13*'Eng19'!AP6 -> 0 | AT6: ='Projection - England'!$B$13*'Eng19'!AQ6 -> 0 | AU6: ='Projection - England'!$C$13*'Eng19'!AP6 -> 5070.2014 | AV6: ='Projection - England'!$C$13*'Eng19'!AQ6 -> 0 | AW6: ='Projection - England'!$D$13*'Eng19'!AP6 -> 0 | AX6: ='Projection - England'!$D$13*'Eng19'!AQ6 -> 0 | AY6: ='Projection - England'!$E$13*'Eng19'!AP6 -> 1004.4627 | AZ6: ='Projection - England'!$E$13*'Eng19'!AQ6 -> 0 | BA6: ='Projection - England'!$F$13*'Eng19'!AP6 -> 2061.4215 | BB6: ='Projection - England'!$F$13*'Eng19'!AQ6 -> 0 | BC6: ='Projection - England'!$G$13*'Eng19'!AP6 -> 1014.2438 | BD6: ='Projection - England'!$G$13*'Eng19'!AQ6 -> 0
A7: Boston and Skegness | B7: East Midlands | C7: England | D7: 14133.403 | E7: 20540.512 | F7: 3646.5601 | G7: 3163.1304 | H7: 2065.4527 | I7: 0 | J7: 0 | K7: 0 | L7: 0 | M7: 0 | N7: 20.382619 | O7: 1558.4682 | P7: =O7+N7+M7+L7+K7+J7+I7+H7+G7+F7+E7+D7 -> 45127.909 | Q7: =Q6 -> -0.94506059 | R7: =R6 -> 0 | S7: =S6 -> 0 | T7: =T6 -> 0 | U7: =U6 -> -0.08835736 | V7: =V6 -> 0 | W7: =W6 -> 0 | X7: =X6 -> 0 | ... AB7: =AB6 -> 0 | AD7: =Q7*D7 -> -13356.922 | AE7: =R7*E7 -> 0 | AF7: =S7*F7 -> 0 | AG7: =T7*G7 -> 0 | AH7: =U7*H7 -> -182.49795 | AI7: =V7*I7 -> 0 | AJ7: =W7*J7 -> 0 | AK7: =X7*K7 -> 0 | ... AO7: =AB7*O7 -> 0 | AP7: =-(AD7+AF7+AH7+AJ7+AL7+AN7) -> 13539.42 | AQ7: =-(AE7+AG7+AI7+AK7+AM7+AO7) -> 0 | AS7: ='Projection - England'!$B$13*'Eng19'!AP7 -> 0 | AT7: ='Projection - England'!$B$13*'Eng19'!AQ7 -> 0 | AU7: ='Projection - England'!$C$13*'Eng19'!AP7 -> 7502.1984 | AV7: ='Projection - England'!$C$13*'Eng19'!AQ7 -> 0 | AW7: ='Projection - England'!$D$13*'Eng19'!AP7 -> 0 | AX7: ='Projection - England'!$D$13*'Eng19'!AQ7 -> 0 | AY7: ='Projection - England'!$E$13*'Eng19'!AP7 -> 1486.268 | AZ7: ='Projection - England'!$E$13*'Eng19'!AQ7 -> 0 | BA7: ='Projection - England'!$F$13*'Eng19'!AP7 -> 3050.2127 | BB7: ='Projection - England'!$F$13*'Eng19'!AQ7 -> 0 | BC7: ='Projection - England'!$G$13*'Eng19'!AP7 -> 1500.7408 | BD7: ='Projection - England'!$G$13*'Eng19'!AQ7 -> 0
A8: Broxtowe | B8: East Midlands | C8: England | D8: 9692.4479 | E8: 14086.335 | F8: 10395.463 | G8: 9017.3217 | H8: 212.64195 | I8: 0 | J8: 1511.0218 | K8: 0 | L8: 338.26674 | M8: 0 | N8: 77.725801 | O8: 5942.9649 | P8: =O8+N8+M8+L8+K8+J8+I8+H8+G8+F8+E8+D8 -> 51274.189 | Q8: =Q7 -> -0.94506059 | R8: =R7 -> 0 | S8: =S7 -> 0 | T8: =T7 -> 0 | U8: =U7 -> -0.08835736 | V8: =V7 -> 0 | W8: =W7 -> 0 | X8: =X7 -> 0 | ... AB8: =AB7 -> 0 | AD8: =Q8*D8 -> -9159.9505 | AE8: =R8*E8 -> 0 | AF8: =S8*F8 -> 0 | AG8: =T8*G8 -> 0 | AH8: =U8*H8 -> -18.788481 | AI8: =V8*I8 -> 0 | AJ8: =W8*J8 -> 0 | AK8: =X8*K8 -> 0 | ... AO8: =AB8*O8 -> 0 | AP8: =-(AD8+AF8+AH8+AJ8+AL8+AN8) -> 9178.739 | AQ8: =-(AE8+AG8+AI8+AK8+AM8+AO8) -> 0 | AS8: ='Projection - England'!$B$13*'Eng19'!AP8 -> 0 | AT8: ='Projection - England'!$B$13*'Eng19'!AQ8 -> 0 | AU8: ='Projection - England'!$C$13*'Eng19'!AP8 -> 5085.9432 | AV8: ='Projection - England'!$C$13*'Eng19'!AQ8 -> 0 | AW8: ='Projection - England'!$D$13*'Eng19'!AP8 -> 0 | AX8: ='Projection - England'!$D$13*'Eng19'!AQ8 -> 0 | AY8: ='Projection - England'!$E$13*'Eng19'!AP8 -> 1007.5813 | AZ8: ='Projection - England'!$E$13*'Eng19'!AQ8 -> 0 | BA8: ='Projection - England'!$F$13*'Eng19'!AP8 -> 2067.8217 | BB8: ='Projection - England'!$F$13*'Eng19'!AQ8 -> 0 | BC8: ='Projection - England'!$G$13*'Eng19'!AP8 -> 1017.3928 | BD8: ='Projection - England'!$G$13*'Eng19'!AQ8 -> 0
A9: Chesterfield | B9: East Midlands | C9: England | D9: 7504.5131 | E9: 10906.541 | F9: 10106.567 | G9: 8766.7246 | H9: 3985 | I9: 0 | J9: 1148 | K9: 0 | L9: 4771 | M9: 0 | N9: 8.5954564 | O9: 657.21414 | P9: =O9+N9+M9+L9+K9+J9+I9+H9+G9+F9+E9+D9 -> 47854.155 | Q9: =Q8 -> -0.94506059 | R9: =R8 -> 0 | S9: =S8 -> 0 | T9: =T8 -> 0 | U9: =U8 -> -0.08835736 | V9: =V8 -> 0 | W9: =W8 -> 0 | X9: =X8 -> 0 | ... AB9: =AB8 -> 0 | AD9: =Q9*D9 -> -7092.2196 | AE9: =R9*E9 -> 0 | AF9: =S9*F9 -> 0 | AG9: =T9*G9 -> 0 | AH9: =U9*H9 -> -352.10408 | AI9: =V9*I9 -> 0 | AJ9: =W9*J9 -> 0 | AK9: =X9*K9 -> 0 | ... AO9: =AB9*O9 -> 0 | AP9: =-(AD9+AF9+AH9+AJ9+AL9+AN9) -> 7444.3237 | AQ9: =-(AE9+AG9+AI9+AK9+AM9+AO9) -> 0 | AS9: ='Projection - England'!$B$13*'Eng19'!AP9 -> 0 | AT9: ='Projection - England'!$B$13*'Eng19'!AQ9 -> 0 | AU9: ='Projection - England'!$C$13*'Eng19'!AP9 -> 4124.9029 | AV9: ='Projection - England'!$C$13*'Eng19'!AQ9 -> 0 | AW9: ='Projection - England'!$D$13*'Eng19'!AP9 -> 0 | AX9: ='Projection - England'!$D$13*'Eng19'!AQ9 -> 0 | AY9: ='Projection - England'!$E$13*'Eng19'!AP9 -> 817.18865 | AZ9: ='Projection - England'!$E$13*'Eng19'!AQ9 -> 0 | BA9: ='Projection - England'!$F$13*'Eng19'!AP9 -> 1677.0859 | BB9: ='Projection - England'!$F$13*'Eng19'!AQ9 -> 0 | BC9: ='Projection - England'!$G$13*'Eng19'!AP9 -> 825.14614 | BD9: ='Projection - England'!$G$13*'Eng19'!AQ9 -> 0
A10: Corby and East Northamptonshire | B10: East Midlands | C10: England | D10: 12036.799 | E10: 17493.453 | F10: 11171.077 | G10: 9690.1116 | H10: 3462.4955 | I10: 0 | J10: 0 | K10: 0 | L10: 0 | M10: 0 | N10: 0 | O10: 0 | P10: =O10+N10+M10+L10+K10+J10+I10+H10+G10+F10+E10+D10 -> 53853.937 | Q10: =Q9 -> -0.94506059 | R10: =R9 -> 0 | S10: =S9 -> 0 | T10: =T9 -> 0 | U10: =U9 -> -0.08835736 | V10: =V9 -> 0 | W10: =W9 -> 0 | X10: =X9 -> 0 | ... AB10: =AB9 -> 0 | AD10: =Q10*D10 -> -11375.505 | AE10: =R10*E10 -> 0 | AF10: =S10*F10 -> 0 | AG10: =T10*G10 -> 0 | AH10: =U10*H10 -> -305.93696 | AI10: =V10*I10 -> 0 | AJ10: =W10*J10 -> 0 | AK10: =X10*K10 -> 0 | ... AO10: =AB10*O10 -> 0 | AP10: =-(AD10+AF10+AH10+AJ10+AL10+AN10) -> 11681.442 | AQ10: =-(AE10+AG10+AI10+AK10+AM10+AO10) -> 0 | AS10: ='Projection - England'!$B$13*'Eng19'!AP10 -> 0 | AT10: ='Projection - England'!$B$13*'Eng19'!AQ10 -> 0 | AU10: ='Projection - England'!$C$13*'Eng19'!AP10 -> 6472.6919 | AV10: ='Projection - England'!$C$13*'Eng19'!AQ10 -> 0 | AW10: ='Projection - England'!$D$13*'Eng19'!AP10 -> 0 | AX10: ='Projection - England'!$D$13*'Eng19'!AQ10 -> 0 | AY10: ='Projection - England'!$E$13*'Eng19'!AP10 -> 1282.3115 | AZ10: ='Projection - England'!$E$13*'Eng19'!AQ10 -> 0 | BA10: ='Projection - England'!$F$13*'Eng19'!AP10 -> 2631.6402 | BB10: ='Projection - England'!$F$13*'Eng19'!AQ10 -> 0 | BC10: ='Projection - England'!$G$13*'Eng19'!AP10 -> 1294.7982 | BD10: ='Projection - England'!$G$13*'Eng19'!AQ10 -> 0
A11: Daventry | B11: East Midlands | C11: England | D11: 14801.69 | E11: 21511.755 | F11: 5576.2823 | G11: 4837.0265 | H11: 7082.8642 | I11: 0 | J11: 2297.129 | K11: 0 | L11: 0 | M11: 0 | N11: 0.15969507 | O11: 12.210388 | P11: =O11+N11+M11+L11+K11+J11+I11+H11+G11+F11+E11+D11 -> 56119.118 | Q11: =Q10 -> -0.94506059 | R11: =R10 -> 0 | S11: =S10 -> 0 | T11: =T10 -> 0 | U11: =U10 -> -0.08835736 | V11: =V10 -> 0 | W11: =W10 -> 0 | X11: =X10 -> 0 | ... AB11: =AB10 -> 0 | AD11: =Q11*D11 -> -13988.494 | AE11: =R11*E11 -> 0 | AF11: =S11*F11 -> 0 | AG11: =T11*G11 -> 0 | AH11: =U11*H11 -> -625.82318 | AI11: =V11*I11 -> 0 | AJ11: =W11*J11 -> 0 | AK11: =X11*K11 -> 0 | ... AO11: =AB11*O11 -> 0 | AP11: =-(AD11+AF11+AH11+AJ11+AL11+AN11) -> 14614.317 | AQ11: =-(AE11+AG11+AI11+AK11+AM11+AO11) -> 0 | AS11: ='Projection - England'!$B$13*'Eng19'!AP11 -> 0 | AT11: ='Projection - England'!$B$13*'Eng19'!AQ11 -> 0 | AU11: ='Projection - England'!$C$13*'Eng19'!AP11 -> 8097.7996 | AV11: ='Projection - England'!$C$13*'Eng19'!AQ11 -> 0 | AW11: ='Projection - England'!$D$13*'Eng19'!AP11 -> 0 | AX11: ='Projection - England'!$D$13*'Eng19'!AQ11 -> 0 | AY11: ='Projection - England'!$E$13*'Eng19'!AP11 -> 1604.2632 | AZ11: ='Projection - England'!$E$13*'Eng19'!AQ11 -> 0 | BA11: ='Projection - England'!$F$13*'Eng19'!AP11 -> 3292.3698 | BB11: ='Projection - England'!$F$13*'Eng19'!AQ11 -> 0 | BC11: ='Projection - England'!$G$13*'Eng19'!AP11 -> 1619.8849 | BD11: ='Projection - England'!$G$13*'Eng19'!AQ11 -> 0
A12: Derby North | B12: East Midlands | C12: England | D12: 8941.0194 | E12: 12994.261 | F12: 10174.342 | G12: 8825.5152 | H12: 3450 | I12: 0 | J12: 1046 | K12: 0 | L12: 1908 | M12: 0 | N12: 9.6165065 | O12: 735.28429 | P12: =O12+N12+M12+L12+K12+J12+I12+H12+G12+F12+E12+D12 -> 48084.038 | Q12: =Q11 -> -0.94506059 | R12: =R11 -> 0 | S12: =S11 -> 0 | T12: =T11 -> 0 | U12: =U11 -> -0.08835736 | V12: =V11 -> 0 | W12: =W11 -> 0 | X12: =X11 -> 0 | ... AB12: =AB11 -> 0 | AD12: =Q12*D12 -> -8449.8051 | AE12: =R12*E12 -> 0 | AF12: =S12*F12 -> 0 | AG12: =T12*G12 -> 0 | AH12: =U12*H12 -> -304.83289 | AI12: =V12*I12 -> 0 | AJ12: =W12*J12 -> 0 | AK12: =X12*K12 -> 0 | ... AO12: =AB12*O12 -> 0 | AP12: =-(AD12+AF12+AH12+AJ12+AL12+AN12) -> 8754.638 | AQ12: =-(AE12+AG12+AI12+AK12+AM12+AO12) -> 0 | AS12: ='Projection - England'!$B$13*'Eng19'!AP12 -> 0 | AT12: ='Projection - England'!$B$13*'Eng19'!AQ12 -> 0 | AU12: ='Projection - England'!$C$13*'Eng19'!AP12 -> 4850.9487 | AV12: ='Projection - England'!$C$13*'Eng19'!AQ12 -> 0 | AW12: ='Projection - England'!$D$13*'Eng19'!AP12 -> 0 | AX12: ='Projection - England'!$D$13*'Eng19'!AQ12 -> 0 | AY12: ='Projection - England'!$E$13*'Eng19'!AP12 -> 961.0263 | AZ12: ='Projection - England'!$E$13*'Eng19'!AQ12 -> 0 | BA12: ='Projection - England'!$F$13*'Eng19'!AP12 -> 1972.2786 | BB12: ='Projection - England'!$F$13*'Eng19'!AQ12 -> 0 | BC12: ='Projection - England'!$G$13*'Eng19'!AP12 -> 970.38443 | BD12: ='Projection - England'!$G$13*'Eng19'!AQ12 -> 0
A13: Derby South | B13: East Midlands | C13: England | D13: 6745.9394 | E13: 9804.0828 | F13: 11810.388 | G13: 10244.668 | H13: 2621 | I13: 0 | J13: 0 | K13: 0 | L13: 2480 | M13: 0 | N13: 1.8441365 | O13: 141.00386 | P13: =O13+N13+M13+L13+K13+J13+I13+H13+G13+F13+E13+D13 -> 43848.926 | Q13: =Q12 -> -0.94506059 | R13: =R12 -> 0 | S13: =S12 -> 0 | T13: =T12 -> 0 | U13: =U12 -> -0.08835736 | V13: =V12 -> 0 | W13: =W12 -> 0 | X13: =X12 -> 0 | ... AB13: =AB12 -> 0 | AD13: =Q13*D13 -> -6375.3215 | AE13: =R13*E13 -> 0 | AF13: =S13*F13 -> 0 | AG13: =T13*G13 -> 0 | AH13: =U13*H13 -> -231.58464 | AI13: =V13*I13 -> 0 | AJ13: =W13*J13 -> 0 | AK13: =X13*K13 -> 0 | ... AO13: =AB13*O13 -> 0 | AP13: =-(AD13+AF13+AH13+AJ13+AL13+AN13) -> 6606.9062 | AQ13: =-(AE13+AG13+AI13+AK13+AM13+AO13) -> 0 | AS13: ='Projection - England'!$B$13*'Eng19'!AP13 -> 0 | AT13: ='Projection - England'!$B$13*'Eng19'!AQ13 -> 0 | AU13: ='Projection - England'!$C$13*'Eng19'!AP13 -> 3660.8896 | AV13: ='Projection - England'!$C$13*'Eng19'!AQ13 -> 0 | AW13: ='Projection - England'!$D$13*'Eng19'!AP13 -> 0 | AX13: ='Projection - England'!$D$13*'Eng19'!AQ13 -> 0 | AY13: ='Projection - England'!$E$13*'Eng19'!AP13 -> 725.26249 | AZ13: ='Projection - England'!$E$13*'Eng19'!AQ13 -> 0 | BA13: ='Projection - England'!$F$13*'Eng19'!AP13 -> 1488.4293 | BB13: ='Projection - England'!$F$13*'Eng19'!AQ13 -> 0 | BC13: ='Projection - England'!$G$13*'Eng19'!AP13 -> 732.32484 | BD13: ='Projection - England'!$G$13*'Eng19'!AQ13 -> 0
A14: Derbyshire Dales | B14: East Midlands | C14: England | D14: 13231.923 | E14: 19230.364 | F14: 7362.0347 | G14: 6386.0392 | H14: 6938.4913 | I14: 0 | J14: 2331.9565 | K14: 0 | L14: 0 | M14: 0 | N14: 0 | O14: 0 | P14: =O14+N14+M14+L14+K14+J14+I14+H14+G14+F14+E14+D14 -> 55480.809 | Q14: =Q13 -> -0.94506059 | R14: =R13 -> 0 | S14: =S13 -> 0 | T14: =T13 -> 0 | U14: =U13 -> -0.08835736 | V14: =V13 -> 0 | W14: =W13 -> 0 | X14: =X13 -> 0 | ... AB14: =AB13 -> 0 | AD14: =Q14*D14 -> -12504.969 | AE14: =R14*E14 -> 0 | AF14: =S14*F14 -> 0 | AG14: =T14*G14 -> 0 | AH14: =U14*H14 -> -613.06678 | AI14: =V14*I14 -> 0 | AJ14: =W14*J14 -> 0 | AK14: =X14*K14 -> 0 | ... AO14: =AB14*O14 -> 0 | AP14: =-(AD14+AF14+AH14+AJ14+AL14+AN14) -> 13118.036 | AQ14: =-(AE14+AG14+AI14+AK14+AM14+AO14) -> 0 | AS14: ='Projection - England'!$B$13*'Eng19'!AP14 -> 0 | AT14: ='Projection - England'!$B$13*'Eng19'!AQ14 -> 0 | AU14: ='Projection - England'!$C$13*'Eng19'!AP14 -> 7268.7093 | AV14: ='Projection - England'!$C$13*'Eng19'!AQ14 -> 0 | AW14: ='Projection - England'!$D$13*'Eng19'!AP14 -> 0 | AX14: ='Projection - England'!$D$13*'Eng19'!AQ14 -> 0 | AY14: ='Projection - England'!$E$13*'Eng19'!AP14 -> 1440.0113 | AZ14: ='Projection - England'!$E$13*'Eng19'!AQ14 -> 0 | BA14: ='Projection - England'!$F$13*'Eng19'!AP14 -> 2955.2817 | BB14: ='Projection - England'!$F$13*'Eng19'!AQ14 -> 0 | BC14: ='Projection - England'!$G$13*'Eng19'!AP14 -> 1454.0336 | BD14: ='Projection - England'!$G$13*'Eng19'!AQ14 -> 0
A15: Erewash | B15: East Midlands | C15: England | D15: 11233.706 | E15: 16326.294 | F15: 9078.7944 | G15: 7875.2056 | H15: 2487 | I15: 0 | J15: 1115 | K15: 0 | L15: 0 | M15: 0 | N15: 9.0110274 | O15: 688.98897 | P15: =O15+N15+M15+L15+K15+J15+I15+H15+G15+F15+E15+D15 -> 48814 | Q15: =Q14 -> -0.94506059 | R15: =R14 -> 0 | S15: =S14 -> 0 | T15: =T14 -> 0 | U15: =U14 -> -0.08835736 | V15: =V14 -> 0 | W15: =W14 -> 0 | X15: =X14 -> 0 | ... AB15: =AB14 -> 0 | AD15: =Q15*D15 -> -10616.533 | AE15: =R15*E15 -> 0 | AF15: =S15*F15 -> 0 | AG15: =T15*G15 -> 0 | AH15: =U15*H15 -> -219.74476 | AI15: =V15*I15 -> 0 | AJ15: =W15*J15 -> 0 | AK15: =X15*K15 -> 0 | ... AO15: =AB15*O15 -> 0 | AP15: =-(AD15+AF15+AH15+AJ15+AL15+AN15) -> 10836.278 | AQ15: =-(AE15+AG15+AI15+AK15+AM15+AO15) -> 0 | AS15: ='Projection - England'!$B$13*'Eng19'!AP15 -> 0 | AT15: ='Projection - England'!$B$13*'Eng19'!AQ15 -> 0 | AU15: ='Projection - England'!$C$13*'Eng19'!AP15 -> 6004.3863 | AV15: ='Projection - England'!$C$13*'Eng19'!AQ15 -> 0 | AW15: ='Projection - England'!$D$13*'Eng19'!AP15 -> 0 | AX15: ='Projection - England'!$D$13*'Eng19'!AQ15 -> 0 | AY15: ='Projection - England'!$E$13*'Eng19'!AP15 -> 1189.535 | AZ15: ='Projection - England'!$E$13*'Eng19'!AQ15 -> 0 | BA15: ='Projection - England'!$F$13*'Eng19'!AP15 -> 2441.2385 | BB15: ='Projection - England'!$F$13*'Eng19'!AQ15 -> 0 | BC15: ='Projection - England'!$G$13*'Eng19'!AP15 -> 1201.1182 | BD15: ='Projection - England'!$G$13*'Eng19'!AQ15 -> 0
... A185: Wimbledon and Coombe | B185: London | C185: England | D185: 9758.1284 | E185: 14181.79 | F185: 6649.378 | G185: 5767.8604 | H185: 11782.638 | I185: 10369.989 | J185: 0 | K185: 0 | L185: 0 | M185: 0 | N185: 5.2078481 | O185: 398.19543 | P185: =O185+N185+M185+L185+K185+J185+I185+H185+G185+F185+E185+D185 -> 58913.188 | Q185: =Q184 -> -0.94506059 | R185: =R184 -> 0 | S185: =S184 -> 0 | T185: =T184 -> 0 | U185: =U184 -> -0.08835736 | V185: =V184 -> 0 | W185: =W184 -> 0 | X185: =X184 -> 0 | ... AB185: =AB184 -> 0 | AD185: =Q185*D185 -> -9222.0227 | AE185: =R185*E185 -> 0 | AF185: =S185*F185 -> 0 | AG185: =T185*G185 -> 0 | AH185: =U185*H185 -> -1041.0827 | AI185: =V185*I185 -> 0 | AJ185: =W185*J185 -> 0 | AK185: =X185*K185 -> 0 | ... AO185: =AB185*O185 -> 0 | AP185: =-(AD185+AF185+AH185+AJ185+AL185+AN185) -> 10263.105 | AQ185: =-(AE185+AG185+AI185+AK185+AM185+AO185) -> 0 | AS185: ='Projection - England'!$B$13*'Eng19'!AP185 -> 0 | AT185: ='Projection - England'!$B$13*'Eng19'!AQ185 -> 0 | AU185: ='Projection - England'!$C$13*'Eng19'!AP185 -> 5686.7911 | AV185: ='Projection - England'!$C$13*'Eng19'!AQ185 -> 0 | AW185: ='Projection - England'!$D$13*'Eng19'!AP185 -> 0 | AX185: ='Projection - England'!$D$13*'Eng19'!AQ185 -> 0 | AY185: ='Projection - England'!$E$13*'Eng19'!AP185 -> 1126.6159 | AZ185: ='Projection - England'!$E$13*'Eng19'!AQ185 -> 0 | BA185: ='Projection - England'!$F$13*'Eng19'!AP185 -> 2312.1119 | BB185: ='Projection - England'!$F$13*'Eng19'!AQ185 -> 0 | BC185: ='Projection - England'!$G$13*'Eng19'!AP185 -> 1137.5865 | BD185: ='Projection - England'!$G$13*'Eng19'!AQ185 -> 0
A186: Berwick and Morpeth | B186: North East | C186: England | D186: 11042.244 | E186: 16048.035 | F186: 6180.8002 | G186: 5361.4027 | H186: 7955.5348 | I186: 0 | J186: 1651.6662 | K186: 0 | L186: 361.17016 | M186: 0 | N186: 0.72645511 | O186: 55.545227 | P186: =O186+N186+M186+L186+K186+J186+I186+H186+G186+F186+E186+D186 -> 48657.125 | Q186: =Q110 -> -0.94506059 | R186: =R110 -> 0 | S186: =S110 -> 0 | T186: =T110 -> 0 | U186: =U110 -> -0.08835736 | V186: =V110 -> 0 | W186: =W110 -> 0 | X186: =X110 -> 0 | ... AB186: =AB110 -> 0 | AD186: =Q186*D186 -> -10435.59 | AE186: =R186*E186 -> 0 | AF186: =S186*F186 -> 0 | AG186: =T186*G186 -> 0 | AH186: =U186*H186 -> -702.93005 | AI186: =V186*I186 -> 0 | AJ186: =W186*J186 -> 0 | AK186: =X186*K186 -> 0 | ... AO186: =AB186*O186 -> 0 | AP186: =-(AD186+AF186+AH186+AJ186+AL186+AN186) -> 11138.52 | AQ186: =-(AE186+AG186+AI186+AK186+AM186+AO186) -> 0 | AS186: ='Projection - England'!$B$13*'Eng19'!AP186 -> 0 | AT186: ='Projection - England'!$B$13*'Eng19'!AQ186 -> 0 | AU186: ='Projection - England'!$C$13*'Eng19'!AP186 -> 6171.8586 | AV186: ='Projection - England'!$C$13*'Eng19'!AQ186 -> 0 | AW186: ='Projection - England'!$D$13*'Eng19'!AP186 -> 0 | AX186: ='Projection - England'!$D$13*'Eng19'!AQ186 -> 0 | AY186: ='Projection - England'!$E$13*'Eng19'!AP186 -> 1222.7131 | AZ186: ='Projection - England'!$E$13*'Eng19'!AQ186 -> 0 | BA186: ='Projection - England'!$F$13*'Eng19'!AP186 -> 2509.3287 | BB186: ='Projection - England'!$F$13*'Eng19'!AQ186 -> 0 | BC186: ='Projection - England'!$G$13*'Eng19'!AP186 -> 1234.6194 | BD186: ='Projection - England'!$G$13*'Eng19'!AQ186 -> 0
A187: Bishop Auckland | B187: North East | C187: England | D187: 10810.62 | E187: 15711.409 | F187: 8782.4261 | G187: 7618.1272 | H187: 2432.1301 | I187: 0 | J187: 307.22194 | K187: 0 | L187: 2835.5418 | M187: 0 | N187: 7.6835468 | O187: 587.48895 | P187: =O187+N187+M187+L187+K187+J187+I187+H187+G187+F187+E187+D187 -> 49092.649 | Q187: =Q186 -> -0.94506059 | R187: =R186 -> 0 | S187: =S186 -> 0 | T187: =T186 -> 0 | U187: =U186 -> -0.08835736 | V187: =V186 -> 0 | W187: =W186 -> 0 | X187: =X186 -> 0 | ... AB187: =AB186 -> 0 | AD187: =Q187*D187 -> -10216.691 | AE187: =R187*E187 -> 0 | AF187: =S187*F187 -> 0 | AG187: =T187*G187 -> 0 | AH187: =U187*H187 -> -214.89659 | AI187: =V187*I187 -> 0 | AJ187: =W187*J187 -> 0 | AK187: =X187*K187 -> 0 | ... AO187: =AB187*O187 -> 0 | AP187: =-(AD187+AF187+AH187+AJ187+AL187+AN187) -> 10431.588 | AQ187: =-(AE187+AG187+AI187+AK187+AM187+AO187) -> 0 | AS187: ='Projection - England'!$B$13*'Eng19'!AP187 -> 0 | AT187: ='Projection - England'!$B$13*'Eng19'!AQ187 -> 0 | AU187: ='Projection - England'!$C$13*'Eng19'!AP187 -> 5780.1472 | AV187: ='Projection - England'!$C$13*'Eng19'!AQ187 -> 0 | AW187: ='Projection - England'!$D$13*'Eng19'!AP187 -> 0 | AX187: ='Projection - England'!$D$13*'Eng19'!AQ187 -> 0 | AY187: ='Projection - England'!$E$13*'Eng19'!AP187 -> 1145.1107 | AZ187: ='Projection - England'!$E$13*'Eng19'!AQ187 -> 0 | BA187: ='Projection - England'!$F$13*'Eng19'!AP187 -> 2350.0683 | BB187: ='Projection - England'!$F$13*'Eng19'!AQ187 -> 0 | BC187: ='Projection - England'!$G$13*'Eng19'!AP187 -> 1156.2614 | BD187: ='Projection - England'!$G$13*'Eng19'!AQ187 -> 0
A188: Blaydon and Consett | B188: North East | C188: England | D188: 6896.5514 | E188: 10022.972 | F188: 12091.225 | G188: 10488.274 | H188: 3083.6963 | I188: 0 | J188: 1230.8254 | K188: 0 | L188: 4518.7917 | M188: 0 | N188: 18.748346 | O188: 1433.5107 | P188: =O188+N188+M188+L188+K188+J188+I188+H188+G188+F188+E188+D188 -> 49784.594 | Q188: =Q187 -> -0.94506059 | R188: =R187 -> 0 | S188: =S187 -> 0 | T188: =T187 -> 0 | U188: =U187 -> -0.08835736 | V188: =V187 -> 0 | W188: =W187 -> 0 | X188: =X187 -> 0 | ... AB188: =AB187 -> 0 | AD188: =Q188*D188 -> -6517.659 | AE188: =R188*E188 -> 0 | AF188: =S188*F188 -> 0 | AG188: =T188*G188 -> 0 | AH188: =U188*H188 -> -272.46726 | AI188: =V188*I188 -> 0 | AJ188: =W188*J188 -> 0 | AK188: =X188*K188 -> 0 | ... AO188: =AB188*O188 -> 0 | AP188: =-(AD188+AF188+AH188+AJ188+AL188+AN188) -> 6790.1262 | AQ188: =-(AE188+AG188+AI188+AK188+AM188+AO188) -> 0 | AS188: ='Projection - England'!$B$13*'Eng19'!AP188 -> 0 | AT188: ='Projection - England'!$B$13*'Eng19'!AQ188 -> 0 | AU188: ='Projection - England'!$C$13*'Eng19'!AP188 -> 3762.4119 | AV188: ='Projection - England'!$C$13*'Eng19'!AQ188 -> 0 | AW188: ='Projection - England'!$D$13*'Eng19'!AP188 -> 0 | AX188: ='Projection - England'!$D$13*'Eng19'!AQ188 -> 0 | AY188: ='Projection - England'!$E$13*'Eng19'!AP188 -> 745.37518 | AZ188: ='Projection - England'!$E$13*'Eng19'!AQ188 -> 0 | BA188: ='Projection - England'!$F$13*'Eng19'!AP188 -> 1529.7058 | BB188: ='Projection - England'!$F$13*'Eng19'!AQ188 -> 0 | BC188: ='Projection - England'!$G$13*'Eng19'!AP188 -> 752.63338 | BD188: ='Projection - England'!$G$13*'Eng19'!AQ188 -> 0
A189: Blyth and Ashington | B189: North East | C189: England | D189: 8081.268 | E189: 11744.757 | F189: 12730.312 | G189: 11042.636 | H189: 1543.7247 | I189: 0 | J189: 1181.4888 | K189: 0 | L189: 4602.2949 | M189: 0 | N189: 5.2292464 | O189: 399.83155 | P189: =O189+N189+M189+L189+K189+J189+I189+H189+G189+F189+E189+D189 -> 51331.542 | Q189: =Q188 -> -0.94506059 | R189: =R188 -> 0 | S189: =S188 -> 0 | T189: =T188 -> 0 | U189: =U188 -> -0.08835736 | V189: =V188 -> 0 | W189: =W188 -> 0 | X189: =X188 -> 0 | ... AB189: =AB188 -> 0 | AD189: =Q189*D189 -> -7637.288 | AE189: =R189*E189 -> 0 | AF189: =S189*F189 -> 0 | AG189: =T189*G189 -> 0 | AH189: =U189*H189 -> -136.39944 | AI189: =V189*I189 -> 0 | AJ189: =W189*J189 -> 0 | AK189: =X189*K189 -> 0 | ... AO189: =AB189*O189 -> 0 | AP189: =-(AD189+AF189+AH189+AJ189+AL189+AN189) -> 7773.6874 | AQ189: =-(AE189+AG189+AI189+AK189+AM189+AO189) -> 0 | AS189: ='Projection - England'!$B$13*'Eng19'!AP189 -> 0 | AT189: ='Projection - England'!$B$13*'Eng19'!AQ189 -> 0 | AU189: ='Projection - England'!$C$13*'Eng19'!AP189 -> 4307.4035 | AV189: ='Projection - England'!$C$13*'Eng19'!AQ189 -> 0 | AW189: ='Projection - England'!$D$13*'Eng19'!AP189 -> 0 | AX189: ='Projection - England'!$D$13*'Eng19'!AQ189 -> 0 | AY189: ='Projection - England'!$E$13*'Eng19'!AP189 -> 853.34402 | AZ189: ='Projection - England'!$E$13*'Eng19'!AQ189 -> 0 | BA189: ='Projection - England'!$F$13*'Eng19'!AP189 -> 1751.2863 | BB189: ='Projection - England'!$F$13*'Eng19'!AQ189 -> 0 | BC189: ='Projection - England'!$G$13*'Eng19'!AP189 -> 861.65358 | BD189: ='Projection - England'!$G$13*'Eng19'!AQ189 -> 0
A190: City of Durham | B190: North East | C190: England | D190: 6960.7625 | E190: 10116.292 | F190: 11316.832 | G190: 9816.543 | H190: 7822.991 | I190: 0 | J190: 1681.7735 | K190: 0 | L190: 2952.0472 | M190: 0 | N190: 5.946007 | O190: 454.63553 | P190: =O190+N190+M190+L190+K190+J190+I190+H190+G190+F190+E190+D190 -> 51127.822 | Q190: =Q189 -> -0.94506059 | R190: =R189 -> 0 | S190: =S189 -> 0 | T190: =T189 -> 0 | U190: =U189 -> -0.08835736 | V190: =V189 -> 0 | W190: =W189 -> 0 | X190: =X189 -> 0 | ... AB190: =AB189 -> 0 | AD190: =Q190*D190 -> -6578.3423 | AE190: =R190*E190 -> 0 | AF190: =S190*F190 -> 0 | AG190: =T190*G190 -> 0 | AH190: =U190*H190 -> -691.21884 | AI190: =V190*I190 -> 0 | AJ190: =W190*J190 -> 0 | AK190: =X190*K190 -> 0 | ... AO190: =AB190*O190 -> 0 | AP190: =-(AD190+AF190+AH190+AJ190+AL190+AN190) -> 7269.5612 | AQ190: =-(AE190+AG190+AI190+AK190+AM190+AO190) -> 0 | AS190: ='Projection - England'!$B$13*'Eng19'!AP190 -> 0 | AT190: ='Projection - England'!$B$13*'Eng19'!AQ190 -> 0 | AU190: ='Projection - England'!$C$13*'Eng19'!AP190 -> 4028.067 | AV190: ='Projection - England'!$C$13*'Eng19'!AQ190 -> 0 | AW190: ='Projection - England'!$D$13*'Eng19'!AP190 -> 0 | AX190: ='Projection - England'!$D$13*'Eng19'!AQ190 -> 0 | AY190: ='Projection - England'!$E$13*'Eng19'!AP190 -> 798.00437 | AZ190: ='Projection - England'!$E$13*'Eng19'!AQ190 -> 0 | BA190: ='Projection - England'!$F$13*'Eng19'!AP190 -> 1637.7148 | BB190: ='Projection - England'!$F$13*'Eng19'!AQ190 -> 0 | BC190: ='Projection - England'!$G$13*'Eng19'!AP190 -> 805.77506 | BD190: ='Projection - England'!$G$13*'Eng19'!AQ190 -> 0
A191: Cramlington and Killingworth | B191: North East | C191: England | D191: 8059.0858 | E191: 11712.519 | F191: 10244.195 | G191: 8886.1074 | H191: 3024.7298 | I191: 0 | J191: 1279.4236 | K191: 0 | L191: 3674.9731 | M191: 0 | N191: 2.7327225 | O191: 208.94573 | P191: =O191+N191+M191+L191+K191+J191+I191+H191+G191+F191+E191+D191 -> 47092.712 | Q191: =Q190 -> -0.94506059 | R191: =R190 -> 0 | S191: =S190 -> 0 | T191: =T190 -> 0 | U191: =U190 -> -0.08835736 | V191: =V190 -> 0 | W191: =W190 -> 0 | X191: =X190 -> 0 | ... AB191: =AB190 -> 0 | AD191: =Q191*D191 -> -7616.3244 | AE191: =R191*E191 -> 0 | AF191: =S191*F191 -> 0 | AG191: =T191*G191 -> 0 | AH191: =U191*H191 -> -267.25714 | AI191: =V191*I191 -> 0 | AJ191: =W191*J191 -> 0 | AK191: =X191*K191 -> 0 | ... AO191: =AB191*O191 -> 0 | AP191: =-(AD191+AF191+AH191+AJ191+AL191+AN191) -> 7883.5816 | AQ191: =-(AE191+AG191+AI191+AK191+AM191+AO191) -> 0 | AS191: ='Projection - England'!$B$13*'Eng19'!AP191 -> 0 | AT191: ='Projection - England'!$B$13*'Eng19'!AQ191 -> 0 | AU191: ='Projection - England'!$C$13*'Eng19'!AP191 -> 4368.2959 | AV191: ='Projection - England'!$C$13*'Eng19'!AQ191 -> 0 | AW191: ='Projection - England'!$D$13*'Eng19'!AP191 -> 0 | AX191: ='Projection - England'!$D$13*'Eng19'!AQ191 -> 0 | AY191: ='Projection - England'!$E$13*'Eng19'!AP191 -> 865.40747 | AZ191: ='Projection - England'!$E$13*'Eng19'!AQ191 -> 0 | BA191: ='Projection - England'!$F$13*'Eng19'!AP191 -> 1776.0436 | BB191: ='Projection - England'!$F$13*'Eng19'!AQ191 -> 0 | BC191: ='Projection - England'!$G$13*'Eng19'!AP191 -> 873.83451 | BD191: ='Projection - England'!$G$13*'Eng19'!AQ191 -> 0
A192: Darlington | B192: North East | C192: England | D192: 9511.2893 | E192: 13823.051 | F192: 9776.9869 | G192: 8480.8377 | H192: 2465.6963 | I192: 0 | J192: 1199.0207 | K192: 0 | L192: 1592.9572 | M192: 0 | N192: 5.1594216 | O192: 394.49271 | P192: =O192+N192+M192+L192+K192+J192+I192+H192+G192+F192+E192+D192 -> 47249.492 | Q192: =Q191 -> -0.94506059 | R192: =R191 -> 0 | S192: =S191 -> 0 | T192: =T191 -> 0 | U192: =U191 -> -0.08835736 | V192: =V191 -> 0 | W192: =W191 -> 0 | X192: =X191 -> 0 | ... AB192: =AB191 -> 0 | AD192: =Q192*D192 -> -8988.7447 | AE192: =R192*E192 -> 0 | AF192: =S192*F192 -> 0 | AG192: =T192*G192 -> 0 | AH192: =U192*H192 -> -217.86242 | AI192: =V192*I192 -> 0 | AJ192: =W192*J192 -> 0 | AK192: =X192*K192 -> 0 | ... AO192: =AB192*O192 -> 0 | AP192: =-(AD192+AF192+AH192+AJ192+AL192+AN192) -> 9206.6071 | AQ192: =-(AE192+AG192+AI192+AK192+AM192+AO192) -> 0 | AS192: ='Projection - England'!$B$13*'Eng19'!AP192 -> 0 | AT192: ='Projection - England'!$B$13*'Eng19'!AQ192 -> 0 | AU192: ='Projection - England'!$C$13*'Eng19'!AP192 -> 5101.3849 | AV192: ='Projection - England'!$C$13*'Eng19'!AQ192 -> 0 | AW192: ='Projection - England'!$D$13*'Eng19'!AP192 -> 0 | AX192: ='Projection - England'!$D$13*'Eng19'!AQ192 -> 0 | AY192: ='Projection - England'!$E$13*'Eng19'!AP192 -> 1010.6405 | AZ192: ='Projection - England'!$E$13*'Eng19'!AQ192 -> 0 | BA192: ='Projection - England'!$F$13*'Eng19'!AP192 -> 2074.0999 | BB192: ='Projection - England'!$F$13*'Eng19'!AQ192 -> 0 | BC192: ='Projection - England'!$G$13*'Eng19'!AP192 -> 1020.4817 | BD192: ='Projection - England'!$G$13*'Eng19'!AQ192 -> 0
A193: Easington | B193: North East | C193: England | D193: 5552.3338 | E193: 8069.3787 | F193: 10352.53 | G193: 8980.0798 | H193: 1589.6493 | I193: 0 | J193: 72.001689 | K193: 0 | L193: 7508.7321 | M193: 0 | N193: 25.194068 | O193: 1926.3547 | P193: =O193+N193+M193+L193+K193+J193+I193+H193+G193+F193+E193+D193 -> 44076.254 | Q193: =Q192 -> -0.94506059 | R193: =R192 -> 0 | S193: =S192 -> 0 | T193: =T192 -> 0 | U193: =U192 -> -0.08835736 | V193: =V192 -> 0 | W193: =W192 -> 0 | X193: =X192 -> 0 | ... AB193: =AB192 -> 0 | AD193: =Q193*D193 -> -5247.2918 | AE193: =R193*E193 -> 0 | AF193: =S193*F193 -> 0 | AG193: =T193*G193 -> 0 | AH193: =U193*H193 -> -140.45722 | AI193: =V193*I193 -> 0 | AJ193: =W193*J193 -> 0 | AK193: =X193*K193 -> 0 | ... AO193: =AB193*O193 -> 0 | AP193: =-(AD193+AF193+AH193+AJ193+AL193+AN193) -> 5387.7491 | AQ193: =-(AE193+AG193+AI193+AK193+AM193+AO193) -> 0 | AS193: ='Projection - England'!$B$13*'Eng19'!AP193 -> 0 | AT193: ='Projection - England'!$B$13*'Eng19'!AQ193 -> 0 | AU193: ='Projection - England'!$C$13*'Eng19'!AP193 -> 2985.3541 | AV193: ='Projection - England'!$C$13*'Eng19'!AQ193 -> 0 | AW193: ='Projection - England'!$D$13*'Eng19'!AP193 -> 0 | AX193: ='Projection - England'!$D$13*'Eng19'!AQ193 -> 0 | AY193: ='Projection - England'!$E$13*'Eng19'!AP193 -> 591.43148 | AZ193: ='Projection - England'!$E$13*'Eng19'!AQ193 -> 0 | BA193: ='Projection - England'!$F$13*'Eng19'!AP193 -> 1213.7729 | BB193: ='Projection - England'!$F$13*'Eng19'!AQ193 -> 0 | BC193: ='Projection - England'!$G$13*'Eng19'!AP193 -> 597.19063 | BD193: ='Projection - England'!$G$13*'Eng19'!AQ193 -> 0
A194: Gateshead and Whickham | B194: North East | C194: England | D194: 6947.8718 | E194: 10097.557 | F194: 11304.89 | G194: 9806.1848 | H194: 3830.1715 | I194: 0 | J194: 1798.3273 | K194: 0 | L194: 1060.097 | M194: 0 | N194: 3.7323642 | O194: 285.37897 | P194: =O194+N194+M194+L194+K194+J194+I194+H194+G194+F194+E194+D194 -> 45134.211 | Q194: =Q193 -> -0.94506059 | R194: =R193 -> 0 | S194: =S193 -> 0 | T194: =T193 -> 0 | U194: =U193 -> -0.08835736 | V194: =V193 -> 0 | W194: =W193 -> 0 | X194: =X193 -> 0 | ... AB194: =AB193 -> 0 | AD194: =Q194*D194 -> -6566.1598 | AE194: =R194*E194 -> 0 | AF194: =S194*F194 -> 0 | AG194: =T194*G194 -> 0 | AH194: =U194*H194 -> -338.42384 | AI194: =V194*I194 -> 0 | AJ194: =W194*J194 -> 0 | AK194: =X194*K194 -> 0 | ... AO194: =AB194*O194 -> 0 | AP194: =-(AD194+AF194+AH194+AJ194+AL194+AN194) -> 6904.5836 | AQ194: =-(AE194+AG194+AI194+AK194+AM194+AO194) -> 0 | AS194: ='Projection - England'!$B$13*'Eng19'!AP194 -> 0 | AT194: ='Projection - England'!$B$13*'Eng19'!AQ194 -> 0 | AU194: ='Projection - England'!$C$13*'Eng19'!AP194 -> 3825.8328 | AV194: ='Projection - England'!$C$13*'Eng19'!AQ194 -> 0 | AW194: ='Projection - England'!$D$13*'Eng19'!AP194 -> 0 | AX194: ='Projection - England'!$D$13*'Eng19'!AQ194 -> 0 | AY194: ='Projection - England'!$E$13*'Eng19'!AP194 -> 757.93955 | AZ194: ='Projection - England'!$E$13*'Eng19'!AQ194 -> 0 | BA194: ='Projection - England'!$F$13*'Eng19'!AP194 -> 1555.4912 | BB194: ='Projection - England'!$F$13*'Eng19'!AQ194 -> 0 | BC194: ='Projection - England'!$G$13*'Eng19'!AP194 -> 765.3201 | BD194: ='Projection - England'!$G$13*'Eng19'!AQ194 -> 0
A195: Hartlepool | B195: North East | C195: England | D195: 6369.7783 | E195: 9257.3961 | F195: 9116.687 | G195: 7908.0746 | H195: 1696 | I195: 0 | J195: 0 | K195: 0 | L195: 8207.4 | M195: 2395.6 | N195: 26.02267 | O195: 1989.7101 | P195: =O195+N195+M195+L195+K195+J195+I195+H195+G195+F195+E195+D195 -> 46966.669 | Q195: =Q194 -> -0.94506059 | R195: =R194 -> 0 | S195: =S194 -> 0 | T195: =T194 -> 0 | U195: =U194 -> -0.08835736 | V195: =V194 -> 0 | W195: =W194 -> 0 | X195: =X194 -> 0 | ... AB195: =AB194 -> 0 | AD195: =Q195*D195 -> -6019.8265 | AE195: =R195*E195 -> 0 | AF195: =S195*F195 -> 0 | AG195: =T195*G195 -> 0 | AH195: =U195*H195 -> -149.85408 | AI195: =V195*I195 -> 0 | AJ195: =W195*J195 -> 0 | AK195: =X195*K195 -> 0 | ... AO195: =AB195*O195 -> 0 | AP195: =-(AD195+AF195+AH195+AJ195+AL195+AN195) -> 6169.6805 | AQ195: =-(AE195+AG195+AI195+AK195+AM195+AO195) -> 0 | AS195: ='Projection - England'!$B$13*'Eng19'!AP195 -> 0 | AT195: ='Projection - England'!$B$13*'Eng19'!AQ195 -> 0 | AU195: ='Projection - England'!$C$13*'Eng19'!AP195 -> 3418.6226 | AV195: ='Projection - England'!$C$13*'Eng19'!AQ195 -> 0 | AW195: ='Projection - England'!$D$13*'Eng19'!AP195 -> 0 | AX195: ='Projection - England'!$D$13*'Eng19'!AQ195 -> 0 | AY195: ='Projection - England'!$E$13*'Eng19'!AP195 -> 677.26675 | AZ195: ='Projection - England'!$E$13*'Eng19'!AQ195 -> 0 | BA195: ='Projection - England'!$F$13*'Eng19'!AP195 -> 1389.9294 | BB195: ='Projection - England'!$F$13*'Eng19'!AQ195 -> 0 | BC195: ='Projection - England'!$G$13*'Eng19'!AP195 -> 683.86174 | BD195: ='Projection - England'!$G$13*'Eng19'!AQ195 -> 0
A196: Hexham | B196: North East | C196: England | D196: 11803.509 | E196: 17154.405 | F196: 9127.7862 | G196: 7917.7025 | H196: 6266.7967 | I196: 0 | J196: 2068.5458 | K196: 0 | L196: 742.6123 | M196: 0 | N196: 0.58529819 | O196: 44.752278 | P196: =O196+N196+M196+L196+K196+J196+I196+H196+G196+F196+E196+D196 -> 55126.695 | Q196: =Q195 -> -0.94506059 | R196: =R195 -> 0 | S196: =S195 -> 0 | T196: =T195 -> 0 | U196: =U195 -> -0.08835736 | V196: =V195 -> 0 | W196: =W195 -> 0 | X196: =X195 -> 0 | ... AB196: =AB195 -> 0 | AD196: =Q196*D196 -> -11155.031 | AE196: =R196*E196 -> 0 | AF196: =S196*F196 -> 0 | AG196: =T196*G196 -> 0 | AH196: =U196*H196 -> -553.71761 | AI196: =V196*I196 -> 0 | AJ196: =W196*J196 -> 0 | AK196: =X196*K196 -> 0 | ... AO196: =AB196*O196 -> 0 | AP196: =-(AD196+AF196+AH196+AJ196+AL196+AN196) -> 11708.749 | AQ196: =-(AE196+AG196+AI196+AK196+AM196+AO196) -> 0 | AS196: ='Projection - England'!$B$13*'Eng19'!AP196 -> 0 | AT196: ='Projection - England'!$B$13*'Eng19'!AQ196 -> 0 | AU196: ='Projection - England'!$C$13*'Eng19'!AP196 -> 6487.8228 | AV196: ='Projection - England'!$C$13*'Eng19'!AQ196 -> 0 | AW196: ='Projection - England'!$D$13*'Eng19'!AP196 -> 0 | AX196: ='Projection - England'!$D$13*'Eng19'!AQ196 -> 0 | AY196: ='Projection - England'!$E$13*'Eng19'!AP196 -> 1285.3091 | AZ196: ='Projection - England'!$E$13*'Eng19'!AQ196 -> 0 | BA196: ='Projection - England'!$F$13*'Eng19'!AP196 -> 2637.7921 | BB196: ='Projection - England'!$F$13*'Eng19'!AQ196 -> 0 | BC196: ='Projection - England'!$G$13*'Eng19'!AP196 -> 1297.8249 | BD196: ='Projection - England'!$G$13*'Eng19'!AQ196 -> 0
A197: Houghton and Sunderland South | B197: North East | C197: England | D197: 6778.8848 | E197: 9851.9633 | F197: 10910.782 | G197: 9464.3236 | H197: 2466.4223 | I197: 0 | J197: 1246.043 | K197: 0 | L197: 7086.1985 | M197: 0 | N197: 18.44704 | O197: 1410.4726 | P197: =O197+N197+M197+L197+K197+J197+I197+H197+G197+F197+E197+D197 -> 49233.537 | Q197: =Q196 -> -0.94506059 | R197: =R196 -> 0 | S197: =S196 -> 0 | T197: =T196 -> 0 | U197: =U196 -> -0.08835736 | V197: =V196 -> 0 | W197: =W196 -> 0 | X197: =X196 -> 0 | ... AB197: =AB196 -> 0 | AD197: =Q197*D197 -> -6406.4569 | AE197: =R197*E197 -> 0 | AF197: =S197*F197 -> 0 | AG197: =T197*G197 -> 0 | AH197: =U197*H197 -> -217.92656 | AI197: =V197*I197 -> 0 | AJ197: =W197*J197 -> 0 | AK197: =X197*K197 -> 0 | ... AO197: =AB197*O197 -> 0 | AP197: =-(AD197+AF197+AH197+AJ197+AL197+AN197) -> 6624.3835 | AQ197: =-(AE197+AG197+AI197+AK197+AM197+AO197) -> 0 | AS197: ='Projection - England'!$B$13*'Eng19'!AP197 -> 0 | AT197: ='Projection - England'!$B$13*'Eng19'!AQ197 -> 0 | AU197: ='Projection - England'!$C$13*'Eng19'!AP197 -> 3670.5737 | AV197: ='Projection - England'!$C$13*'Eng19'!AQ197 -> 0 | AW197: ='Projection - England'!$D$13*'Eng19'!AP197 -> 0 | AX197: ='Projection - England'!$D$13*'Eng19'!AQ197 -> 0 | AY197: ='Projection - England'!$E$13*'Eng19'!AP197 -> 727.18103 | AZ197: ='Projection - England'!$E$13*'Eng19'!AQ197 -> 0 | BA197: ='Projection - England'!$F$13*'Eng19'!AP197 -> 1492.3666 | BB197: ='Projection - England'!$F$13*'Eng19'!AQ197 -> 0 | BC197: ='Projection - England'!$G$13*'Eng19'!AP197 -> 734.26206 | BD197: ='Projection - England'!$G$13*'Eng19'!AQ197 -> 0
A198: Jarrow | B198: North East | C198: England | D198: 5097.6481 | E198: 7408.5699 | F198: 11897.759 | G198: 10320.456 | H198: 1777.6575 | I198: 0 | J198: 917.45199 | K198: 0 | L198: 3997.68 | M198: 0 | N198: 47.636178 | O198: 3642.2929 | P198: =O198+N198+M198+L198+K198+J198+I198+H198+G198+F198+E198+D198 -> 45107.152 | Q198: =Q197 -> -0.94506059 | R198: =R197 -> 0 | S198: =S197 -> 0 | T198: =T197 -> 0 | U198: =U197 -> -0.08835736 | V198: =V197 -> 0 | W198: =W197 -> 0 | X198: =X197 -> 0 | ... AB198: =AB197 -> 0 | AD198: =Q198*D198 -> -4817.5863 | AE198: =R198*E198 -> 0 | AF198: =S198*F198 -> 0 | AG198: =T198*G198 -> 0 | AH198: =U198*H198 -> -157.06912 | AI198: =V198*I198 -> 0 | AJ198: =W198*J198 -> 0 | AK198: =X198*K198 -> 0 | ... AO198: =AB198*O198 -> 0 | AP198: =-(AD198+AF198+AH198+AJ198+AL198+AN198) -> 4974.6554 | AQ198: =-(AE198+AG198+AI198+AK198+AM198+AO198) -> 0 | AS198: ='Projection - England'!$B$13*'Eng19'!AP198 -> 0 | AT198: ='Projection - England'!$B$13*'Eng19'!AQ198 -> 0 | AU198: ='Projection - England'!$C$13*'Eng19'!AP198 -> 2756.4587 | AV198: ='Projection - England'!$C$13*'Eng19'!AQ198 -> 0 | AW198: ='Projection - England'!$D$13*'Eng19'!AP198 -> 0 | AX198: ='Projection - England'!$D$13*'Eng19'!AQ198 -> 0 | AY198: ='Projection - England'!$E$13*'Eng19'!AP198 -> 546.08479 | AZ198: ='Projection - England'!$E$13*'Eng19'!AQ198 -> 0 | BA198: ='Projection - England'!$F$13*'Eng19'!AP198 -> 1120.7096 | BB198: ='Projection - England'!$F$13*'Eng19'!AQ198 -> 0 | BC198: ='Projection - England'!$G$13*'Eng19'!AP198 -> 551.40237 | BD198: ='Projection - England'!$G$13*'Eng19'!AQ198 -> 0
... A545: York Outer | B545: Yorkshire and the Humber | C545: England | D545: 11069.421 | E545: 16087.532 | F545: 8874.494 | G545: 7697.9896 | H545: 9754.4272 | I545: 0 | J545: 22.785803 | K545: 0 | L545: 6.8984134 | M545: 0 | N545: 8.9030403 | O545: 680.73221 | P545: =O545+N545+M545+L545+K545+J545+I545+H545+G545+F545+E545+D545 -> 54203.183 | Q545: =Q544 -> -0.94506059 | R545: =R544 -> 0 | S545: =S544 -> 0 | T545: =T544 -> 0 | U545: =U544 -> -0.08835736 | V545: =V544 -> 0 | W545: =W544 -> 0 | X545: =X544 -> 0 | ... AB545: =AB544 -> 0 | AD545: =Q545*D545 -> -10461.273 | AE545: =R545*E545 -> 0 | AF545: =S545*F545 -> 0 | AG545: =T545*G545 -> 0 | AH545: =U545*H545 -> -861.87544 | AI545: =V545*I545 -> 0 | AJ545: =W545*J545 -> 0 | AK545: =X545*K545 -> 0 | ... AO545: =AB545*O545 -> 0 | AP545: =-(AD545+AF545+AH545+AJ545+AL545+AN545) -> 11323.149 | AQ545: =-(AE545+AG545+AI545+AK545+AM545+AO545) -> 0 | AS545: ='Projection - England'!$B$13*'Eng19'!AP545 -> 0 | AT545: ='Projection - England'!$B$13*'Eng19'!AQ545 -> 0 | AU545: ='Projection - England'!$C$13*'Eng19'!AP545 -> 6274.1617 | AV545: ='Projection - England'!$C$13*'Eng19'!AQ545 -> 0 | AW545: ='Projection - England'!$D$13*'Eng19'!AP545 -> 0 | AX545: ='Projection - England'!$D$13*'Eng19'!AQ545 -> 0 | AY545: ='Projection - England'!$E$13*'Eng19'!AP545 -> 1242.9804 | AZ545: ='Projection - England'!$E$13*'Eng19'!AQ545 -> 0 | BA545: ='Projection - England'!$F$13*'Eng19'!AP545 -> 2550.9226 | BB545: ='Projection - England'!$F$13*'Eng19'!AQ545 -> 0 | BC545: ='Projection - England'!$G$13*'Eng19'!AP545 -> 1255.0841 | BD545: ='Projection - England'!$G$13*'Eng19'!AQ545 -> 0

Sheet Eng24
D1: Estimated total vote | L1: 2024 projected vote share | S1: Change in vote share | Z1: Seat result information | AF1: Details of gain / loss | AK1: 2019 vote share (without redistributing BXP vote)
A2: Constituency | B2: Region | C2: Nation | D2: CON | E2: LAB | F2: LD | G2: GRN | H2: REF | I2: OTH | J2: TOTAL | L2: CON | M2: LAB | N2: LD | O2: GRN | P2: REF | Q2: OTH | S2: CON | T2: LAB | U2: LD | V2: GRN | W2: REF | X2: OTH | Z2: 1st % | AA2: 1st | AB2: Majority | AC2: 2nd % | AD2: 2nd | AF2: 2019 | AG2: 2024 | AH2: Result | AI2: - | AK2: CON | AL2: LAB | AM2: LD | AN2: GRN | AO2: BXP | AP2: OTH
A3: Amber Valley | B3: East Midlands | C3: England | D3: =('Eng19'!D3+'Eng19'!AD3+'Eng19'!AS3)+('Eng19'!E3+'Eng19'!AE3+'Eng19'!AT3) -> 17887.776 | E3: =('Eng19'!F3+'Eng19'!AF3+'Eng19'!AU3)+'Eng19'!G3+'Eng19'!AG3+'Eng19'!AV3 -> 18561.14 | F3: =('Eng19'!H3+'Eng19'!AH3+'Eng19'!AW3)+('Eng19'!I3+'Eng19'!AI3+'Eng19'!AX3) -> 2619.1493 | G3: =('Eng19'!J3+'Eng19'!AJ3+'Eng19'!AY3)+('Eng19'!AZ3+'Eng19'!AK3+'Eng19'!K3) -> 2646.2308 | H3: =('Eng19'!L3+'Eng19'!AL3+'Eng19'!BA3)+('Eng19'!BB3+'Eng19'!AM3+'Eng19'!M3) -> 2582.2204 | I3: =('Eng19'!N3+'Eng19'!AN3+'Eng19'!BC3)+('Eng19'!BD3+'Eng19'!AO3+'Eng19'!O3) -> 1270.483 | J3: =SUM(D3:I3) -> 45567 | L3: =D3/J3 -> 0.39255988 | M3: =E3/J3 -> 0.40733734 | N3: =F3/J3 -> 0.057479081 | O3: =G3/J3 -> 0.058073404 | P3: =H3/J3 -> 0.05666865 | Q3: =I3/J3 -> 0.027881647 | S3: =L3-AK3 -> -0.24597239 | T3: =M3-AL3 -> 0.13938026 | U3: =N3-AM3 -> -0.0055709328 | V3: =O3-AN3 -> 0.027612763 | W3: =P3-AO3 -> 0.05666865 | X3: =Q3-AP3 -> 0.027881647 | Z3: =LARGE(L3:Q3,1) -> 0.40733734 | AA3: =IF(L3=Z3,"Con",IF(M3=Z3,"Lab",IF(N3=Z3,"LD",IF(O3=Z3,"Grn",IF(P3=Z3,"Ref",IF(Q3=Z3,"Oth","OTH ")))))) -> Lab | AB3: =Z3-AC3 -> 0.014777458 | AC3: =LARGE(L3:Q3,2) -> 0.39255988 | AD3: =IF(L3=AC3,"Con",IF(M3=AC3,"Lab",IF(N3=AC3,"LD",IF(O3=AC3,"Grn",IF(P3=AC3,"Ref",IF(Q3=AC3,"Oth","OTH ")))))) -> Con | AF3: Con | AG3: =AA3 -> Lab | AH3: =IF(AG3=AF3,"Hold","Gain from") -> Gain from | AI3: =IF(AH3="Hold","",(AF3)) -> Con | AK3: 0.63853227 | AL3: 0.26795707 | AM3: 0.063050014 | AN3: 0.03046064 | AO3: 0 | AP3: =100%-AO3-AN3-AM3-AL3-AK3 -> 0
A4: Ashfield | B4: East Midlands | C4: England | D4: =('Eng19'!D4+'Eng19'!AD4+'Eng19'!AS4)+('Eng19'!E4+'Eng19'!AE4+'Eng19'!AT4) -> 10968.464 | E4: =('Eng19'!F4+'Eng19'!AF4+'Eng19'!AU4)+'Eng19'!G4+'Eng19'!AG4+'Eng19'!AV4 -> 15404.482 | F4: =('Eng19'!H4+'Eng19'!AH4+'Eng19'!AW4)+('Eng19'!I4+'Eng19'!AI4+'Eng19'!AX4) -> 844.21935 | G4: =('Eng19'!J4+'Eng19'!AJ4+'Eng19'!AY4)+('Eng19'!AZ4+'Eng19'!AK4+'Eng19'!K4) -> 1337.0133 | H4: =('Eng19'!L4+'Eng19'!AL4+'Eng19'!BA4)+('Eng19'!BB4+'Eng19'!AM4+'Eng19'!M4) -> 3729.471 | I4: =('Eng19'!N4+'Eng19'!AN4+'Eng19'!BC4)+('Eng19'!BD4+'Eng19'!AO4+'Eng19'!O4) -> 12622.558 | J4: =SUM(D4:I4) -> 44906.208 | L4: =D4/J4 -> 0.24425274 | M4: =E4/J4 -> 0.34303681 | N4: =F4/J4 -> 0.018799614 | O4: =G4/J4 -> 0.029773463 | P4: =H4/J4 -> 0.083050232 | Q4: =I4/J4 -> 0.28108715 | S4: =L4-AK4 -> -0.14649927 | T4: =M4-AL4 -> 0.085977791 | U4: =N4-AM4 -> -0.0023928733 | V4: =O4-AN4 -> 0.016646761 | W4: =P4-AO4 -> 0.033556043 | X4: =Q4-AP4 -> 0.012711552 | Z4: =LARGE(L4:Q4,1) -> 0.34303681 | AA4: =IF(L4=Z4,"Con",IF(M4=Z4,"Lab",IF(N4=Z4,"LD",IF(O4=Z4,"Grn",IF(P4=Z4,"Ref",IF(Q4=Z4,"Oth","OTH ")))))) -> Lab | AB4: =Z4-AC4 -> 0.061949662 | AC4: =LARGE(L4:Q4,2) -> 0.28108715 | AD4: =IF(L4=AC4,"Con",IF(M4=AC4,"Lab",IF(N4=AC4,"LD",IF(O4=AC4,"Grn",IF(P4=AC4,"Ref",IF(Q4=AC4,"Oth","OTH ")))))) -> Oth | AF4: Con | AG4: =AA4 -> Lab | AH4: =IF(AG4=AF4,"Hold","Gain from") -> Gain from | AI4: =IF(AH4="Hold","",(AF4)) -> Con | AK4: 0.39075201 | AL4: 0.25705902 | AM4: 0.021192487 | AN4: 0.013126702 | AO4: 0.049494189 | AP4: =100%-AO4-AN4-AM4-AL4-AK4 -> 0.26837559
A5: Bassetlaw | B5: East Midlands | C5: England | D5: =('Eng19'!D5+'Eng19'!AD5+'Eng19'!AS5)+('Eng19'!E5+'Eng19'!AE5+'Eng19'!AT5) -> 17315.231 | E5: =('Eng19'!F5+'Eng19'!AF5+'Eng19'!AU5)+'Eng19'!G5+'Eng19'!AG5+'Eng19'!AV5 -> 20671.483 | F5: =('Eng19'!H5+'Eng19'!AH5+'Eng19'!AW5)+('Eng19'!I5+'Eng19'!AI5+'Eng19'!AX5) -> 2538.7994 | G5: =('Eng19'!J5+'Eng19'!AJ5+'Eng19'!AY5)+('Eng19'!AZ5+'Eng19'!AK5+'Eng19'!K5) -> 1217.9949 | H5: =('Eng19'!L5+'Eng19'!AL5+'Eng19'!BA5)+('Eng19'!BB5+'Eng19'!AM5+'Eng19'!M5) -> 7771.2291 | I5: =('Eng19'!N5+'Eng19'!AN5+'Eng19'!BC5)+('Eng19'!BD5+'Eng19'!AO5+'Eng19'!O5) -> 1533.4985 | J5: =SUM(D5:I5) -> 51048.236 | L5: =D5/J5 -> 0.33919353 | M5: =E5/J5 -> 0.4049402 | N5: =F5/J5 -> 0.049733343 | O5: =G5/J5 -> 0.023859686 | P5: =H5/J5 -> 0.15223306 | Q5: =I5/J5 -> 0.030040186 | S5: =L5-AK5 -> -0.207504 | T5: =M5-AL5 -> 0.11913094 | U5: =N5-AM5 -> -0.0081638477 | V5: =O5-AN5 -> 0.023859686 | W5: =P5-AO5 -> 0.042637032 | X5: =Q5-AP5 -> 0.030040186 | Z5: =LARGE(L5:Q5,1) -> 0.4049402 | AA5: =IF(L5=Z5,"Con",IF(M5=Z5,"Lab",IF(N5=Z5,"LD",IF(O5=Z5,"Grn",IF(P5=Z5,"Ref",IF(Q5=Z5,"Oth","OTH ")))))) -> Lab | AB5: =Z5-AC5 -> 0.065746667 | AC5: =LARGE(L5:Q5,2) -> 0.33919353 | AD5: =IF(L5=AC5,"Con",IF(M5=AC5,"Lab",IF(N5=AC5,"LD",IF(O5=AC5,"Grn",IF(P5=AC5,"Ref",IF(Q5=AC5,"Oth","OTH ")))))) -> Con | AF5: Con | AG5: =AA5 -> Lab | AH5: =IF(AG5=AF5,"Hold","Gain from") -> Gain from | AI5: =IF(AH5="Hold","",(AF5)) -> Con | AK5: 0.54669753 | AL5: 0.28580925 | AM5: 0.057897191 | AN5: 0 | AO5: 0.10959603 | AP5: =100%-AO5-AN5-AM5-AL5-AK5 -> 0
A6: Bolsover | B6: East Midlands | C6: England | D6: =('Eng19'!D6+'Eng19'!AD6+'Eng19'!AS6)+('Eng19'!E6+'Eng19'!AE6+'Eng19'!AT6) -> 14353.931 | E6: =('Eng19'!F6+'Eng19'!AF6+'Eng19'!AU6)+'Eng19'!G6+'Eng19'!AG6+'Eng19'!AV6 -> 22158.927 | F6: =('Eng19'!H6+'Eng19'!AH6+'Eng19'!AW6)+('Eng19'!I6+'Eng19'!AI6+'Eng19'!AX6) -> 1613.2932 | G6: =('Eng19'!J6+'Eng19'!AJ6+'Eng19'!AY6)+('Eng19'!AZ6+'Eng19'!AK6+'Eng19'!K6) -> 1765.9992 | H6: =('Eng19'!L6+'Eng19'!AL6+'Eng19'!BA6)+('Eng19'!BB6+'Eng19'!AM6+'Eng19'!M6) -> 6199.6037 | I6: =('Eng19'!N6+'Eng19'!AN6+'Eng19'!BC6)+('Eng19'!BD6+'Eng19'!AO6+'Eng19'!O6) -> 2237.5177 | J6: =SUM(D6:I6) -> 48329.272 | L6: =D6/J6 -> 0.29700284 | M6: =E6/J6 -> 0.45849909 | N6: =F6/J6 -> 0.033381286 | O6: =G6/J6 -> 0.036540986 | P6: =H6/J6 -> 0.12827844 | Q6: =I6/J6 -> 0.04629736 | S6: =L6-AK6 -> -0.17851894 | T6: =M6-AL6 -> 0.10036415 | U6: =N6-AM6 -> -0.0050769273 | V6: =O6-AN6 -> 0.019991245 | W6: =P6-AO6 -> 0.038347316 | X6: =Q6-AP6 -> 0.02489316 | Z6: =LARGE(L6:Q6,1) -> 0.45849909 | AA6: =IF(L6=Z6,"Con",IF(M6=Z6,"Lab",IF(N6=Z6,"LD",IF(O6=Z6,"Grn",IF(P6=Z6,"Ref",IF(Q6=Z6,"Oth","OTH ")))))) -> Lab | AB6: =Z6-AC6 -> 0.16149625 | AC6: =LARGE(L6:Q6,2) -> 0.29700284 | AD6: =IF(L6=AC6,"Con",IF(M6=AC6,"Lab",IF(N6=AC6,"LD",IF(O6=AC6,"Grn",IF(P6=AC6,"Ref",IF(Q6=AC6,"Oth","OTH ")))))) -> Con | AF6: Con | AG6: =AA6 -> Lab | AH6: =IF(AG6=AF6,"Hold","Gain from") -> Gain from | AI6: =IF(AH6="Hold","",(AF6)) -> Con | AK6: 0.47552177 | AL6: 0.35813495 | AM6: 0.038458213 | AN6: 0.01654974 | AO6: 0.089931126 | AP6: =100%-AO6-AN6-AM6-AL6-AK6 -> 0.0214042
A7: Boston and Skegness | B7: East Midlands | C7: England | D7: =('Eng19'!D7+'Eng19'!AD7+'Eng19'!AS7)+('Eng19'!E7+'Eng19'!AE7+'Eng19'!AT7) -> 21316.993 | E7: =('Eng19'!F7+'Eng19'!AF7+'Eng19'!AU7)+'Eng19'!G7+'Eng19'!AG7+'Eng19'!AV7 -> 14311.889 | F7: =('Eng19'!H7+'Eng19'!AH7+'Eng19'!AW7)+('Eng19'!I7+'Eng19'!AI7+'Eng19'!AX7) -> 1882.9547 | G7: =('Eng19'!J7+'Eng19'!AJ7+'Eng19'!AY7)+('Eng19'!AZ7+'Eng19'!AK7+'Eng19'!K7) -> 1486.268 | H7: =('Eng19'!L7+'Eng19'!AL7+'Eng19'!BA7)+('Eng19'!BB7+'Eng19'!AM7+'Eng19'!M7) -> 3050.2127 | I7: =('Eng19'!N7+'Eng19'!AN7+'Eng19'!BC7)+('Eng19'!BD7+'Eng19'!AO7+'Eng19'!O7) -> 3079.5916 | J7: =SUM(D7:I7) -> 45127.909 | L7: =D7/J7 -> 0.47236828 | M7: =E7/J7 -> 0.31714053 | N7: =F7/J7 -> 0.041724839 | O7: =G7/J7 -> 0.032934565 | P7: =H7/J7 -> 0.067590385 | Q7: =I7/J7 -> 0.068241398 | S7: =L7-AK7 -> -0.29597919 | T7: =M7-AL7 -> 0.16624299 | U7: =N7-AM7 -> -0.0040440151 | V7: =O7-AN7 -> 0.032934565 | W7: =P7-AO7 -> 0.067590385 | X7: =Q7-AP7 -> 0.03325527 | Z7: =LARGE(L7:Q7,1) -> 0.47236828 | AA7: =IF(L7=Z7,"Con",IF(M7=Z7,"Lab",IF(N7=Z7,"LD",IF(O7=Z7,"Grn",IF(P7=Z7,"Ref",IF(Q7=Z7,"Oth","OTH ")))))) -> Con | AB7: =Z7-AC7 -> 0.15522775 | AC7: =LARGE(L7:Q7,2) -> 0.31714053 | AD7: =IF(L7=AC7,"Con",IF(M7=AC7,"Lab",IF(N7=AC7,"LD",IF(O7=AC7,"Grn",IF(P7=AC7,"Ref",IF(Q7=AC7,"Oth","OTH ")))))) -> Lab | AF7: Con | AG7: =AA7 -> Con | AH7: =IF(AG7=AF7,"Hold","Gain from") -> Hold | AI7: =IF(AH7="Hold","",(AF7)) | AK7: 0.76834748 | AL7: 0.15089754 | AM7: 0.045768854 | AN7: 0 | AO7: 0 | AP7: =100%-AO7-AN7-AM7-AL7-AK7 -> 0.034986128
A8: Broxtowe | B8: East Midlands | C8: England | D8: =('Eng19'!D8+'Eng19'!AD8+'Eng19'!AS8)+('Eng19'!E8+'Eng19'!AE8+'Eng19'!AT8) -> 14618.832 | E8: =('Eng19'!F8+'Eng19'!AF8+'Eng19'!AU8)+'Eng19'!G8+'Eng19'!AG8+'Eng19'!AV8 -> 24498.728 | F8: =('Eng19'!H8+'Eng19'!AH8+'Eng19'!AW8)+('Eng19'!I8+'Eng19'!AI8+'Eng19'!AX8) -> 193.85347 | G8: =('Eng19'!J8+'Eng19'!AJ8+'Eng19'!AY8)+('Eng19'!AZ8+'Eng19'!AK8+'Eng19'!K8) -> 2518.6031 | H8: =('Eng19'!L8+'Eng19'!AL8+'Eng19'!BA8)+('Eng19'!BB8+'Eng19'!AM8+'Eng19'!M8) -> 2406.0884 | I8: =('Eng19'!N8+'Eng19'!AN8+'Eng19'!BC8)+('Eng19'!BD8+'Eng19'!AO8+'Eng19'!O8) -> 7038.0835 | J8: =SUM(D8:I8) -> 51274.189 | L8: =D8/J8 -> 0.28511094 | M8: =E8/J8 -> 0.47779845 | N8: =F8/J8 -> 0.0037807223 | O8: =G8/J8 -> 0.049120291 | P8: =H8/J8 -> 0.04692592 | Q8: =I8/J8 -> 0.13726367 | S8: =L8-AK8 -> -0.17801677 | T8: =M8-AL8 -> 0.09876378 | U8: =N8-AM8 -> -0.00038178896 | V8: =O8-AN8 -> 0.019541719 | W8: =P8-AO8 -> 0.040304276 | X8: =Q8-AP8 -> 0.019788782 | Z8: =LARGE(L8:Q8,1) -> 0.47779845 | AA8: =IF(L8=Z8,"Con",IF(M8=Z8,"Lab",IF(N8=Z8,"LD",IF(O8=Z8,"Grn",IF(P8=Z8,"Ref",IF(Q8=Z8,"Oth","OTH ")))))) -> Lab | AB8: =Z8-AC8 -> 0.19268752 | AC8: =LARGE(L8:Q8,2) -> 0.28511094 | AD8: =IF(L8=AC8,"Con",IF(M8=AC8,"Lab",IF(N8=AC8,"LD",IF(O8=AC8,"Grn",IF(P8=AC8,"Ref",IF(Q8=AC8,"Oth","OTH ")))))) -> Con | AF8: Con | AG8: =AA8 -> Lab | AH8: =IF(AG8=AF8,"Hold","Gain from") -> Gain from | AI8: =IF(AH8="Hold","",(AF8)) -> Con | AK8: 0.46312771 | AL8: 0.37903468 | AM8: 0.0041625112 | AN8: 0.029578572 | AO8: 0.0066216432 | AP8: =100%-AO8-AN8-AM8-AL8-AK8 -> 0.11747489
A9: Chesterfield | B9: East Midlands | C9: England | D9: =('Eng19'!D9+'Eng19'!AD9+'Eng19'!AS9)+('Eng19'!E9+'Eng19'!AE9+'Eng19'!AT9) -> 11318.835 | E9: =('Eng19'!F9+'Eng19'!AF9+'Eng19'!AU9)+'Eng19'!G9+'Eng19'!AG9+'Eng19'!AV9 -> 22998.194 | F9: =('Eng19'!H9+'Eng19'!AH9+'Eng19'!AW9)+('Eng19'!I9+'Eng19'!AI9+'Eng19'!AX9) -> 3632.8959 | G9: =('Eng19'!J9+'Eng19'!AJ9+'Eng19'!AY9)+('Eng19'!AZ9+'Eng19'!AK9+'Eng19'!K9) -> 1965.1886 | H9: =('Eng19'!L9+'Eng19'!AL9+'Eng19'!BA9)+('Eng19'!BB9+'Eng19'!AM9+'Eng19'!M9) -> 6448.0859 | I9: =('Eng19'!N9+'Eng19'!AN9+'Eng19'!BC9)+('Eng19'!BD9+'Eng19'!AO9+'Eng19'!O9) -> 1490.9557 | J9: =SUM(D9:I9) -> 47854.155 | L9: =D9/J9 -> 0.23652773 | M9: =E9/J9 -> 0.48058928 | N9: =F9/J9 -> 0.075915997 | O9: =G9/J9 -> 0.041066207 | P9: =H9/J9 -> 0.13474454 | Q9: =I9/J9 -> 0.031156244 | S9: =L9-AK9 -> -0.13349838 | T9: =M9-AL9 -> 0.078451453 | U9: =N9-AM9 -> -0.012275035 | V9: =O9-AN9 -> 0.015660108 | W9: =P9-AO9 -> 0.029158735 | X9: =Q9-AP9 -> 0.022503121 | Z9: =LARGE(L9:Q9,1) -> 0.48058928 | AA9: =IF(L9=Z9,"Con",IF(M9=Z9,"Lab",IF(N9=Z9,"LD",IF(O9=Z9,"Grn",IF(P9=Z9,"Ref",IF(Q9=Z9,"Oth","OTH ")))))) -> Lab | AB9: =Z9-AC9 -> 0.24406155 | AC9: =LARGE(L9:Q9,2) -> 0.23652773 | AD9: =IF(L9=AC9,"Con",IF(M9=AC9,"Lab",IF(N9=AC9,"LD",IF(O9=AC9,"Grn",IF(P9=AC9,"Ref",IF(Q9=AC9,"Oth","OTH ")))))) -> Con | AF9: Lab | AG9: =AA9 -> Lab | AH9: =IF(AG9=AF9,"Hold","Gain from") -> Hold | AI9: =IF(AH9="Hold","",(AF9)) | AK9: 0.37002611 | AL9: 0.40213783 | AM9: 0.088191033 | AN9: 0.025406099 | AO9: 0.1055858 | AP9: =100%-AO9-AN9-AM9-AL9-AK9 -> 0.0086531226
A10: Corby and East Northamptonshire | B10: East Midlands | C10: England | D10: =('Eng19'!D10+'Eng19'!AD10+'Eng19'!AS10)+('Eng19'!E10+'Eng19'!AE10+'Eng19'!AT10) -> 18154.748 | E10: =('Eng19'!F10+'Eng19'!AF10+'Eng19'!AU10)+'Eng19'!G10+'Eng19'!AG10+'Eng19'!AV10 -> 27333.881 | F10: =('Eng19'!H10+'Eng19'!AH10+'Eng19'!AW10)+('Eng19'!I10+'Eng19'!AI10+'Eng19'!AX10) -> 3156.5585 | G10: =('Eng19'!J10+'Eng19'!AJ10+'Eng19'!AY10)+('Eng19'!AZ10+'Eng19'!AK10+'Eng19'!K10) -> 1282.3115 | H10: =('Eng19'!L10+'Eng19'!AL10+'Eng19'!BA10)+('Eng19'!BB10+'Eng19'!AM10+'Eng19'!M10) -> 2631.6402 | I10: =('Eng19'!N10+'Eng19'!AN10+'Eng19'!BC10)+('Eng19'!BD10+'Eng19'!AO10+'Eng19'!O10) -> 1294.7982 | J10: =SUM(D10:I10) -> 53853.937 | L10: =D10/J10 -> 0.33711088 | M10: =E10/J10 -> 0.50755585 | N10: =F10/J10 -> 0.058613328 | O10: =G10/J10 -> 0.023810914 | P10: =H10/J10 -> 0.048866255 | Q10: =I10/J10 -> 0.024042776 | S10: =L10-AK10 -> -0.21122884 | T10: =M10-AL10 -> 0.12018976 | U10: =N10-AM10 -> -0.0056808652 | V10: =O10-AN10 -> 0.023810914 | W10: =P10-AO10 -> 0.048866255 | X10: =Q10-AP10 -> 0.024042776 | Z10: =LARGE(L10:Q10,1) -> 0.50755585 | AA10: =IF(L10=Z10,"Con",IF(M10=Z10,"Lab",IF(N10=Z10,"LD",IF(O10=Z10,"Grn",IF(P10=Z10,"Ref",IF(Q10=Z10,"Oth","OTH ")))))) -> Lab | AB10: =Z10-AC10 -> 0.17044497 | AC10: =LARGE(L10:Q10,2) -> 0.33711088 | AD10: =IF(L10=AC10,"Con",IF(M10=AC10,"Lab",IF(N10=AC10,"LD",IF(O10=AC10,"Grn",IF(P10=AC10,"Ref",IF(Q10=AC10,"Oth","OTH ")))))) -> Con | AF10: Con | AG10: =AA10 -> Lab | AH10: =IF(AG10=AF10,"Hold","Gain from") -> Gain from | AI10: =IF(AH10="Hold","",(AF10)) -> Con | AK10: 0.54833972 | AL10: 0.38736609 | AM10: 0.064294194 | AN10: 0 | AO10: 0 | AP10: =100%-AO10-AN10-AM10-AL10-AK10 -> 0
A11: Daventry | B11: East Midlands | C11: England | D11: =('Eng19'!D11+'Eng19'!AD11+'Eng19'!AS11)+('Eng19'!E11+'Eng19'!AE11+'Eng19'!AT11) -> 22324.951 | E11: =('Eng19'!F11+'Eng19'!AF11+'Eng19'!AU11)+'Eng19'!G11+'Eng19'!AG11+'Eng19'!AV11 -> 18511.108 | F11: =('Eng19'!H11+'Eng19'!AH11+'Eng19'!AW11)+('Eng19'!I11+'Eng19'!AI11+'Eng19'!AX11) -> 6457.041 | G11: =('Eng19'!J11+'Eng19'!AJ11+'Eng19'!AY11)+('Eng19'!AZ11+'Eng19'!AK11+'Eng19'!K11) -> 3901.3921 | H11: =('Eng19'!L11+'Eng19'!AL11+'Eng19'!BA11)+('Eng19'!BB11+'Eng19'!AM11+'Eng19'!M11) -> 3292.3698 | I11: =('Eng19'!N11+'Eng19'!AN11+'Eng19'!BC11)+('Eng19'!BD11+'Eng19'!AO11+'Eng19'!O11) -> 1632.255 | J11: =SUM(D11:I11) -> 56119.118 | L11: =D11/J11 -> 0.39781365 | M11: =E11/J11 -> 0.32985388 | N11: =F11/J11 -> 0.11505956 | O11: =G11/J11 -> 0.069519841 | P11: =H11/J11 -> 0.058667526 | Q11: =I11/J11 -> 0.029085543 | S11: =L11-AK11 -> -0.24926433 | T11: =M11-AL11 -> 0.14429663 | U11: =N11-AM11 -> -0.011151693 | V11: =O11-AN11 -> 0.02858675 | W11: =P11-AO11 -> 0.058667526 | X11: =Q11-AP11 -> 0.028865117 | Z11: =LARGE(L11:Q11,1) -> 0.39781365 | AA11: =IF(L11=Z11,"Con",IF(M11=Z11,"Lab",IF(N11=Z11,"LD",IF(O11=Z11,"Grn",IF(P11=Z11,"Ref",IF(Q11=Z11,"Oth","OTH ")))))) -> Con | AB11: =Z11-AC11 -> 0.067959778 | AC11: =LARGE(L11:Q11,2) -> 0.32985388 | AD11: =IF(L11=AC11,"Con",IF(M11=AC11,"Lab",IF(N11=AC11,"LD",IF(O11=AC11,"Grn",IF(P11=AC11,"Ref",IF(Q11=AC11,"Oth","OTH ")))))) -> Lab | AF11: Con | AG11: =AA11 -> Con | AH11: =IF(AG11=AF11,"Hold","Gain from") -> Hold | AI11: =IF(AH11="Hold","",(AF11)) | AK11: 0.64707798 | AL11: 0.18555725 | AM11: 0.12621125 | AN11: 0.040933092 | AO11: 0 | AP11: =100%-AO11-AN11-AM11-AL11-AK11 -> 0.00022042547
A12: Derby North | B12: East Midlands | C12: England | D12: =('Eng19'!D12+'Eng19'!AD12+'Eng19'!AS12)+('Eng19'!E12+'Eng19'!AE12+'Eng19'!AT12) -> 13485.475 | E12: =('Eng19'!F12+'Eng19'!AF12+'Eng19'!AU12)+'Eng19'!G12+'Eng19'!AG12+'Eng19'!AV12 -> 23850.806 | F12: =('Eng19'!H12+'Eng19'!AH12+'Eng19'!AW12)+('Eng19'!I12+'Eng19'!AI12+'Eng19'!AX12) -> 3145.1671 | G12: =('Eng19'!J12+'Eng19'!AJ12+'Eng19'!AY12)+('Eng19'!AZ12+'Eng19'!AK12+'Eng19'!K12) -> 2007.0263 | H12: =('Eng19'!L12+'Eng19'!AL12+'Eng19'!BA12)+('Eng19'!BB12+'Eng19'!AM12+'Eng19'!M12) -> 3880.2786 | I12: =('Eng19'!N12+'Eng19'!AN12+'Eng19'!BC12)+('Eng19'!BD12+'Eng19'!AO12+'Eng19'!O12) -> 1715.2852 | J12: =SUM(D12:I12) -> 48084.038 | L12: =D12/J12 -> 0.28045637 | M12: =E12/J12 -> 0.49602336 | N12: =F12/J12 -> 0.065409795 | O12: =G12/J12 -> 0.041739969 | P12: =H12/J12 -> 0.080697852 | Q12: =I12/J12 -> 0.035672653 | S12: =L12-AK12 -> -0.17169923 | T12: =M12-AL12 -> 0.09789077 | U12: =N12-AM12 -> -0.0079679192 | V12: =O12-AN12 -> 0.019492697 | W12: =P12-AO12 -> 0.040116785 | X12: =Q12-AP12 -> 0.0221669 | Z12: =LARGE(L12:Q12,1) -> 0.49602336 | AA12: =IF(L12=Z12,"Con",IF(M12=Z12,"Lab",IF(N12=Z12,"LD",IF(O12=Z12,"Grn",IF(P12=Z12,"Ref",IF(Q12=Z12,"Oth","OTH ")))))) -> Lab | AB12: =Z12-AC12 -> 0.21556699 | AC12: =LARGE(L12:Q12,2) -> 0.28045637 | AD12: =IF(L12=AC12,"Con",IF(M12=AC12,"Lab",IF(N12=AC12,"LD",IF(O12=AC12,"Grn",IF(P12=AC12,"Ref",IF(Q12=AC12,"Oth","OTH ")))))) -> Con | AF12: Con | AG12: =AA12 -> Lab | AH12: =IF(AG12=AF12,"Hold","Gain from") -> Gain from | AI12: =IF(AH12="Hold","",(AF12)) -> Con | AK12: 0.4521556 | AL12: 0.39813259 | AM12: 0.073377714 | AN12: 0.022247272 | AO12: 0.040581066 | AP12: =100%-AO12-AN12-AM12-AL12-AK12 -> 0.013505753
A13: Derby South | B13: East Midlands | C13: England | D13: =('Eng19'!D13+'Eng19'!AD13+'Eng19'!AS13)+('Eng19'!E13+'Eng19'!AE13+'Eng19'!AT13) -> 10174.701 | E13: =('Eng19'!F13+'Eng19'!AF13+'Eng19'!AU13)+'Eng19'!G13+'Eng19'!AG13+'Eng19'!AV13 -> 25715.946 | F13: =('Eng19'!H13+'Eng19'!AH13+'Eng19'!AW13)+('Eng19'!I13+'Eng19'!AI13+'Eng19'!AX13) -> 2389.4154 | G13: =('Eng19'!J13+'Eng19'!AJ13+'Eng19'!AY13)+('Eng19'!AZ13+'Eng19'!AK13+'Eng19'!K13) -> 725.26249 | H13: =('Eng19'!L13+'Eng19'!AL13+'Eng19'!BA13)+('Eng19'!BB13+'Eng19'!AM13+'Eng19'!M13) -> 3968.4293 | I13: =('Eng19'!N13+'Eng19'!AN13+'Eng19'!BC13)+('Eng19'!BD13+'Eng19'!AO13+'Eng19'!O13) -> 875.17284 | J13: =SUM(D13:I13) -> 43848.926 | L13: =D13/J13 -> 0.23203991 | M13: =E13/J13 -> 0.58646694 | N13: =F13/J13 -> 0.054491992 | O13: =G13/J13 -> 0.016540028 | P13: =H13/J13 -> 0.090502314 | Q13: =I13/J13 -> 0.01995882 | S13: =L13-AK13 -> -0.13701949 | T13: =M13-AL13 -> 0.075657274 | U13: =N13-AM13 -> -0.0072337859 | V13: =O13-AN13 -> 0.016540028 | W13: =P13-AO13 -> 0.032097152 | X13: =Q13-AP13 -> 0.01995882 | Z13: =LARGE(L13:Q13,1) -> 0.58646694 | AA13: =IF(L13=Z13,"Con",IF(M13=Z13,"Lab",IF(N13=Z13,"LD",IF(O13=Z13,"Grn",IF(P13=Z13,"Ref",IF(Q13=Z13,"Oth","OTH ")))))) -> Lab | AB13: =Z13-AC13 -> 0.35442703 | AC13: =LARGE(L13:Q13,2) -> 0.23203991 | AD13: =IF(L13=AC13,"Con",IF(M13=AC13,"Lab",IF(N13=AC13,"LD",IF(O13=AC13,"Grn",IF(P13=AC13,"Ref",IF(Q13=AC13,"Oth","OTH ")))))) -> Con | AF13: Lab | AG13: =AA13 -> Lab | AH13: =IF(AG13=AF13,"Hold","Gain from") -> Hold | AI13: =IF(AH13="Hold","",(AF13)) | AK13: 0.36905939 | AL13: 0.51080967 | AM13: 0.061725778 | AN13: 0 | AO13: 0.058405162 | AP13: =100%-AO13-AN13-AM13-AL13-AK13 -> 0
A14: Derbyshire Dales | B14: East Midlands | C14: England | D14: =('Eng19'!D14+'Eng19'!AD14+'Eng19'!AS14)+('Eng19'!E14+'Eng19'!AE14+'Eng19'!AT14) -> 19957.318 | E14: =('Eng19'!F14+'Eng19'!AF14+'Eng19'!AU14)+'Eng19'!G14+'Eng19'!AG14+'Eng19'!AV14 -> 21016.783 | F14: =('Eng19'!H14+'Eng19'!AH14+'Eng19'!AW14)+('Eng19'!I14+'Eng19'!AI14+'Eng19'!AX14) -> 6325.4245 | G14: =('Eng19'!J14+'Eng19'!AJ14+'Eng19'!AY14)+('Eng19'!AZ14+'Eng19'!AK14+'Eng19'!K14) -> 3771.9678 | H14: =('Eng19'!L14+'Eng19'!AL14+'Eng19'!BA14)+('Eng19'!BB14+'Eng19'!AM14+'Eng19'!M14) -> 2955.2817 | I14: =('Eng19'!N14+'Eng19'!AN14+'Eng19'!BC14)+('Eng19'!BD14+'Eng19'!AO14+'Eng19'!O14) -> 1454.0336 | J14: =SUM(D14:I14) -> 55480.809 | L14: =D14/J14 -> 0.3597157 | M14: =E14/J14 -> 0.37881177 | N14: =F14/J14 -> 0.11401104 | O14: =G14/J14 -> 0.067986893 | P14: =H14/J14 -> 0.053266738 | Q14: =I14/J14 -> 0.026207866 | S14: =L14-AK14 -> -0.2253927 | T14: =M14-AL14 -> 0.13101304 | U14: =N14-AM14 -> -0.011050069 | V14: =O14-AN14 -> 0.025955124 | W14: =P14-AO14 -> 0.053266738 | X14: =Q14-AP14 -> 0.026207866 | Z14: =LARGE(L14:Q14,1) -> 0.37881177 | AA14: =IF(L14=Z14,"Con",IF(M14=Z14,"Lab",IF(N14=Z14,"LD",IF(O14=Z14,"Grn",IF(P14=Z14,"Ref",IF(Q14=Z14,"Oth","OTH ")))))) -> Lab | AB14: =Z14-AC14 -> 0.01909607 | AC14: =LARGE(L14:Q14,2) -> 0.3597157 | AD14: =IF(L14=AC14,"Con",IF(M14=AC14,"Lab",IF(N14=AC14,"LD",IF(O14=AC14,"Grn",IF(P14=AC14,"Ref",IF(Q14=AC14,"Oth","OTH ")))))) -> Con | AF14: Con | AG14: =AA14 -> Lab | AH14: =IF(AG14=AF14,"Hold","Gain from") -> Gain from | AI14: =IF(AH14="Hold","",(AF14)) -> Con | AK14: 0.5851084 | AL14: 0.24779873 | AM14: 0.12506111 | AN14: 0.042031769 | AO14: 0 | AP14: =100%-AO14-AN14-AM14-AL14-AK14 -> 0
... A230: Chester South and Eddisbury | B230: North West | C230: England | D230: =('Eng19'!D230+'Eng19'!AD230+'Eng19'!AS230)+('Eng19'!E230+'Eng19'!AE230+'Eng19'!AT230) -> 18784.192 | E230: =('Eng19'!F230+'Eng19'!AF230+'Eng19'!AU230)+'Eng19'!G230+'Eng19'!AG230+'Eng19'!AV230 -> 17642.33 | F230: =('Eng19'!H230+'Eng19'!AH230+'Eng19'!AW230)+('Eng19'!I230+'Eng19'!AI230+'Eng19'!AX230) -> 9370.6072 | G230: =('Eng19'!J230+'Eng19'!AJ230+'Eng19'!AY230)+('Eng19'!AZ230+'Eng19'!AK230+'Eng19'!K230) -> 2786.8655 | H230: =('Eng19'!L230+'Eng19'!AL230+'Eng19'!BA230)+('Eng19'!BB230+'Eng19'!AM230+'Eng19'!M230) -> 3336.6488 | I230: =('Eng19'!N230+'Eng19'!AN230+'Eng19'!BC230)+('Eng19'!BD230+'Eng19'!AO230+'Eng19'!O230) -> 1649.6843 | J230: =SUM(D230:I230) -> 53570.327 | L230: =D230/J230 -> 0.35064545 | M230: =E230/J230 -> 0.32933026 | N230: =F230/J230 -> 0.1749216 | O230: =G230/J230 -> 0.052022559 | P230: =H230/J230 -> 0.062285392 | Q230: =I230/J230 -> 0.030794741 | S230: =L230-AK230 -> -0.21938962 | T230: =M230-AL230 -> 0.13146283 | U230: =N230-AM230 -> -0.01792086 | V230: =O230-AN230 -> 0.025848011 | W230: =P230-AO230 -> 0.053271138 | X230: =Q230-AP230 -> 0.026728498 | Z230: =LARGE(L230:Q230,1) -> 0.35064545 | AA230: =IF(L230=Z230,"Con",IF(M230=Z230,"Lab",IF(N230=Z230,"LD",IF(O230=Z230,"Grn",IF(P230=Z230,"Ref",IF(Q230=Z230,"Oth","OTH ")))))) -> Con | AB230: =Z230-AC230 -> 0.021315194 | AC230: =LARGE(L230:Q230,2) -> 0.32933026 | AD230: =IF(L230=AC230,"Con",IF(M230=AC230,"Lab",IF(N230=AC230,"LD",IF(O230=AC230,"Grn",IF(P230=AC230,"Ref",IF(Q230=AC230,"Oth","OTH ")))))) -> Lab | AF230: Con | AG230: =AA230 -> Con | AH230: =IF(AG230=AF230,"Hold","Gain from") -> Hold | AI230: =IF(AH230="Hold","",(AF230)) | AK230: 0.57003507 | AL230: 0.19786743 | AM230: 0.19284246 | AN230: 0.026174548 | AO230: 0.0090142539 | AP230: =100%-AO230-AN230-AM230-AL230-AK230 -> 0.004066243
A231: Chorley | B231: North West | C231: England | D231: =('Eng19'!D231+'Eng19'!AD231+'Eng19'!AS231)+('Eng19'!E231+'Eng19'!AE231+'Eng19'!AT231) -> 0 | E231: 0 | F231: =('Eng19'!H231+'Eng19'!AH231+'Eng19'!AW231)+('Eng19'!I231+'Eng19'!AI231+'Eng19'!AX231) -> 0 | G231: =('Eng19'!J231+'Eng19'!AJ231+'Eng19'!AY231)+('Eng19'!AZ231+'Eng19'!AK231+'Eng19'!K231) -> 3383.7739 | H231: =('Eng19'!L231+'Eng19'!AL231+'Eng19'!BA231)+('Eng19'!BB231+'Eng19'!AM231+'Eng19'!M231) -> 0 | I231: =('Eng19'!N231+'Eng19'!AN231+'Eng19'!BC231)+('Eng19'!BD231+'Eng19'!AO231+'Eng19'!O231)+'Eng19'!F231+'Eng19'!G231+'Eng19'!AF231+'Eng19'!AU231+'Eng19'!AV231 -> 34429.493 | J231: =SUM(D231:I231) -> 37813.266 | L231: =D231/J231 -> 0 | M231: =E231/J231 -> 0 | N231: =F231/J231 -> 0 | O231: =G231/J231 -> 0.08948642 | P231: =H231/J231 -> 0 | Q231: =I231/J231 -> 0.91051358 | S231: =L231-AK231 -> 0 | T231: =M231-AL231 -> 0 | U231: =N231-AM231 -> 0 | V231: =O231-AN231 -> 0 | W231: =P231-AO231 -> 0 | X231: =Q231-AP231 -> 0 | Z231: =LARGE(L231:Q231,1) -> 0.91051358 | AA231: =IF(L231=Z231,"Con",IF(M231=Z231,"Lab",IF(N231=Z231,"LD",IF(O231=Z231,"Grn",IF(P231=Z231,"Ref",IF(Q231=Z231,"Oth","OTH ")))))) -> Oth | AB231: =Z231-AC231 -> 0.82102716 | AC231: =LARGE(L231:Q231,2) -> 0.08948642 | AD231: =IF(L231=AC231,"Con",IF(M231=AC231,"Lab",IF(N231=AC231,"LD",IF(O231=AC231,"Grn",IF(P231=AC231,"Ref",IF(Q231=AC231,"Oth","OTH ")))))) -> Grn | AF231: Oth | AG231: =AA231 -> Oth | AH231: =IF(AG231=AF231,"Hold","Gain from") -> Hold | AI231: =IF(AH231="Hold","",(AF231)) | AK231: 0 | AL231: 0 | AM231: 0 | AN231: 0.08948642 | AO231: 0 | AP231: =100%-AO231-AN231-AM231-AL231-AK231 -> 0.91051358
A232: Congleton | B232: North West | C232: England | D232: =('Eng19'!D232+'Eng19'!AD232+'Eng19'!AS232)+('Eng19'!E232+'Eng19'!AE232+'Eng19'!AT232) -> 18017.97 | E232: =('Eng19'!F232+'Eng19'!AF232+'Eng19'!AU232)+'Eng19'!G232+'Eng19'!AG232+'Eng19'!AV232 -> 18506.646 | F232: =('Eng19'!H232+'Eng19'!AH232+'Eng19'!AW232)+('Eng19'!I232+'Eng19'!AI232+'Eng19'!AX232) -> 5128.8915 | G232: =('Eng19'!J232+'Eng19'!AJ232+'Eng19'!AY232)+('Eng19'!AZ232+'Eng19'!AK232+'Eng19'!K232) -> 2732.5739 | H232: =('Eng19'!L232+'Eng19'!AL232+'Eng19'!BA232)+('Eng19'!BB232+'Eng19'!AM232+'Eng19'!M232) -> 2655.3981 | I232: =('Eng19'!N232+'Eng19'!AN232+'Eng19'!BC232)+('Eng19'!BD232+'Eng19'!AO232+'Eng19'!O232) -> 1844.5309 | J232: =SUM(D232:I232) -> 48886.011 | L232: =D232/J232 -> 0.36857108 | M232: =E232/J232 -> 0.37856733 | N232: =F232/J232 -> 0.10491532 | O232: =G232/J232 -> 0.055896847 | P232: =H232/J232 -> 0.054318158 | Q232: =I232/J232 -> 0.037731262 | S232: =L232-AK232 -> -0.23094136 | T232: =M232-AL232 -> 0.13359908 | U232: =N232-AM232 -> -0.010168503 | V232: =O232-AN232 -> 0.026467447 | W232: =P232-AO232 -> 0.054318158 | X232: =Q232-AP232 -> 0.026725177 | Z232: =LARGE(L232:Q232,1) -> 0.37856733 | AA232: =IF(L232=Z232,"Con",IF(M232=Z232,"Lab",IF(N232=Z232,"LD",IF(O232=Z232,"Grn",IF(P232=Z232,"Ref",IF(Q232=Z232,"Oth","OTH ")))))) -> Lab | AB232: =Z232-AC232 -> 0.0099962415 | AC232: =LARGE(L232:Q232,2) -> 0.36857108 | AD232: =IF(L232=AC232,"Con",IF(M232=AC232,"Lab",IF(N232=AC232,"LD",IF(O232=AC232,"Grn",IF(P232=AC232,"Ref",IF(Q232=AC232,"Oth","OTH ")))))) -> Con | AF232: Con | AG232: =AA232 -> Lab | AH232: =IF(AG232=AF232,"Hold","Gain from") -> Gain from | AI232: =IF(AH232="Hold","",(AF232)) -> Con | AK232: 0.59951244 | AL232: 0.24496825 | AM232: 0.11508382 | AN232: 0.029429401 | AO232: 0 | AP232: =100%-AO232-AN232-AM232-AL232-AK232 -> 0.011006085
A233: Crewe and Nantwich | B233: North West | C233: England | D233: =('Eng19'!D233+'Eng19'!AD233+'Eng19'!AS233)+('Eng19'!E233+'Eng19'!AE233+'Eng19'!AT233) -> 16621.536 | E233: =('Eng19'!F233+'Eng19'!AF233+'Eng19'!AU233)+'Eng19'!G233+'Eng19'!AG233+'Eng19'!AV233 -> 25736.599 | F233: =('Eng19'!H233+'Eng19'!AH233+'Eng19'!AW233)+('Eng19'!I233+'Eng19'!AI233+'Eng19'!AX233) -> 1992.2911 | G233: =('Eng19'!J233+'Eng19'!AJ233+'Eng19'!AY233)+('Eng19'!AZ233+'Eng19'!AK233+'Eng19'!K233) -> 2027.2812 | H233: =('Eng19'!L233+'Eng19'!AL233+'Eng19'!BA233)+('Eng19'!BB233+'Eng19'!AM233+'Eng19'!M233) -> 3749.172 | I233: =('Eng19'!N233+'Eng19'!AN233+'Eng19'!BC233)+('Eng19'!BD233+'Eng19'!AO233+'Eng19'!O233) -> 1394.5455 | J233: =SUM(D233:I233) -> 51521.424 | L233: =D233/J233 -> 0.32261406 | M233: =E233/J233 -> 0.49953197 | N233: =F233/J233 -> 0.038669178 | O233: =G233/J233 -> 0.039348315 | P233: =H233/J233 -> 0.072769185 | Q233: =I233/J233 -> 0.027067293 | S233: =L233-AK233 -> -0.20051242 | T233: =M233-AL233 -> 0.11225487 | U233: =N233-AM233 -> -0.004383117 | V233: =O233-AN233 -> 0.022350787 | W233: =P233-AO233 -> 0.045989261 | X233: =Q233-AP233 -> 0.02430062 | Z233: =LARGE(L233:Q233,1) -> 0.49953197 | AA233: =IF(L233=Z233,"Con",IF(M233=Z233,"Lab",IF(N233=Z233,"LD",IF(O233=Z233,"Grn",IF(P233=Z233,"Ref",IF(Q233=Z233,"Oth","OTH ")))))) -> Lab | AB233: =Z233-AC233 -> 0.17691792 | AC233: =LARGE(L233:Q233,2) -> 0.32261406 | AD233: =IF(L233=AC233,"Con",IF(M233=AC233,"Lab",IF(N233=AC233,"LD",IF(O233=AC233,"Grn",IF(P233=AC233,"Ref",IF(Q233=AC233,"Oth","OTH ")))))) -> Con | AF233: Con | AG233: =AA233 -> Lab | AH233: =IF(AG233=AF233,"Hold","Gain from") -> Gain from | AI233: =IF(AH233="Hold","",(AF233)) -> Con | AK233: 0.52312647 | AL233: 0.38727711 | AM233: 0.043052295 | AN233: 0.016997529 | AO233: 0.026779924 | AP233: =100%-AO233-AN233-AM233-AL233-AK233 -> 0.0027666732
A234: Ellesmere Port and Bromborough | B234: North West | C234: England | D234: =('Eng19'!D234+'Eng19'!AD234+'Eng19'!AS234)+('Eng19'!E234+'Eng19'!AE234+'Eng19'!AT234) -> 10078.203 | E234: =('Eng19'!F234+'Eng19'!AF234+'Eng19'!AU234)+'Eng19'!G234+'Eng19'!AG234+'Eng19'!AV234 -> 34269.112 | F234: =('Eng19'!H234+'Eng19'!AH234+'Eng19'!AW234)+('Eng19'!I234+'Eng19'!AI234+'Eng19'!AX234) -> 1224.8821 | G234: =('Eng19'!J234+'Eng19'!AJ234+'Eng19'!AY234)+('Eng19'!AZ234+'Eng19'!AK234+'Eng19'!K234) -> 1474.2183 | H234: =('Eng19'!L234+'Eng19'!AL234+'Eng19'!BA234)+('Eng19'!BB234+'Eng19'!AM234+'Eng19'!M234) -> 3729.3731 | I234: =('Eng19'!N234+'Eng19'!AN234+'Eng19'!BC234)+('Eng19'!BD234+'Eng19'!AO234+'Eng19'!O234) -> 844.43994 | J234: =SUM(D234:I234) -> 51620.229 | L234: =D234/J234 -> 0.19523748 | M234: =E234/J234 -> 0.66386982 | N234: =F234/J234 -> 0.023728724 | O234: =G234/J234 -> 0.028558925 | P234: =H234/J234 -> 0.072246349 | Q234: =I234/J234 -> 0.016358702 | S234: =L234-AK234 -> -0.11432419 | T234: =M234-AL234 -> 0.060660826 | U234: =N234-AM234 -> -0.0029590279 | V234: =O234-AN234 -> 0.013304568 | W234: =P234-AO234 -> 0.02695912 | X234: =Q234-AP234 -> 0.016358702 | Z234: =LARGE(L234:Q234,1) -> 0.66386982 | AA234: =IF(L234=Z234,"Con",IF(M234=Z234,"Lab",IF(N234=Z234,"LD",IF(O234=Z234,"Grn",IF(P234=Z234,"Ref",IF(Q234=Z234,"Oth","OTH ")))))) -> Lab | AB234: =Z234-AC234 -> 0.46863234 | AC234: =LARGE(L234:Q234,2) -> 0.19523748 | AD234: =IF(L234=AC234,"Con",IF(M234=AC234,"Lab",IF(N234=AC234,"LD",IF(O234=AC234,"Grn",IF(P234=AC234,"Ref",IF(Q234=AC234,"Oth","OTH ")))))) -> Con | AF234: Lab | AG234: =AA234 -> Lab | AH234: =IF(AG234=AF234,"Hold","Gain from") -> Hold | AI234: =IF(AH234="Hold","",(AF234)) | AK234: 0.30956167 | AL234: 0.60320899 | AM234: 0.026687751 | AN234: 0.015254357 | AO234: 0.045287229 | AP234: =100%-AO234-AN234-AM234-AL234-AK234 -> 0
A235: Fylde | B235: North West | C235: England | D235: =('Eng19'!D235+'Eng19'!AD235+'Eng19'!AS235)+('Eng19'!E235+'Eng19'!AE235+'Eng19'!AT235) -> 19575.176 | E235: =('Eng19'!F235+'Eng19'!AF235+'Eng19'!AU235)+'Eng19'!G235+'Eng19'!AG235+'Eng19'!AV235 -> 19431.844 | F235: =('Eng19'!H235+'Eng19'!AH235+'Eng19'!AW235)+('Eng19'!I235+'Eng19'!AI235+'Eng19'!AX235) -> 3836.7502 | G235: =('Eng19'!J235+'Eng19'!AJ235+'Eng19'!AY235)+('Eng19'!AZ235+'Eng19'!AK235+'Eng19'!K235) -> 3165.4366 | H235: =('Eng19'!L235+'Eng19'!AL235+'Eng19'!BA235)+('Eng19'!BB235+'Eng19'!AM235+'Eng19'!M235) -> 2846.9991 | I235: =('Eng19'!N235+'Eng19'!AN235+'Eng19'!BC235)+('Eng19'!BD235+'Eng19'!AO235+'Eng19'!O235) -> 2294.8742 | J235: =SUM(D235:I235) -> 51151.08 | L235: =D235/J235 -> 0.38269331 | M235: =E235/J235 -> 0.37989117 | N235: =F235/J235 -> 0.075008197 | O235: =G235/J235 -> 0.061884063 | P235: =H235/J235 -> 0.055658632 | Q235: =I235/J235 -> 0.044864629 | S235: =L235-AK235 -> -0.23979014 | T235: =M235-AL235 -> 0.13689606 | U235: =N235-AM235 -> -0.0072698731 | V235: =O235-AN235 -> 0.027120615 | W235: =P235-AO235 -> 0.055658632 | X235: =Q235-AP235 -> 0.027384706 | Z235: =LARGE(L235:Q235,1) -> 0.38269331 | AA235: =IF(L235=Z235,"Con",IF(M235=Z235,"Lab",IF(N235=Z235,"LD",IF(O235=Z235,"Grn",IF(P235=Z235,"Ref",IF(Q235=Z235,"Oth","OTH ")))))) -> Con | AB235: =Z235-AC235 -> 0.0028021385 | AC235: =LARGE(L235:Q235,2) -> 0.37989117 | AD235: =IF(L235=AC235,"Con",IF(M235=AC235,"Lab",IF(N235=AC235,"LD",IF(O235=AC235,"Grn",IF(P235=AC235,"Ref",IF(Q235=AC235,"Oth","OTH ")))))) -> Lab | AF235: Con | AG235: =AA235 -> Con | AH235: =IF(AG235=AF235,"Hold","Gain from") -> Hold | AI235: =IF(AH235="Hold","",(AF235)) | AK235: 0.62248345 | AL235: 0.24299511 | AM235: 0.08227807 | AN235: 0.034763448 | AO235: 0 | AP235: =100%-AO235-AN235-AM235-AL235-AK235 -> 0.017479923
A236: Gorton and Denton | B236: North West | C236: England | D236: =('Eng19'!D236+'Eng19'!AD236+'Eng19'!AS236)+('Eng19'!E236+'Eng19'!AE236+'Eng19'!AT236) -> 5679.0221 | E236: =('Eng19'!F236+'Eng19'!AF236+'Eng19'!AU236)+'Eng19'!G236+'Eng19'!AG236+'Eng19'!AV236 -> 32906.554 | F236: =('Eng19'!H236+'Eng19'!AH236+'Eng19'!AW236)+('Eng19'!I236+'Eng19'!AI236+'Eng19'!AX236) -> 1484.6239 | G236: =('Eng19'!J236+'Eng19'!AJ236+'Eng19'!AY236)+('Eng19'!AZ236+'Eng19'!AK236+'Eng19'!K236) -> 1422.5106 | H236: =('Eng19'!L236+'Eng19'!AL236+'Eng19'!BA236)+('Eng19'!BB236+'Eng19'!AM236+'Eng19'!M236) -> 3789.3122 | I236: =('Eng19'!N236+'Eng19'!AN236+'Eng19'!BC236)+('Eng19'!BD236+'Eng19'!AO236+'Eng19'!O236) -> 713.86382 | J236: =SUM(D236:I236) -> 45995.887 | L236: =D236/J236 -> 0.12346804 | M236: =E236/J236 -> 0.71542384 | N236: =F236/J236 -> 0.032277318 | O236: =G236/J236 -> 0.03092691 | P236: =H236/J236 -> 0.08238372 | Q236: =I236/J236 -> 0.015520167 | S236: =L236-AK236 -> -0.061226532 | T236: =M236-AL236 -> 0.029408472 | U236: =N236-AM236 -> -0.0044479489 | V236: =O236-AN236 -> 0.0080124903 | W236: =P236-AO236 -> 0.015738813 | X236: =Q236-AP236 -> 0.012514706 | Z236: =LARGE(L236:Q236,1) -> 0.71542384 | AA236: =IF(L236=Z236,"Con",IF(M236=Z236,"Lab",IF(N236=Z236,"LD",IF(O236=Z236,"Grn",IF(P236=Z236,"Ref",IF(Q236=Z236,"Oth","OTH ")))))) -> Lab | AB236: =Z236-AC236 -> 0.5919558 | AC236: =LARGE(L236:Q236,2) -> 0.12346804 | AD236: =IF(L236=AC236,"Con",IF(M236=AC236,"Lab",IF(N236=AC236,"LD",IF(O236=AC236,"Grn",IF(P236=AC236,"Ref",IF(Q236=AC236,"Oth","OTH ")))))) -> Con | AF236: Lab | AG236: =AA236 -> Lab | AH236: =IF(AG236=AF236,"Hold","Gain from") -> Hold | AI236: =IF(AH236="Hold","",(AF236)) | AK236: 0.18469457 | AL236: 0.68601537 | AM236: 0.036725267 | AN236: 0.02291442 | AO236: 0.066644907 | AP236: =100%-AO236-AN236-AM236-AL236-AK236 -> 0.0030054609
A237: Hazel Grove | B237: North West | C237: England | D237: =('Eng19'!D237+'Eng19'!AD237+'Eng19'!AS237)+('Eng19'!E237+'Eng19'!AE237+'Eng19'!AT237) -> 14974.021 | E237: =('Eng19'!F237+'Eng19'!AF237+'Eng19'!AU237)+'Eng19'!G237+'Eng19'!AG237+'Eng19'!AV237 -> 15363.396 | F237: =('Eng19'!H237+'Eng19'!AH237+'Eng19'!AW237)+('Eng19'!I237+'Eng19'!AI237+'Eng19'!AX237) -> 16966.23 | G237: =('Eng19'!J237+'Eng19'!AJ237+'Eng19'!AY237)+('Eng19'!AZ237+'Eng19'!AK237+'Eng19'!K237) -> 1330.7629 | H237: =('Eng19'!L237+'Eng19'!AL237+'Eng19'!BA237)+('Eng19'!BB237+'Eng19'!AM237+'Eng19'!M237) -> 2672.8337 | I237: =('Eng19'!N237+'Eng19'!AN237+'Eng19'!BC237)+('Eng19'!BD237+'Eng19'!AO237+'Eng19'!O237) -> 1162.5871 | J237: =SUM(D237:I237) -> 52469.831 | L237: =D237/J237 -> 0.28538345 | M237: =E237/J237 -> 0.29280437 | N237: =F237/J237 -> 0.3233521 | O237: =G237/J237 -> 0.025362439 | P237: =H237/J237 -> 0.050940391 | Q237: =I237/J237 -> 0.022157249 | S237: =L237-AK237 -> -0.17818034 | T237: =M237-AL237 -> 0.10913539 | U237: =N237-AM237 -> -0.018885708 | V237: =O237-AN237 -> 0.021547696 | W237: =P237-AO237 -> 0.044225706 | X237: =Q237-AP237 -> 0.022157249 | Z237: =LARGE(L237:Q237,1) -> 0.3233521 | AA237: =IF(L237=Z237,"Con",IF(M237=Z237,"Lab",IF(N237=Z237,"LD",IF(O237=Z237,"Grn",IF(P237=Z237,"Ref",IF(Q237=Z237,"Oth","OTH ")))))) -> LD | AB237: =Z237-AC237 -> 0.030547733 | AC237: =LARGE(L237:Q237,2) -> 0.29280437 | AD237: =IF(L237=AC237,"Con",IF(M237=AC237,"Lab",IF(N237=AC237,"LD",IF(O237=AC237,"Grn",IF(P237=AC237,"Ref",IF(Q237=AC237,"Oth","OTH ")))))) -> Lab | AF237: Con | AG237: =AA237 -> LD | AH237: =IF(AG237=AF237,"Hold","Gain from") -> Gain from | AI237: =IF(AH237="Hold","",(AF237)) -> Con | AK237: 0.46356378 | AL237: 0.18366898 | AM237: 0.34223781 | AN237: 0.0038147422 | AO237: 0.0067146848 | AP237: =100%-AO237-AN237-AM237-AL237-AK237 -> 4.9960036e-16
A238: Heywood | B238: North West | C238: England | D238: =('Eng19'!D238+'Eng19'!AD238+'Eng19'!AS238)+('Eng19'!E238+'Eng19'!AE238+'Eng19'!AT238) -> 11396.532 | E238: =('Eng19'!F238+'Eng19'!AF238+'Eng19'!AU238)+'Eng19'!G238+'Eng19'!AG238+'Eng19'!AV238 -> 23133.845 | F238: =('Eng19'!H238+'Eng19'!AH238+'Eng19'!AW238)+('Eng19'!I238+'Eng19'!AI238+'Eng19'!AX238) -> 1800.7043 | G238: =('Eng19'!J238+'Eng19'!AJ238+'Eng19'!AY238)+('Eng19'!AZ238+'Eng19'!AK238+'Eng19'!K238) -> 1900.289 | H238: =('Eng19'!L238+'Eng19'!AL238+'Eng19'!BA238)+('Eng19'!BB238+'Eng19'!AM238+'Eng19'!M238) -> 5235.8018 | I238: =('Eng19'!N238+'Eng19'!AN238+'Eng19'!BC238)+('Eng19'!BD238+'Eng19'!AO238+'Eng19'!O238) -> 1017.5138 | J238: =SUM(D238:I238) -> 44484.686 | L238: =D238/J238 -> 0.25619001 | M238: =E238/J238 -> 0.52004065 | N238: =F238/J238 -> 0.040479194 | O238: =G238/J238 -> 0.042717824 | P238: =H238/J238 -> 0.11769897 | Q238: =I238/J238 -> 0.022873351 | S238: =L238-AK238 -> -0.15027152 | T238: =M238-AL238 -> 0.083293776 | U238: =N238-AM238 -> -0.0060206067 | V238: =O238-AN238 -> 0.016886973 | W238: =P238-AO238 -> 0.033238025 | X238: =Q238-AP238 -> 0.022873351 | Z238: =LARGE(L238:Q238,1) -> 0.52004065 | AA238: =IF(L238=Z238,"Con",IF(M238=Z238,"Lab",IF(N238=Z238,"LD",IF(O238=Z238,"Grn",IF(P238=Z238,"Ref",IF(Q238=Z238,"Oth","OTH ")))))) -> Lab | AB238: =Z238-AC238 -> 0.26385064 | AC238: =LARGE(L238:Q238,2) -> 0.25619001 | AD238: =IF(L238=AC238,"Con",IF(M238=AC238,"Lab",IF(N238=AC238,"LD",IF(O238=AC238,"Grn",IF(P238=AC238,"Ref",IF(Q238=AC238,"Oth","OTH ")))))) -> Con | AF238: Lab | AG238: =AA238 -> Lab | AH238: =IF(AG238=AF238,"Hold","Gain from") -> Hold | AI238: =IF(AH238="Hold","",(AF238)) | AK238: 0.40646153 | AL238: 0.43674688 | AM238: 0.046499801 | AN238: 0.025830851 | AO238: 0.084460947 | AP238: =100%-AO238-AN238-AM238-AL238-AK238 -> -4.4408921e-16
A239: Hyndburn | B239: North West | C239: England | D239: =('Eng19'!D239+'Eng19'!AD239+'Eng19'!AS239)+('Eng19'!E239+'Eng19'!AE239+'Eng19'!AT239) -> 13112.855 | E239: =('Eng19'!F239+'Eng19'!AF239+'Eng19'!AU239)+'Eng19'!G239+'Eng19'!AG239+'Eng19'!AV239 -> 22544.057 | F239: =('Eng19'!H239+'Eng19'!AH239+'Eng19'!AW239)+('Eng19'!I239+'Eng19'!AI239+'Eng19'!AX239) -> 1117.6739 | G239: =('Eng19'!J239+'Eng19'!AJ239+'Eng19'!AY239)+('Eng19'!AZ239+'Eng19'!AK239+'Eng19'!K239) -> 1758.8254 | H239: =('Eng19'!L239+'Eng19'!AL239+'Eng19'!BA239)+('Eng19'!BB239+'Eng19'!AM239+'Eng19'!M239) -> 4031.41 | I239: =('Eng19'!N239+'Eng19'!AN239+'Eng19'!BC239)+('Eng19'!BD239+'Eng19'!AO239+'Eng19'!O239) -> 1046.9095 | J239: =SUM(D239:I239) -> 43611.731 | L239: =D239/J239 -> 0.30067266 | M239: =E239/J239 -> 0.51692645 | N239: =F239/J239 -> 0.025627827 | O239: =G239/J239 -> 0.040329181 | P239: =H239/J239 -> 0.092438659 | Q239: =I239/J239 -> 0.024005227 | S239: =L239-AK239 -> -0.1842823 | T239: =M239-AL239 -> 0.1015607 | U239: =N239-AM239 -> -0.0032831767 | V239: =O239-AN239 -> 0.020402756 | W239: =P239-AO239 -> 0.041596797 | X239: =Q239-AP239 -> 0.024005227 | Z239: =LARGE(L239:Q239,1) -> 0.51692645 | AA239: =IF(L239=Z239,"Con",IF(M239=Z239,"Lab",IF(N239=Z239,"LD",IF(O239=Z239,"Grn",IF(P239=Z239,"Ref",IF(Q239=Z239,"Oth","OTH ")))))) -> Lab | AB239: =Z239-AC239 -> 0.21625378 | AC239: =LARGE(L239:Q239,2) -> 0.30067266 | AD239: =IF(L239=AC239,"Con",IF(M239=AC239,"Lab",IF(N239=AC239,"LD",IF(O239=AC239,"Grn",IF(P239=AC239,"Ref",IF(Q239=AC239,"Oth","OTH ")))))) -> Con | AF239: Con | AG239: =AA239 -> Lab | AH239: =IF(AG239=AF239,"Hold","Gain from") -> Gain from | AI239: =IF(AH239="Hold","",(AF239)) -> Con | AK239: 0.48495496 | AL239: 0.41536575 | AM239: 0.028911003 | AN239: 0.019926426 | AO239: 0.050841862 | AP239: =100%-AO239-AN239-AM239-AL239-AK239 -> 0
A240: Knowsley | B240: North West | C240: England | D240: =('Eng19'!D240+'Eng19'!AD240+'Eng19'!AS240)+('Eng19'!E240+'Eng19'!AE240+'Eng19'!AT240) -> 3080.8796 | E240: =('Eng19'!F240+'Eng19'!AF240+'Eng19'!AU240)+'Eng19'!G240+'Eng19'!AG240+'Eng19'!AV240 -> 38370.583 | F240: =('Eng19'!H240+'Eng19'!AH240+'Eng19'!AW240)+('Eng19'!I240+'Eng19'!AI240+'Eng19'!AX240) -> 903.62767 | G240: =('Eng19'!J240+'Eng19'!AJ240+'Eng19'!AY240)+('Eng19'!AZ240+'Eng19'!AK240+'Eng19'!K240) -> 1334.3661 | H240: =('Eng19'!L240+'Eng19'!AL240+'Eng19'!BA240)+('Eng19'!BB240+'Eng19'!AM240+'Eng19'!M240) -> 3394.1671 | I240: =('Eng19'!N240+'Eng19'!AN240+'Eng19'!BC240)+('Eng19'!BD240+'Eng19'!AO240+'Eng19'!O240) -> 745.05948 | J240: =SUM(D240:I240) -> 47828.682 | L240: =D240/J240 -> 0.064414895 | M240: =E240/J240 -> 0.80225046 | N240: =F240/J240 -> 0.018893008 | O240: =G240/J240 -> 0.027898867 | P240: =H240/J240 -> 0.070965097 | Q240: =I240/J240 -> 0.015577671 | S240: =L240-AK240 -> -0.021531434 | T240: =M240-AL240 -> 0.0050243109 | U240: =N240-AM240 -> -0.0025687947 | V240: =O240-AN240 -> 0.0038034374 | W240: =P240-AO240 -> 0.0073176787 | X240: =Q240-AP240 -> 0.0079548015 | Z240: =LARGE(L240:Q240,1) -> 0.80225046 | AA240: =IF(L240=Z240,"Con",IF(M240=Z240,"Lab",IF(N240=Z240,"LD",IF(O240=Z240,"Grn",IF(P240=Z240,"Ref",IF(Q240=Z240,"Oth","OTH ")))))) -> Lab | AB240: =Z240-AC240 -> 0.73128537 | AC240: =LARGE(L240:Q240,2) -> 0.070965097 | AD240: =IF(L240=AC240,"Con",IF(M240=AC240,"Lab",IF(N240=AC240,"LD",IF(O240=AC240,"Grn",IF(P240=AC240,"Ref",IF(Q240=AC240,"Oth","OTH ")))))) -> Ref | AF240: Lab | AG240: =AA240 -> Lab | AH240: =IF(AG240=AF240,"Hold","Gain from") -> Hold | AI240: =IF(AH240="Hold","",(AF240)) | AK240: 0.085946329 | AL240: 0.79722615 | AM240: 0.021461803 | AN240: 0.02409543 | AO240: 0.063647418 | AP240: =100%-AO240-AN240-AM240-AL240-AK240 -> 0.0076228695
A241: Lancaster and Wyre | B241: North West | C241: England | D241: =('Eng19'!D241+'Eng19'!AD241+'Eng19'!AS241)+('Eng19'!E241+'Eng19'!AE241+'Eng19'!AT241) -> 13844.563 | E241: =('Eng19'!F241+'Eng19'!AF241+'Eng19'!AU241)+'Eng19'!G241+'Eng19'!AG241+'Eng19'!AV241 -> 26727.306 | F241: =('Eng19'!H241+'Eng19'!AH241+'Eng19'!AW241)+('Eng19'!I241+'Eng19'!AI241+'Eng19'!AX241) -> 2462.2538 | G241: =('Eng19'!J241+'Eng19'!AJ241+'Eng19'!AY241)+('Eng19'!AZ241+'Eng19'!AK241+'Eng19'!K241) -> 2636.7966 | H241: =('Eng19'!L241+'Eng19'!AL241+'Eng19'!BA241)+('Eng19'!BB241+'Eng19'!AM241+'Eng19'!M241) -> 2658.3227 | I241: =('Eng19'!N241+'Eng19'!AN241+'Eng19'!BC241)+('Eng19'!BD241+'Eng19'!AO241+'Eng19'!O241) -> 1192.4722 | J241: =SUM(D241:I241) -> 49521.715 | L241: =D241/J241 -> 0.27956551 | M241: =E241/J241 -> 0.53970881 | N241: =F241/J241 -> 0.049720689 | O241: =G241/J241 -> 0.053245261 | P241: =H241/J241 -> 0.053679941 | Q241: =I241/J241 -> 0.024079784 | S241: =L241-AK241 -> -0.17384714 | T241: =M241-AL241 -> 0.098425286 | U241: =N241-AM241 -> -0.005222451 | V241: =O241-AN241 -> 0.019510463 | W241: =P241-AO241 -> 0.040451864 | X241: =Q241-AP241 -> 0.020681981 | Z241: =LARGE(L241:Q241,1) -> 0.53970881 | AA241: =IF(L241=Z241,"Con",IF(M241=Z241,"Lab",IF(N241=Z241,"LD",IF(O241=Z241,"Grn",IF(P241=Z241,"Ref",IF(Q241=Z241,"Oth","OTH ")))))) -> Lab | AB241: =Z241-AC241 -> 0.2601433 | AC241: =LARGE(L241:Q241,2) -> 0.27956551 | AD241: =IF(L241=AC241,"Con",IF(M241=AC241,"Lab",IF(N241=AC241,"LD",IF(O241=AC241,"Grn",IF(P241=AC241,"Ref",IF(Q241=AC241,"Oth","OTH ")))))) -> Con | AF241: Con | AG241: =AA241 -> Lab | AH241: =IF(AG241=AF241,"Hold","Gain from") -> Gain from | AI241: =IF(AH241="Hold","",(AF241)) -> Con | AK241: 0.45341265 | AL241: 0.44128353 | AM241: 0.05494314 | AN241: 0.033734797 | AO241: 0.013228077 | AP241: =100%-AO241-AN241-AM241-AL241-AK241 -> 0.0033978032
A242: Leigh and Atherton | B242: North West | C242: England | D242: =('Eng19'!D242+'Eng19'!AD242+'Eng19'!AS242)+('Eng19'!E242+'Eng19'!AE242+'Eng19'!AT242) -> 13263.23 | E242: =('Eng19'!F242+'Eng19'!AF242+'Eng19'!AU242)+'Eng19'!G242+'Eng19'!AG242+'Eng19'!AV242 -> 25640.231 | F242: =('Eng19'!H242+'Eng19'!AH242+'Eng19'!AW242)+('Eng19'!I242+'Eng19'!AI242+'Eng19'!AX242) -> 1723.8536 | G242: =('Eng19'!J242+'Eng19'!AJ242+'Eng19'!AY242)+('Eng19'!AZ242+'Eng19'!AK242+'Eng19'!K242) -> 1016.6098 | H242: =('Eng19'!L242+'Eng19'!AL242+'Eng19'!BA242)+('Eng19'!BB242+'Eng19'!AM242+'Eng19'!M242) -> 4732.2493 | I242: =('Eng19'!N242+'Eng19'!AN242+'Eng19'!BC242)+('Eng19'!BD242+'Eng19'!AO242+'Eng19'!O242) -> 1973.239 | J242: =SUM(D242:I242) -> 48349.413 | L242: =D242/J242 -> 0.2743204 | M242: =E242/J242 -> 0.53031111 | N242: =F242/J242 -> 0.035654075 | O242: =G242/J242 -> 0.02102631 | P242: =H242/J242 -> 0.097876045 | Q242: =I242/J242 -> 0.040812058 | S242: =L242-AK242 -> -0.16555469 | T242: =M242-AL242 -> 0.091421336 | U242: =N242-AM242 -> -0.0047754799 | V242: =O242-AN242 -> 0.019187739 | W242: =P242-AO242 -> 0.037531476 | X242: =Q242-AP242 -> 0.022189622 | Z242: =LARGE(L242:Q242,1) -> 0.53031111 | AA242: =IF(L242=Z242,"Con",IF(M242=Z242,"Lab",IF(N242=Z242,"LD",IF(O242=Z242,"Grn",IF(P242=Z242,"Ref",IF(Q242=Z242,"Oth","OTH ")))))) -> Lab | AB242: =Z242-AC242 -> 0.25599072 | AC242: =LARGE(L242:Q242,2) -> 0.2743204 | AD242: =IF(L242=AC242,"Con",IF(M242=AC242,"Lab",IF(N242=AC242,"LD",IF(O242=AC242,"Grn",IF(P242=AC242,"Ref",IF(Q242=AC242,"Oth","OTH ")))))) -> Con | AF242: Con | AG242: =AA242 -> Lab | AH242: =IF(AG242=AF242,"Hold","Gain from") -> Gain from | AI242: =IF(AH242="Hold","",(AF242)) -> Con | AK242: 0.43987509 | AL242: 0.43888978 | AM242: 0.040429555 | AN242: 0.0018385713 | AO242: 0.060344569 | AP242: =100%-AO242-AN242-AM242-AL242-AK242 -> 0.018622436
A243: Liverpool Garston | B243: North West | C243: England | D243: =('Eng19'!D243+'Eng19'!AD243+'Eng19'!AS243)+('Eng19'!E243+'Eng19'!AE243+'Eng19'!AT243) -> 4615.5313 | E243: =('Eng19'!F243+'Eng19'!AF243+'Eng19'!AU243)+'Eng19'!G243+'Eng19'!AG243+'Eng19'!AV243 -> 36005.542 | F243: =('Eng19'!H243+'Eng19'!AH243+'Eng19'!AW243)+('Eng19'!I243+'Eng19'!AI243+'Eng19'!AX243) -> 4519.653 | G243: =('Eng19'!J243+'Eng19'!AJ243+'Eng19'!AY243)+('Eng19'!AZ243+'Eng19'!AK243+'Eng19'!K243) -> 1619.2669 | H243: =('Eng19'!L243+'Eng19'!AL243+'Eng19'!BA243)+('Eng19'!BB243+'Eng19'!AM243+'Eng19'!M243) -> 3413.019 | I243: =('Eng19'!N243+'Eng19'!AN243+'Eng19'!BC243)+('Eng19'!BD243+'Eng19'!AO243+'Eng19'!O243) -> 850.23002 | J243: =SUM(D243:I243) -> 51023.243 | L243: =D243/J243 -> 0.090459388 | M243: =E243/J243 -> 0.70566943 | N243: =F243/J243 -> 0.088580278 | O243: =G243/J243 -> 0.031735869 | P243: =H243/J243 -> 0.066891455 | Q243: =I243/J243 -> 0.016663583 | S243: =L243-AK243 -> -0.042050181 | T243: =M243-AL243 -> 0.023949301 | U243: =N243-AM243 -> -0.011506415 | V243: =O243-AN243 -> 0.0064257547 | W243: =P243-AO243 -> 0.013134393 | X243: =Q243-AP243 -> 0.010047147 | Z243: =LARGE(L243:Q243,1) -> 0.70566943 | AA243: =IF(L243=Z243,"Con",IF(M243=Z243,"Lab",IF(N243=Z243,"LD",IF(O243=Z243,"Grn",IF(P243=Z243,"Ref",IF(Q243=Z243,"Oth","OTH ")))))) -> Lab | AB243: =Z243-AC243 -> 0.61521004 | AC243: =LARGE(L243:Q243,2) -> 0.090459388 | AD243: =IF(L243=AC243,"Con",IF(M243=AC243,"Lab",IF(N243=AC243,"LD",IF(O243=AC243,"Grn",IF(P243=AC243,"Ref",IF(Q243=AC243,"Oth","OTH ")))))) -> Con | AF243: Lab | AG243: =AA243 -> Lab | AH243: =IF(AG243=AF243,"Hold","Gain from") -> Hold | AI243: =IF(AH243="Hold","",(AF243)) | AK243: 0.13250957 | AL243: 0.68172013 | AM243: 0.10008669 | AN243: 0.025310114 | AO243: 0.053757062 | AP243: =100%-AO243-AN243-AM243-AL243-AK243 -> 0.0066164357
... A545: York Outer | B545: Yorkshire and the Humber | C545: England | D545: =('Eng19'!D545+'Eng19'!AD545+'Eng19'!AS545)+('Eng19'!E545+'Eng19'!AE545+'Eng19'!AT545) -> 16695.68 | E545: =('Eng19'!F545+'Eng19'!AF545+'Eng19'!AU545)+'Eng19'!G545+'Eng19'!AG545+'Eng19'!AV545 -> 22846.645 | F545: =('Eng19'!H545+'Eng19'!AH545+'Eng19'!AW545)+('Eng19'!I545+'Eng19'!AI545+'Eng19'!AX545) -> 8892.5517 | G545: =('Eng19'!J545+'Eng19'!AJ545+'Eng19'!AY545)+('Eng19'!AZ545+'Eng19'!AK545+'Eng19'!K545) -> 1265.7662 | H545: =('Eng19'!L545+'Eng19'!AL545+'Eng19'!BA545)+('Eng19'!BB545+'Eng19'!AM545+'Eng19'!M545) -> 2557.821 | I545: =('Eng19'!N545+'Eng19'!AN545+'Eng19'!BC545)+('Eng19'!BD545+'Eng19'!AO545+'Eng19'!O545) -> 1944.7194 | J545: =SUM(D545:I545) -> 54203.183 | L545: =D545/J545 -> 0.30802028 | M545: =E545/J545 -> 0.42150006 | N545: =F545/J545 -> 0.16405958 | O545: =G545/J545 -> 0.023352249 | P545: =H545/J545 -> 0.047189499 | Q545: =I545/J545 -> 0.035878324 | S545: =L545-AK545 -> -0.19299164 | T545: =M545-AL545 -> 0.11574961 | U545: =N545-AM545 -> -0.015913637 | V545: =O545-AN545 -> 0.022931842 | W545: =P545-AO545 -> 0.04706222 | X545: =Q545-AP545 -> 0.0231616 | Z545: =LARGE(L545:Q545,1) -> 0.42150006 | AA545: =IF(L545=Z545,"Con",IF(M545=Z545,"Lab",IF(N545=Z545,"LD",IF(O545=Z545,"Grn",IF(P545=Z545,"Ref",IF(Q545=Z545,"Oth","OTH ")))))) -> Lab | AB545: =Z545-AC545 -> 0.11347978 | AC545: =LARGE(L545:Q545,2) -> 0.30802028 | AD545: =IF(L545=AC545,"Con",IF(M545=AC545,"Lab",IF(N545=AC545,"LD",IF(O545=AC545,"Grn",IF(P545=AC545,"Ref",IF(Q545=AC545,"Oth","OTH ")))))) -> Con | AF545: Con | AG545: =AA545 -> Lab | AH545: =IF(AG545=AF545,"Hold","Gain from") -> Gain from | AI545: =IF(AH545="Hold","",(AF545)) -> Con | AK545: 0.50101192 | AL545: 0.30575045 | AM545: 0.17997322 | AN545: 0.0004204075 | AO545: 0.00012727858 | AP545: =100%-AO545-AN545-AM545-AL545-AK545 -> 0.012716725
K546: 2024 | L546: =COUNTIF(AA3:AA545,"Con") -> 160 | M546: =COUNTIF(AA3:AA545,"Lab") -> 357 | N546: =COUNTIF(AA3:AA545,"LD") -> 24 | O546: =COUNTIF(AA3:AA545,"Grn") -> 1 | P546: =COUNTIF(AA3:AA545,"Ref") -> 0 | Q546: =COUNTIF(AA3:AA545,"Oth") -> 1
K548: 2019 | L548: =COUNTIF(AF3:AF545,"Con") -> 355 | M548: =COUNTIF(AF3:AF545,"Lab") -> 180 | N548: =COUNTIF(AF3:AF545,"LD") -> 6 | O548: =COUNTIF(AF3:AF545,"Grn") -> 1 | P548: =COUNTIF(AF3:AF545,"Ref") -> 0 | Q548: =COUNTIF(AF3:AF545,"Oth") -> 1

Sheet Scot19
D1: Calculated by SEAT | S1: Ratio lost | AH1: Votes lost | AY1: Votes GAINED
A2: Constituency | B2: Region | C2: Nation | D2: con_weak | E2: con_strong | F2: lab_weak | G2: lab_strong | H2: ld_weak | I2: ld_strong | J2: grn_weak | K2: grn_strong | L2: ref_weak | M2: ref_strong | N2: snp_weak | O2: snp_strong | P2: oth_weak | Q2: oth_strong | R2: TOTAL | S2: con_weak | T2: con_strong | U2: lab_weak | V2: lab_strong | W2: ld_weak | X2: ld_strong | Y2: grn_weak | Z2: grn_strong | AA2: ref_weak | AB2: ref_strong | AC2: snp_weak | AD2: snp_strong | AE2: oth_weak | AF2: oth_strong | AH2: con_weak | AI2: con_strong | AJ2: lab_weak | AK2: lab_strong | AL2: ld_weak | AM2: ld_strong | AN2: grn_weak | AO2: grn_strong | AP2: ref_weak | AQ2: ref_strong | AR2: snp_weak | AS2: snp_strong | AT2: oth_weak | AU2: oth_strong | AV2: Total weak | AW2: Total strong | AY2: con_weak | AZ2: con_strong | BA2: lab_weak | BB2: lab_strong | BC2: ld_weak | BD2: ld_strong | BE2: grn_weak | BF2: grn_strong | BG2: ref_weak | BH2: ref_strong | BI2: snp_weak | BJ2: snp_strong | BK2: oth_weak | BL2: oth_strong
A3: Aberdeen North | B3: Scotland | C3: Scotland | D3: 8822.667 | E3: 4968.7568 | F3: 5063.4703 | G3: 0 | H3: 3930.6609 | I3: 0 | J3: 592.21392 | K3: 0 | L3: 272.90794 | M3: 0 | N3: 8822.667 | O3: 11575.949 | P3: 52.398325 | Q3: 0 | R3: =SUM(D3:Q3) -> 44101.691 | S3: ='Projection - Scotland'!B15 -> -0.4162658 | T3: ='Projection - Scotland'!B16 -> 0 | U3: ='Projection - Scotland'!C15 -> 0 | V3: ='Projection - Scotland'!C16 -> 0 | W3: ='Projection - Scotland'!D15 -> -0.17758499 | X3: ='Projection - Scotland'!D16 -> 0 | Y3: ='Projection - Scotland'!F15 -> 0 | Z3: ='Projection - Scotland'!F16 -> 0 | AA3: ='Projection - Scotland'!G15 -> 0 | AB3: ='Projection - Scotland'!G16 -> 0 | AC3: ='Projection - Scotland'!E15 -> -0.322953 | AD3: ='Projection - Scotland'!E16 -> 0 | AE3: ='Projection - Scotland'!H15 -> 0 | AF3: ='Projection - Scotland'!H16 -> 0 | AH3: =S3*D3 -> -3672.5745 | AI3: =T3*E3 -> 0 | AJ3: =U3*F3 -> 0 | AK3: =U3*G3 -> 0 | AL3: =W3*H3 -> -698.02638 | AM3: =X3*I3 -> 0 | AN3: =Y3*J3 -> 0 | AO3: =Y3*K3 -> 0 | AP3: =AA3*L3 -> 0 | AQ3: =AA3*M3 -> 0 | AR3: =AC3*N3 -> -2849.3068 | AS3: =AD3*O3 -> 0 | AT3: =AE3*P3 -> 0 | AU3: =AE3*Q3 -> 0 | AV3: =AH3+AJ3+AL3+AN3+AP3+AT3+AR3 -> -7219.9077 | AW3: =AI3+AK3+AM3+AO3+AQ3+AU3+AS3 -> 0 | AY3: =-'Projection - Scotland'!B$12*Scot19!AV3 -> 0 | AZ3: =-'Projection - Scotland'!B$12*Scot19!AW3 -> 0 | BA3: =-'Projection - Scotland'!C$12*Scot19!AV3 -> 4887.0437 | BB3: =-'Projection - Scotland'!C$12*Scot19!AW3 -> 0 | BC3: =-'Projection - Scotland'!D$12*Scot19!AV3 -> 0 | BD3: =-'Projection - Scotland'!D$12*Scot19!AW3 -> 0 | BE3: =-'Projection - Scotland'!F$12*Scot19!AV3 -> 593.96987 | BF3: =-'Projection - Scotland'!F$12*Scot19!AW3 -> 0 | BG3: =-'Projection - Scotland'!G$12*Scot19!AV3 -> 926.84842 | BH3: =-'Projection - Scotland'!G$12*Scot19!AW3 -> 0 | BI3: =-'Projection - Scotland'!E$12*Scot19!AV3 -> 0 | BJ3: =-'Projection - Scotland'!E$12*Scot19!AW3 -> 0 | BK3: =-'Projection - Scotland'!H$12*Scot19!AV3 -> 812.04574 | BL3: =-'Projection - Scotland'!H$12*Scot19!AW3 -> 0
A4: Aberdeen South | B4: Scotland | C4: Scotland | D4: 11062.084 | E4: 6483.781 | F4: 4833.3125 | G4: 0 | H4: 5488.6057 | I4: 0 | J4: 320.04208 | K4: 0 | L4: 29.49206 | M4: 0 | N4: 11062.084 | O4: 16024.097 | P4: 5.6624754 | Q4: 0 | R4: =SUM(D4:Q4) -> 55309.161 | S4: =S3 -> -0.4162658 | T4: =T3 -> 0 | U4: =U3 -> 0 | V4: =V3 -> 0 | W4: =W3 -> -0.17758499 | X4: =X3 -> 0 | Y4: =Y3 -> 0 | Z4: =Z3 -> 0 | ... AF4: =AF3 -> 0 | AH4: =S4*D4 -> -4604.7671 | AI4: =T4*E4 -> 0 | AJ4: =U4*F4 -> 0 | AK4: =U4*G4 -> 0 | AL4: =W4*H4 -> -974.694 | AM4: =X4*I4 -> 0 | AN4: =Y4*J4 -> 0 | AO4: =Y4*K4 -> 0 | AP4: =AA4*L4 -> 0 | AQ4: =AA4*M4 -> 0 | AR4: =AC4*N4 -> -3572.5332 | AS4: =AD4*O4 -> 0 | AT4: =AE4*P4 -> 0 | AU4: =AE4*Q4 -> 0 | AV4: =AH4+AJ4+AL4+AN4+AP4+AT4+AR4 -> -9151.9943 | AW4: =AI4+AK4+AM4+AO4+AQ4+AU4+AS4 -> 0 | AY4: =-'Projection - Scotland'!B$12*Scot19!AV4 -> 0 | AZ4: =-'Projection - Scotland'!B$12*Scot19!AW4 -> 0 | BA4: =-'Projection - Scotland'!C$12*Scot19!AV4 -> 6194.8432 | BB4: =-'Projection - Scotland'!C$12*Scot19!AW4 -> 0 | BC4: =-'Projection - Scotland'!D$12*Scot19!AV4 -> 0 | BD4: =-'Projection - Scotland'!D$12*Scot19!AW4 -> 0 | BE4: =-'Projection - Scotland'!F$12*Scot19!AV4 -> 752.91944 | BF4: =-'Projection - Scotland'!F$12*Scot19!AW4 -> 0 | BG4: =-'Projection - Scotland'!G$12*Scot19!AV4 -> 1174.8781 | BH4: =-'Projection - Scotland'!G$12*Scot19!AW4 -> 0 | BI4: =-'Projection - Scotland'!E$12*Scot19!AV4 -> 0 | BJ4: =-'Projection - Scotland'!E$12*Scot19!AW4 -> 0 | BK4: =-'Projection - Scotland'!H$12*Scot19!AV4 -> 1029.3536 | BL4: =-'Projection - Scotland'!H$12*Scot19!AW4 -> 0
A5: Aberdeenshire Central | B5: Scotland | C5: Scotland | D5: 10650.936 | E5: 12814.065 | F5: 2428.73 | G5: 0 | H5: 5300.767 | I5: 0 | J5: 0 | K5: 0 | L5: 0 | M5: 0 | N5: 10650.936 | O5: 11409.246 | P5: 0 | Q5: 0 | R5: =SUM(D5:Q5) -> 53254.681 | S5: =S4 -> -0.4162658 | T5: =T4 -> 0 | U5: =U4 -> 0 | V5: =V4 -> 0 | W5: =W4 -> -0.17758499 | X5: =X4 -> 0 | Y5: =Y4 -> 0 | Z5: =Z4 -> 0 | ... AF5: =AF4 -> 0 | AH5: =S5*D5 -> -4433.6204 | AI5: =T5*E5 -> 0 | AJ5: =U5*F5 -> 0 | AK5: =U5*G5 -> 0 | AL5: =W5*H5 -> -941.33667 | AM5: =X5*I5 -> 0 | AN5: =Y5*J5 -> 0 | AO5: =Y5*K5 -> 0 | AP5: =AA5*L5 -> 0 | AQ5: =AA5*M5 -> 0 | AR5: =AC5*N5 -> -3439.7518 | AS5: =AD5*O5 -> 0 | AT5: =AE5*P5 -> 0 | AU5: =AE5*Q5 -> 0 | AV5: =AH5+AJ5+AL5+AN5+AP5+AT5+AR5 -> -8814.7089 | AW5: =AI5+AK5+AM5+AO5+AQ5+AU5+AS5 -> 0 | AY5: =-'Projection - Scotland'!B$12*Scot19!AV5 -> 0 | AZ5: =-'Projection - Scotland'!B$12*Scot19!AW5 -> 0 | BA5: =-'Projection - Scotland'!C$12*Scot19!AV5 -> 5966.5399 | BB5: =-'Projection - Scotland'!C$12*Scot19!AW5 -> 0 | BC5: =-'Projection - Scotland'!D$12*Scot19!AV5 -> 0 | BD5: =-'Projection - Scotland'!D$12*Scot19!AW5 -> 0 | BE5: =-'Projection - Scotland'!F$12*Scot19!AV5 -> 725.17153 | BF5: =-'Projection - Scotland'!F$12*Scot19!AW5 -> 0 | BG5: =-'Projection - Scotland'!G$12*Scot19!AV5 -> 1131.5794 | BH5: =-'Projection - Scotland'!G$12*Scot19!AW5 -> 0 | BI5: =-'Projection - Scotland'!E$12*Scot19!AV5 -> 0 | BJ5: =-'Projection - Scotland'!E$12*Scot19!AW5 -> 0 | BK5: =-'Projection - Scotland'!H$12*Scot19!AV5 -> 991.41806 | BL5: =-'Projection - Scotland'!H$12*Scot19!AW5 -> 0
A6: Aberdeenshire North and Moray East | B6: Scotland | C6: Scotland | D6: 8872.6571 | E6: 12847.596 | F6: 2020.7733 | G6: 0 | H6: 1978.8272 | I6: 0 | J6: 0 | K6: 0 | L6: 0 | M6: 0 | N6: 8872.6571 | O6: 9615.8189 | P6: 154.95609 | Q6: 0 | R6: =SUM(D6:Q6) -> 44363.285 | S6: =S5 -> -0.4162658 | T6: =T5 -> 0 | U6: =U5 -> 0 | V6: =V5 -> 0 | W6: =W5 -> -0.17758499 | X6: =X5 -> 0 | Y6: =Y5 -> 0 | Z6: =Z5 -> 0 | ... AF6: =AF5 -> 0 | AH6: =S6*D6 -> -3693.3837 | AI6: =T6*E6 -> 0 | AJ6: =U6*F6 -> 0 | AK6: =U6*G6 -> 0 | AL6: =W6*H6 -> -351.41002 | AM6: =X6*I6 -> 0 | AN6: =Y6*J6 -> 0 | AO6: =Y6*K6 -> 0 | AP6: =AA6*L6 -> 0 | AQ6: =AA6*M6 -> 0 | AR6: =AC6*N6 -> -2865.4512 | AS6: =AD6*O6 -> 0 | AT6: =AE6*P6 -> 0 | AU6: =AE6*Q6 -> 0 | AV6: =AH6+AJ6+AL6+AN6+AP6+AT6+AR6 -> -6910.2449 | AW6: =AI6+AK6+AM6+AO6+AQ6+AU6+AS6 -> 0 | AY6: =-'Projection - Scotland'!B$12*Scot19!AV6 -> 0 | AZ6: =-'Projection - Scotland'!B$12*Scot19!AW6 -> 0 | BA6: =-'Projection - Scotland'!C$12*Scot19!AV6 -> 4677.4377 | BB6: =-'Projection - Scotland'!C$12*Scot19!AW6 -> 0 | BC6: =-'Projection - Scotland'!D$12*Scot19!AV6 -> 0 | BD6: =-'Projection - Scotland'!D$12*Scot19!AW6 -> 0 | BE6: =-'Projection - Scotland'!F$12*Scot19!AV6 -> 568.49442 | BF6: =-'Projection - Scotland'!F$12*Scot19!AW6 -> 0 | BG6: =-'Projection - Scotland'!G$12*Scot19!AV6 -> 887.09577 | BH6: =-'Projection - Scotland'!G$12*Scot19!AW6 -> 0 | BI6: =-'Projection - Scotland'!E$12*Scot19!AV6 -> 0 | BJ6: =-'Projection - Scotland'!E$12*Scot19!AW6 -> 0 | BK6: =-'Projection - Scotland'!H$12*Scot19!AV6 -> 777.217 | BL6: =-'Projection - Scotland'!H$12*Scot19!AW6 -> 0
A7: Airdrie | B7: Scotland | C7: Scotland | D7: 7887.5616 | E7: 0 | F7: 9051.6738 | G7: 5338.8922 | H7: 1597.8687 | I7: 0 | J7: 643.00318 | K7: 0 | L7: 0 | M7: 0 | N7: 9051.6738 | O7: 11560.566 | P7: 127.12955 | Q7: 0 | R7: =SUM(D7:Q7) -> 45258.369 | S7: =S6 -> -0.4162658 | T7: =T6 -> 0 | U7: =U6 -> 0 | V7: =V6 -> 0 | W7: =W6 -> -0.17758499 | X7: =X6 -> 0 | Y7: =Y6 -> 0 | Z7: =Z6 -> 0 | ... AF7: =AF6 -> 0 | AH7: =S7*D7 -> -3283.3221 | AI7: =T7*E7 -> 0 | AJ7: =U7*F7 -> 0 | AK7: =U7*G7 -> 0 | AL7: =W7*H7 -> -283.75749 | AM7: =X7*I7 -> 0 | AN7: =Y7*J7 -> 0 | AO7: =Y7*K7 -> 0 | AP7: =AA7*L7 -> 0 | AQ7: =AA7*M7 -> 0 | AR7: =AC7*N7 -> -2923.2652 | AS7: =AD7*O7 -> 0 | AT7: =AE7*P7 -> 0 | AU7: =AE7*Q7 -> 0 | AV7: =AH7+AJ7+AL7+AN7+AP7+AT7+AR7 -> -6490.3448 | AW7: =AI7+AK7+AM7+AO7+AQ7+AU7+AS7 -> 0 | AY7: =-'Projection - Scotland'!B$12*Scot19!AV7 -> 0 | AZ7: =-'Projection - Scotland'!B$12*Scot19!AW7 -> 0 | BA7: =-'Projection - Scotland'!C$12*Scot19!AV7 -> 4393.2139 | BB7: =-'Projection - Scotland'!C$12*Scot19!AW7 -> 0 | BC7: =-'Projection - Scotland'!D$12*Scot19!AV7 -> 0 | BD7: =-'Projection - Scotland'!D$12*Scot19!AW7 -> 0 | BE7: =-'Projection - Scotland'!F$12*Scot19!AV7 -> 533.94994 | BF7: =-'Projection - Scotland'!F$12*Scot19!AW7 -> 0 | BG7: =-'Projection - Scotland'!G$12*Scot19!AV7 -> 833.19151 | BH7: =-'Projection - Scotland'!G$12*Scot19!AW7 -> 0 | BI7: =-'Projection - Scotland'!E$12*Scot19!AV7 -> 0 | BJ7: =-'Projection - Scotland'!E$12*Scot19!AW7 -> 0 | BK7: =-'Projection - Scotland'!H$12*Scot19!AV7 -> 729.98951 | BL7: =-'Projection - Scotland'!H$12*Scot19!AW7 -> 0
A8: Argyll, Bute and South Lochaber | B8: Scotland | C8: Scotland | D8: 10218.995 | E8: 7269.791 | F8: 3379.4408 | G8: 0 | H8: 7920.1641 | I8: 0 | J8: 1.9153077 | K8: 0 | L8: 17.95601 | M8: 0 | N8: 10218.995 | O8: 12018.684 | P8: 48.267053 | Q8: 0 | R8: =SUM(D8:Q8) -> 51094.207 | S8: =S7 -> -0.4162658 | T8: =T7 -> 0 | U8: =U7 -> 0 | V8: =V7 -> 0 | W8: =W7 -> -0.17758499 | X8: =X7 -> 0 | Y8: =Y7 -> 0 | Z8: =Z7 -> 0 | ... AF8: =AF7 -> 0 | AH8: =S8*D8 -> -4253.8179 | AI8: =T8*E8 -> 0 | AJ8: =U8*F8 -> 0 | AK8: =U8*G8 -> 0 | AL8: =W8*H8 -> -1406.5023 | AM8: =X8*I8 -> 0 | AN8: =Y8*J8 -> 0 | AO8: =Y8*K8 -> 0 | AP8: =AA8*L8 -> 0 | AQ8: =AA8*M8 -> 0 | AR8: =AC8*N8 -> -3300.255 | AS8: =AD8*O8 -> 0 | AT8: =AE8*P8 -> 0 | AU8: =AE8*Q8 -> 0 | AV8: =AH8+AJ8+AL8+AN8+AP8+AT8+AR8 -> -8960.5752 | AW8: =AI8+AK8+AM8+AO8+AQ8+AU8+AS8 -> 0 | AY8: =-'Projection - Scotland'!B$12*Scot19!AV8 -> 0 | AZ8: =-'Projection - Scotland'!B$12*Scot19!AW8 -> 0 | BA8: =-'Projection - Scotland'!C$12*Scot19!AV8 -> 6065.2745 | BB8: =-'Projection - Scotland'!C$12*Scot19!AW8 -> 0 | BC8: =-'Projection - Scotland'!D$12*Scot19!AV8 -> 0 | BD8: =-'Projection - Scotland'!D$12*Scot19!AW8 -> 0 | BE8: =-'Projection - Scotland'!F$12*Scot19!AV8 -> 737.17171 | BF8: =-'Projection - Scotland'!F$12*Scot19!AW8 -> 0 | BG8: =-'Projection - Scotland'!G$12*Scot19!AV8 -> 1150.3049 | BH8: =-'Projection - Scotland'!G$12*Scot19!AW8 -> 0 | BI8: =-'Projection - Scotland'!E$12*Scot19!AV8 -> 0 | BJ8: =-'Projection - Scotland'!E$12*Scot19!AW8 -> 0 | BK8: =-'Projection - Scotland'!H$12*Scot19!AV8 -> 1007.8241 | BL8: =-'Projection - Scotland'!H$12*Scot19!AW8 -> 0
A9: Ayr, Carrick and Cumnock | B9: Scotland | C9: Scotland | D9: 9316.0524 | E9: 8595.9804 | F9: 6222.1273 | G9: 0 | H9: 2164.5481 | I9: 0 | J9: 0 | K9: 0 | L9: 0 | M9: 0 | N9: 9316.0524 | O9: 10964.859 | P9: 0.64244139 | Q9: 0 | R9: =SUM(D9:Q9) -> 46580.262 | S9: =S8 -> -0.4162658 | T9: =T8 -> 0 | U9: =U8 -> 0 | V9: =V8 -> 0 | W9: =W8 -> -0.17758499 | X9: =X8 -> 0 | Y9: =Y8 -> 0 | Z9: =Z8 -> 0 | ... AF9: =AF8 -> 0 | AH9: =S9*D9 -> -3877.954 | AI9: =T9*E9 -> 0 | AJ9: =U9*F9 -> 0 | AK9: =U9*G9 -> 0 | AL9: =W9*H9 -> -384.39126 | AM9: =X9*I9 -> 0 | AN9: =Y9*J9 -> 0 | AO9: =Y9*K9 -> 0 | AP9: =AA9*L9 -> 0 | AQ9: =AA9*M9 -> 0 | AR9: =AC9*N9 -> -3008.6471 | AS9: =AD9*O9 -> 0 | AT9: =AE9*P9 -> 0 | AU9: =AE9*Q9 -> 0 | AV9: =AH9+AJ9+AL9+AN9+AP9+AT9+AR9 -> -7270.9923 | AW9: =AI9+AK9+AM9+AO9+AQ9+AU9+AS9 -> 0 | AY9: =-'Projection - Scotland'!B$12*Scot19!AV9 -> 0 | AZ9: =-'Projection - Scotland'!B$12*Scot19!AW9 -> 0 | BA9: =-'Projection - Scotland'!C$12*Scot19!AV9 -> 4921.6221 | BB9: =-'Projection - Scotland'!C$12*Scot19!AW9 -> 0 | BC9: =-'Projection - Scotland'!D$12*Scot19!AV9 -> 0 | BD9: =-'Projection - Scotland'!D$12*Scot19!AW9 -> 0 | BE9: =-'Projection - Scotland'!F$12*Scot19!AV9 -> 598.17252 | BF9: =-'Projection - Scotland'!F$12*Scot19!AW9 -> 0 | BG9: =-'Projection - Scotland'!G$12*Scot19!AV9 -> 933.40636 | BH9: =-'Projection - Scotland'!G$12*Scot19!AW9 -> 0 | BI9: =-'Projection - Scotland'!E$12*Scot19!AV9 -> 0 | BJ9: =-'Projection - Scotland'!E$12*Scot19!AW9 -> 0 | BK9: =-'Projection - Scotland'!H$12*Scot19!AV9 -> 817.79139 | BL9: =-'Projection - Scotland'!H$12*Scot19!AW9 -> 0
A10: Bathgate and Linlithgow | B10: Scotland | C10: Scotland | D10: 8988.9483 | E10: 1739.0776 | F10: 8638.9583 | G10: 0 | H10: 3598.1207 | I10: 0 | J10: 962.23426 | K10: 0 | L10: 272.53082 | M10: 0 | N10: 8988.9483 | O10: 11261.003 | P10: 483.29272 | Q10: 0 | R10: =SUM(D10:Q10) -> 44933.114 | S10: =S9 -> -0.4162658 | T10: =T9 -> 0 | U10: =U9 -> 0 | V10: =V9 -> 0 | W10: =W9 -> -0.17758499 | X10: =X9 -> 0 | Y10: =Y9 -> 0 | Z10: =Z9 -> 0 | ... AF10: =AF9 -> 0 | AH10: =S10*D10 -> -3741.7917 | AI10: =T10*E10 -> 0 | AJ10: =U10*F10 -> 0 | AK10: =U10*G10 -> 0 | AL10: =W10*H10 -> -638.97224 | AM10: =X10*I10 -> 0 | AN10: =Y10*J10 -> 0 | AO10: =Y10*K10 -> 0 | AP10: =AA10*L10 -> 0 | AQ10: =AA10*M10 -> 0 | AR10: =AC10*N10 -> -2903.0079 | AS10: =AD10*O10 -> 0 | AT10: =AE10*P10 -> 0 | AU10: =AE10*Q10 -> 0 | AV10: =AH10+AJ10+AL10+AN10+AP10+AT10+AR10 -> -7283.7718 | AW10: =AI10+AK10+AM10+AO10+AQ10+AU10+AS10 -> 0 | AY10: =-'Projection - Scotland'!B$12*Scot19!AV10 -> 0 | AZ10: =-'Projection - Scotland'!B$12*Scot19!AW10 -> 0 | BA10: =-'Projection - Scotland'!C$12*Scot19!AV10 -> 4930.2723 | BB10: =-'Projection - Scotland'!C$12*Scot19!AW10 -> 0 | BC10: =-'Projection - Scotland'!D$12*Scot19!AV10 -> 0 | BD10: =-'Projection - Scotland'!D$12*Scot19!AW10 -> 0 | BE10: =-'Projection - Scotland'!F$12*Scot19!AV10 -> 599.22387 | BF10: =-'Projection - Scotland'!F$12*Scot19!AW10 -> 0 | BG10: =-'Projection - Scotland'!G$12*Scot19!AV10 -> 935.04691 | BH10: =-'Projection - Scotland'!G$12*Scot19!AW10 -> 0 | BI10: =-'Projection - Scotland'!E$12*Scot19!AV10 -> 0 | BJ10: =-'Projection - Scotland'!E$12*Scot19!AW10 -> 0 | BK10: =-'Projection - Scotland'!H$12*Scot19!AV10 -> 819.22874 | BL10: =-'Projection - Scotland'!H$12*Scot19!AW10 -> 0
A11: Bearsden and Campsie Fells | B11: Scotland | C11: Scotland | D11: 8387.8447 | E11: 0 | F11: 6427.8999 | G11: 0 | H11: 10879.526 | I11: 6511.9943 | J11: 851.56576 | K11: 0 | L11: 0 | M11: 0 | N11: 10879.526 | O11: 9953.5519 | P11: 505.72086 | Q11: 0 | R11: =SUM(D11:Q11) -> 54397.629 | S11: =S10 -> -0.4162658 | T11: =T10 -> 0 | U11: =U10 -> 0 | V11: =V10 -> 0 | W11: =W10 -> -0.17758499 | X11: =X10 -> 0 | Y11: =Y10 -> 0 | Z11: =Z10 -> 0 | ... AF11: =AF10 -> 0 | AH11: =S11*D11 -> -3491.5728 | AI11: =T11*E11 -> 0 | AJ11: =U11*F11 -> 0 | AK11: =U11*G11 -> 0 | AL11: =W11*H11 -> -1932.0405 | AM11: =X11*I11 -> 0 | AN11: =Y11*J11 -> 0 | AO11: =Y11*K11 -> 0 | AP11: =AA11*L11 -> 0 | AQ11: =AA11*M11 -> 0 | AR11: =AC11*N11 -> -3513.5755 | AS11: =AD11*O11 -> 0 | AT11: =AE11*P11 -> 0 | AU11: =AE11*Q11 -> 0 | AV11: =AH11+AJ11+AL11+AN11+AP11+AT11+AR11 -> -8937.1889 | AW11: =AI11+AK11+AM11+AO11+AQ11+AU11+AS11 -> 0 | AY11: =-'Projection - Scotland'!B$12*Scot19!AV11 -> 0 | AZ11: =-'Projection - Scotland'!B$12*Scot19!AW11 -> 0 | BA11: =-'Projection - Scotland'!C$12*Scot19!AV11 -> 6049.4447 | BB11: =-'Projection - Scotland'!C$12*Scot19!AW11 -> 0 | BC11: =-'Projection - Scotland'!D$12*Scot19!AV11 -> 0 | BD11: =-'Projection - Scotland'!D$12*Scot19!AW11 -> 0 | BE11: =-'Projection - Scotland'!F$12*Scot19!AV11 -> 735.24775 | BF11: =-'Projection - Scotland'!F$12*Scot19!AW11 -> 0 | BG11: =-'Projection - Scotland'!G$12*Scot19!AV11 -> 1147.3027 | BH11: =-'Projection - Scotland'!G$12*Scot19!AW11 -> 0 | BI11: =-'Projection - Scotland'!E$12*Scot19!AV11 -> 0 | BJ11: =-'Projection - Scotland'!E$12*Scot19!AW11 -> 0 | BK11: =-'Projection - Scotland'!H$12*Scot19!AV11 -> 1005.1938 | BL11: =-'Projection - Scotland'!H$12*Scot19!AW11 -> 0
A12: Berwickshire, Roxburgh and Selkirk | B12: Scotland | C12: Scotland | D12: 10491.926 | E12: 14968.688 | F12: 2486.8261 | G12: 0 | H12: 4179.3518 | I12: 0 | J12: 0 | K12: 0 | L12: 0 | M12: 0 | N12: 10491.926 | O12: 9840.9116 | P12: 0 | Q12: 0 | R12: =SUM(D12:Q12) -> 52459.63 | S12: =S11 -> -0.4162658 | T12: =T11 -> 0 | U12: =U11 -> 0 | V12: =V11 -> 0 | W12: =W11 -> -0.17758499 | X12: =X11 -> 0 | Y12: =Y11 -> 0 | Z12: =Z11 -> 0 | ... AF12: =AF11 -> 0 | AH12: =S12*D12 -> -4367.4299 | AI12: =T12*E12 -> 0 | AJ12: =U12*F12 -> 0 | AK12: =U12*G12 -> 0 | AL12: =W12*H12 -> -742.19016 | AM12: =X12*I12 -> 0 | AN12: =Y12*J12 -> 0 | AO12: =Y12*K12 -> 0 | AP12: =AA12*L12 -> 0 | AQ12: =AA12*M12 -> 0 | AR12: =AC12*N12 -> -3388.399 | AS12: =AD12*O12 -> 0 | AT12: =AE12*P12 -> 0 | AU12: =AE12*Q12 -> 0 | AV12: =AH12+AJ12+AL12+AN12+AP12+AT12+AR12 -> -8498.0191 | AW12: =AI12+AK12+AM12+AO12+AQ12+AU12+AS12 -> 0 | AY12: =-'Projection - Scotland'!B$12*Scot19!AV12 -> 0 | AZ12: =-'Projection - Scotland'!B$12*Scot19!AW12 -> 0 | BA12: =-'Projection - Scotland'!C$12*Scot19!AV12 -> 5752.1775 | BB12: =-'Projection - Scotland'!C$12*Scot19!AW12 -> 0 | BC12: =-'Projection - Scotland'!D$12*Scot19!AV12 -> 0 | BD12: =-'Projection - Scotland'!D$12*Scot19!AW12 -> 0 | BE12: =-'Projection - Scotland'!F$12*Scot19!AV12 -> 699.11798 | BF12: =-'Projection - Scotland'!F$12*Scot19!AW12 -> 0 | BG12: =-'Projection - Scotland'!G$12*Scot19!AV12 -> 1090.9247 | BH12: =-'Projection - Scotland'!G$12*Scot19!AW12 -> 0 | BI12: =-'Projection - Scotland'!E$12*Scot19!AV12 -> 0 | BJ12: =-'Projection - Scotland'!E$12*Scot19!AW12 -> 0 | BK12: =-'Projection - Scotland'!H$12*Scot19!AV12 -> 955.79895 | BL12: =-'Projection - Scotland'!H$12*Scot19!AW12 -> 0
A13: Caithness, Sutherland and Easter Ross | B13: Scotland | C13: Scotland | D13: 9516.7209 | E13: 0 | F13: 3432.6923 | G13: 0 | H13: 9882.5211 | I13: 5889.5255 | J13: 122.70165 | K13: 0 | L13: 426.30965 | M13: 0 | N13: 9882.5211 | O13: 9822.3025 | P13: 419.12175 | Q13: 0 | R13: =SUM(D13:Q13) -> 49394.417 | S13: =S12 -> -0.4162658 | T13: =T12 -> 0 | U13: =U12 -> 0 | V13: =V12 -> 0 | W13: =W12 -> -0.17758499 | X13: =X12 -> 0 | Y13: =Y12 -> 0 | Z13: =Z12 -> 0 | ... AF13: =AF12 -> 0 | AH13: =S13*D13 -> -3961.4854 | AI13: =T13*E13 -> 0 | AJ13: =U13*F13 -> 0 | AK13: =U13*G13 -> 0 | AL13: =W13*H13 -> -1754.9874 | AM13: =X13*I13 -> 0 | AN13: =Y13*J13 -> 0 | AO13: =Y13*K13 -> 0 | AP13: =AA13*L13 -> 0 | AQ13: =AA13*M13 -> 0 | AR13: =AC13*N13 -> -3191.5899 | AS13: =AD13*O13 -> 0 | AT13: =AE13*P13 -> 0 | AU13: =AE13*Q13 -> 0 | AV13: =AH13+AJ13+AL13+AN13+AP13+AT13+AR13 -> -8908.0627 | AW13: =AI13+AK13+AM13+AO13+AQ13+AU13+AS13 -> 0 | AY13: =-'Projection - Scotland'!B$12*Scot19!AV13 -> 0 | AZ13: =-'Projection - Scotland'!B$12*Scot19!AW13 -> 0 | BA13: =-'Projection - Scotland'!C$12*Scot19!AV13 -> 6029.7296 | BB13: =-'Projection - Scotland'!C$12*Scot19!AW13 -> 0 | BC13: =-'Projection - Scotland'!D$12*Scot19!AV13 -> 0 | BD13: =-'Projection - Scotland'!D$12*Scot19!AW13 -> 0 | BE13: =-'Projection - Scotland'!F$12*Scot19!AV13 -> 732.85159 | BF13: =-'Projection - Scotland'!F$12*Scot19!AW13 -> 0 | BG13: =-'Projection - Scotland'!G$12*Scot19!AV13 -> 1143.5636 | BH13: =-'Projection - Scotland'!G$12*Scot19!AW13 -> 0 | BI13: =-'Projection - Scotland'!E$12*Scot19!AV13 -> 0 | BJ13: =-'Projection - Scotland'!E$12*Scot19!AW13 -> 0 | BK13: =-'Projection - Scotland'!H$12*Scot19!AV13 -> 1001.9179 | BL13: =-'Projection - Scotland'!H$12*Scot19!AW13 -> 0
A14: Central Ayrshire | B14: Scotland | C14: Scotland | D14: 9300.9083 | E14: 6888.5718 | F14: 6576.2271 | G14: 0 | H14: 2282.5318 | I14: 0 | J14: 0 | K14: 0 | L14: 0 | M14: 0 | N14: 9300.9083 | O14: 12155.394 | P14: 0 | Q14: 0 | R14: =SUM(D14:Q14) -> 46504.542 | S14: =S13 -> -0.4162658 | T14: =T13 -> 0 | U14: =U13 -> 0 | V14: =V13 -> 0 | W14: =W13 -> -0.17758499 | X14: =X13 -> 0 | Y14: =Y13 -> 0 | Z14: =Z13 -> 0 | ... AF14: =AF13 -> 0 | AH14: =S14*D14 -> -3871.65 | AI14: =T14*E14 -> 0 | AJ14: =U14*F14 -> 0 | AK14: =U14*G14 -> 0 | AL14: =W14*H14 -> -405.34339 | AM14: =X14*I14 -> 0 | AN14: =Y14*J14 -> 0 | AO14: =Y14*K14 -> 0 | AP14: =AA14*L14 -> 0 | AQ14: =AA14*M14 -> 0 | AR14: =AC14*N14 -> -3003.7563 | AS14: =AD14*O14 -> 0 | AT14: =AE14*P14 -> 0 | AU14: =AE14*Q14 -> 0 | AV14: =AH14+AJ14+AL14+AN14+AP14+AT14+AR14 -> -7280.7497 | AW14: =AI14+AK14+AM14+AO14+AQ14+AU14+AS14 -> 0 | AY14: =-'Projection - Scotland'!B$12*Scot19!AV14 -> 0 | AZ14: =-'Projection - Scotland'!B$12*Scot19!AW14 -> 0 | BA14: =-'Projection - Scotland'!C$12*Scot19!AV14 -> 4928.2267 | BB14: =-'Projection - Scotland'!C$12*Scot19!AW14 -> 0 | BC14: =-'Projection - Scotland'!D$12*Scot19!AV14 -> 0 | BD14: =-'Projection - Scotland'!D$12*Scot19!AW14 -> 0 | BE14: =-'Projection - Scotland'!F$12*Scot19!AV14 -> 598.97524 | BF14: =-'Projection - Scotland'!F$12*Scot19!AW14 -> 0 | BG14: =-'Projection - Scotland'!G$12*Scot19!AV14 -> 934.65895 | BH14: =-'Projection - Scotland'!G$12*Scot19!AW14 -> 0 | BI14: =-'Projection - Scotland'!E$12*Scot19!AV14 -> 0 | BJ14: =-'Projection - Scotland'!E$12*Scot19!AW14 -> 0 | BK14: =-'Projection - Scotland'!H$12*Scot19!AV14 -> 818.88883 | BL14: =-'Projection - Scotland'!H$12*Scot19!AW14 -> 0
A15: Clackmannanshire and Forth Valley | B15: Scotland | C15: Scotland | D15: 10478.01 | E15: 5925.1181 | F15: 5969.9013 | G15: 0 | H15: 2567.3581 | I15: 0 | J15: 746.36864 | K15: 0 | L15: 0 | M15: 0 | N15: 10478.01 | O15: 16011.934 | P15: 213.35015 | Q15: 0 | R15: =SUM(D15:Q15) -> 52390.051 | S15: =S14 -> -0.4162658 | T15: =T14 -> 0 | U15: =U14 -> 0 | V15: =V14 -> 0 | W15: =W14 -> -0.17758499 | X15: =X14 -> 0 | Y15: =Y14 -> 0 | Z15: =Z14 -> 0 | ... AF15: =AF14 -> 0 | AH15: =S15*D15 -> -4361.6372 | AI15: =T15*E15 -> 0 | AJ15: =U15*F15 -> 0 | AK15: =U15*G15 -> 0 | AL15: =W15*H15 -> -455.92426 | AM15: =X15*I15 -> 0 | AN15: =Y15*J15 -> 0 | AO15: =Y15*K15 -> 0 | AP15: =AA15*L15 -> 0 | AQ15: =AA15*M15 -> 0 | AR15: =AC15*N15 -> -3383.9049 | AS15: =AD15*O15 -> 0 | AT15: =AE15*P15 -> 0 | AU15: =AE15*Q15 -> 0 | AV15: =AH15+AJ15+AL15+AN15+AP15+AT15+AR15 -> -8201.4664 | AW15: =AI15+AK15+AM15+AO15+AQ15+AU15+AS15 -> 0 | AY15: =-'Projection - Scotland'!B$12*Scot19!AV15 -> 0 | AZ15: =-'Projection - Scotland'!B$12*Scot19!AW15 -> 0 | BA15: =-'Projection - Scotland'!C$12*Scot19!AV15 -> 5551.4455 | BB15: =-'Projection - Scotland'!C$12*Scot19!AW15 -> 0 | BC15: =-'Projection - Scotland'!D$12*Scot19!AV15 -> 0 | BD15: =-'Projection - Scotland'!D$12*Scot19!AW15 -> 0 | BE15: =-'Projection - Scotland'!F$12*Scot19!AV15 -> 674.72108 | BF15: =-'Projection - Scotland'!F$12*Scot19!AW15 -> 0 | BG15: =-'Projection - Scotland'!G$12*Scot19!AV15 -> 1052.855 | BH15: =-'Projection - Scotland'!G$12*Scot19!AW15 -> 0 | BI15: =-'Projection - Scotland'!E$12*Scot19!AV15 -> 0 | BJ15: =-'Projection - Scotland'!E$12*Scot19!AW15 -> 0 | BK15: =-'Projection - Scotland'!H$12*Scot19!AV15 -> 922.44474 | BL15: =-'Projection - Scotland'!H$12*Scot19!AW15 -> 0
... A59: West Dunbartonshire | B59: Scotland | C59: Scotland | D59: 6587.1407 | E59: 0 | F59: 9295.5771 | G59: 4024.3189 | H59: 1935.8975 | I59: 0 | J59: 867 | K59: 0 | L59: 0 | M59: 0 | N59: 9295.5771 | O59: 13764.374 | P59: 708 | Q59: 0 | R59: =SUM(D59:Q59) -> 46477.885 | S59: =S58 -> -0.4162658 | T59: =T58 -> 0 | U59: =U58 -> 0 | V59: =V58 -> 0 | W59: =W58 -> -0.17758499 | X59: =X58 -> 0 | Y59: =Y58 -> 0 | Z59: =Z58 -> 0 | ... AF59: =AF58 -> 0 | AH59: =S59*D59 -> -2742.0014 | AI59: =T59*E59 -> 0 | AJ59: =U59*F59 -> 0 | AK59: =U59*G59 -> 0 | AL59: =W59*H59 -> -343.78634 | AM59: =X59*I59 -> 0 | AN59: =Y59*J59 -> 0 | AO59: =Y59*K59 -> 0 | AP59: =AA59*L59 -> 0 | AQ59: =AA59*M59 -> 0 | AR59: =AC59*N59 -> -3002.0345 | AS59: =AD59*O59 -> 0 | AT59: =AE59*P59 -> 0 | AU59: =AE59*Q59 -> 0 | AV59: =AH59+AJ59+AL59+AN59+AP59+AT59+AR59 -> -6087.8222 | AW59: =AI59+AK59+AM59+AO59+AQ59+AU59+AS59 -> 0 | AY59: =-'Projection - Scotland'!B$12*Scot19!AV59 -> 0 | AZ59: =-'Projection - Scotland'!B$12*Scot19!AW59 -> 0 | BA59: =-'Projection - Scotland'!C$12*Scot19!AV59 -> 4120.7526 | BB59: =-'Projection - Scotland'!C$12*Scot19!AW59 -> 0 | BC59: =-'Projection - Scotland'!D$12*Scot19!AV59 -> 0 | BD59: =-'Projection - Scotland'!D$12*Scot19!AW59 -> 0 | BE59: =-'Projection - Scotland'!F$12*Scot19!AV59 -> 500.83507 | BF59: =-'Projection - Scotland'!F$12*Scot19!AW59 -> 0 | BG59: =-'Projection - Scotland'!G$12*Scot19!AV59 -> 781.51808 | BH59: =-'Projection - Scotland'!G$12*Scot19!AW59 -> 0 | BI59: =-'Projection - Scotland'!E$12*Scot19!AV59 -> 0 | BJ59: =-'Projection - Scotland'!E$12*Scot19!AW59 -> 0 | BK59: =-'Projection - Scotland'!H$12*Scot19!AV59 -> 684.71653 | BL59: =-'Projection - Scotland'!H$12*Scot19!AW59 -> 0
AH60: =SUM(AH3:AH59) -> -207811.09 | AI60: =SUM(AI3:AI59) -> 0 | AJ60: =SUM(AJ3:AJ59) -> 0 | AK60: =SUM(AK3:AK59) -> 0 | AL60: =SUM(AL3:AL59) -> -39855.318 | AM60: =SUM(AM3:AM59) -> 0 | AN60: =SUM(AN3:AN59) -> 0 | AO60: =SUM(AO3:AO59) -> 0 | ... AU60: =SUM(AU3:AU59) -> 0

Sheet Scot24
D1: Estimated total vote | M1: 2024 projected vote share | N1: Lab | O1: LD | P1: Grn | Q1: Ref | R1: SNP | S1: Oth | U1: Change in vote share | V1: Lab | W1: LD | X1: Grn | Y1: Ref | Z1: SNP | AA1: Oth | AN1: 2019 vote share (without redistributing BXP vote)
D2: CON | E2: LAB | F2: LD | G2: GRN | H2: REF | I2: SNP | J2: OTH | K2: TOTAL | M2: CON | N2: LAB | O2: LD | P2: GRN | Q2: REF | R2: SNP | S2: OTH | U2: CON | V2: LAB | W2: LD | X2: GRN | Y2: REF | Z2: SNP | AA2: OTH | AC2: 1st % | AD2: 1st | AE2: Majority | AF2: 2nd % | AG2: 2nd | AI2: 2019 | AJ2: 2024 | AK2: Result | AL2: - | AN2: CON | AO2: LAB | AP2: LD | AQ2: GRN | AR2: BXP | AS2: SNP | AT2: OTH
A3: Aberdeen North | B3: Scotland | C3: Scotland | D3: =(Scot19!D3+Scot19!AH3+(Scot19!AY3)+Scot19!AZ3+Scot19!AI3+Scot19!E3) -> 10118.849 | E3: =(Scot19!F3+Scot19!AJ3+Scot19!BA3)+(Scot19!BB3+Scot19!AK3+Scot19!G3) -> 9950.5139 | F3: =(Scot19!H3+Scot19!AL3+Scot19!BC3)+(Scot19!BD3+Scot19!AM3+Scot19!I3) -> 3232.6345 | G3: =(Scot19!J3+Scot19!AN3+Scot19!BE3)+(Scot19!BF3+Scot19!AO3+Scot19!K3) -> 1186.1838 | H3: =(Scot19!L3+Scot19!AP3+Scot19!BG3)+(Scot19!BH3+Scot19!AQ3+Scot19!M3) -> 1199.7564 | I3: =(Scot19!N3+Scot19!AR3+Scot19!BI3)+(Scot19!BJ3+Scot19!AS3+Scot19!O3) -> 17549.309 | J3: =(Scot19!P3+Scot19!AT3+Scot19!BK3)+(Scot19!BL3+Scot19!AU3+Scot19!Q3) -> 864.44407 | K3: =SUM(D3:J3) -> 44101.691 | M3: =D3/K3 -> 0.22944357 | N3: =E3/K3 -> 0.22562658 | O3: =F3/K3 -> 0.073299559 | P3: =G3/K3 -> 0.02689656 | Q3: =H3/K3 -> 0.027204316 | R3: =I3/K3 -> 0.39792826 | S3: =J3/K3 -> 0.019601155 | U3: =M3-AN3 -> -0.075481182 | V3: =N3-AO3 -> 0.11402608 | W3: =O3-AP3 -> -0.015027742 | X3: =P3-AQ3 -> 0.014148441 | Y3: =Q3-AR3 -> 0.0066097515 | Z3: =R3-AS3 -> -0.063876502 | AA3: =S3-AT3 -> 0.019601155 | AC3: =LARGE(M3:S3,1) -> 0.39792826 | AD3: =IF(M3=AC3,"Con",IF(N3=AC3,"Lab",IF(O3=AC3,"LD",IF(P3=AC3,"Grn",IF(Q3=AC3,"Ref",IF(R3=AC3,"SNP","OTH ")))))) -> SNP | AE3: =AC3-AF3 -> 0.16848469 | AF3: =LARGE(M3:S3,2) -> 0.22944357 | AG3: =IF(M3=AF3,"Con",IF(N3=AF3,"Lab",IF(O3=AF3,"LD",IF(P3=AF3,"Grn",IF(Q3=AF3,"Ref",IF(R3=AF3,"SNP","OTH ")))))) -> Con | AI3: SNP | AJ3: =AD3 -> SNP | AK3: =IF(AJ3=AI3,"Hold","Gain from") -> Hold | AL3: =IF(AK3="Hold","",(AI3)) | AN3: 0.30492475 | AO3: 0.11160051 | AP3: 0.088327301 | AQ3: 0.012748119 | AR3: 0.020594565 | AS3: 0.46180476 | AT3: 0
A4: Aberdeen South | B4: Scotland | C4: Scotland | D4: =(Scot19!D4+Scot19!AH4+(Scot19!AY4)+Scot19!AZ4+Scot19!AI4+Scot19!E4) -> 12941.098 | E4: =(Scot19!F4+Scot19!AJ4+Scot19!BA4)+(Scot19!BB4+Scot19!AK4+Scot19!G4) -> 11028.156 | F4: =(Scot19!H4+Scot19!AL4+Scot19!BC4)+(Scot19!BD4+Scot19!AM4+Scot19!I4) -> 4513.9117 | G4: =(Scot19!J4+Scot19!AN4+Scot19!BE4)+(Scot19!BF4+Scot19!AO4+Scot19!K4) -> 1072.9615 | H4: =(Scot19!L4+Scot19!AP4+Scot19!BG4)+(Scot19!BH4+Scot19!AQ4+Scot19!M4) -> 1204.3702 | I4: =(Scot19!N4+Scot19!AR4+Scot19!BI4)+(Scot19!BJ4+Scot19!AS4+Scot19!O4) -> 23513.648 | J4: =(Scot19!P4+Scot19!AT4+Scot19!BK4)+(Scot19!BL4+Scot19!AU4+Scot19!Q4) -> 1035.0161 | K4: =SUM(D4:J4) -> 55309.161 | M4: =D4/K4 -> 0.23397747 | N4: =E4/K4 -> 0.19939112 | O4: =F4/K4 -> 0.081612371 | P4: =G4/K4 -> 0.019399346 | Q4: =H4/K4 -> 0.021775238 | R4: =I4/K4 -> 0.42513116 | S4: =J4/K4 -> 0.018713285 | U4: =M4-AN4 -> -0.082581874 | V4: =N4-AO4 -> 0.11227744 | W4: =O4-AP4 -> -0.017552245 | X4: =P4-AQ4 -> 0.013670583 | Y4: =Q4-AR4 -> 0.019998074 | Z4: =R4-AS4 -> -0.064525268 | AA4: =S4-AT4 -> 0.018713285 | AC4: =LARGE(M4:S4,1) -> 0.42513116 | AD4: =IF(M4=AC4,"Con",IF(N4=AC4,"Lab",IF(O4=AC4,"LD",IF(P4=AC4,"Grn",IF(Q4=AC4,"Ref",IF(R4=AC4,"SNP","OTH ")))))) -> SNP | AE4: =AC4-AF4 -> 0.19115369 | AF4: =LARGE(M4:S4,2) -> 0.23397747 | AG4: =IF(M4=AF4,"Con",IF(N4=AF4,"Lab",IF(O4=AF4,"LD",IF(P4=AF4,"Grn",IF(Q4=AF4,"Ref",IF(R4=AF4,"SNP","OTH ")))))) -> Con | AI4: SNP | AJ4: =AD4 -> SNP | AK4: =IF(AJ4=AI4,"Hold","Gain from") -> Hold | AL4: =IF(AK4="Hold","",(AI4)) | AN4: 0.31655935 | AO4: 0.087113677 | AP4: 0.099164616 | AQ4: 0.0057287623 | AR4: 0.0017771641 | AS4: 0.48965643 | AT4: 0
A5: Aberdeenshire Central | B5: Scotland | C5: Scotland | D5: =(Scot19!D5+Scot19!AH5+(Scot19!AY5)+Scot19!AZ5+Scot19!AI5+Scot19!E5) -> 19031.381 | E5: =(Scot19!F5+Scot19!AJ5+Scot19!BA5)+(Scot19!BB5+Scot19!AK5+Scot19!G5) -> 8395.2699 | F5: =(Scot19!H5+Scot19!AL5+Scot19!BC5)+(Scot19!BD5+Scot19!AM5+Scot19!I5) -> 4359.4304 | G5: =(Scot19!J5+Scot19!AN5+Scot19!BE5)+(Scot19!BF5+Scot19!AO5+Scot19!K5) -> 725.17153 | H5: =(Scot19!L5+Scot19!AP5+Scot19!BG5)+(Scot19!BH5+Scot19!AQ5+Scot19!M5) -> 1131.5794 | I5: =(Scot19!N5+Scot19!AR5+Scot19!BI5)+(Scot19!BJ5+Scot19!AS5+Scot19!O5) -> 18620.431 | J5: =(Scot19!P5+Scot19!AT5+Scot19!BK5)+(Scot19!BL5+Scot19!AU5+Scot19!Q5) -> 991.41806 | K5: =SUM(D5:J5) -> 53254.681 | M5: =D5/K5 -> 0.35736542 | N5: =E5/K5 -> 0.15764379 | O5: =F5/K5 -> 0.081860041 | P5: =G5/K5 -> 0.013617048 | Q5: =H5/K5 -> 0.02124845 | R5: =I5/K5 -> 0.34964871 | S5: =J5/K5 -> 0.018616543 | U5: =M5-AN5 -> -0.083253159 | V5: =N5-AO5 -> 0.11203785 | W5: =O5-AP5 -> -0.01767613 | X5: =P5-AQ5 -> 0.013617048 | Y5: =Q5-AR5 -> 0.02124845 | Z5: =R5-AS5 -> -0.064590601 | AA5: =S5-AT5 -> 0.018616543 | AC5: =LARGE(M5:S5,1) -> 0.35736542 | AD5: =IF(M5=AC5,"Con",IF(N5=AC5,"Lab",IF(O5=AC5,"LD",IF(P5=AC5,"Grn",IF(Q5=AC5,"Ref",IF(R5=AC5,"SNP","OTH ")))))) -> Con | AE5: =AC5-AF5 -> 0.0077167049 | AF5: =LARGE(M5:S5,2) -> 0.34964871 | AG5: =IF(M5=AF5,"Con",IF(N5=AF5,"Lab",IF(O5=AF5,"LD",IF(P5=AF5,"Grn",IF(Q5=AF5,"Ref",IF(R5=AF5,"SNP","OTH ")))))) -> SNP | AI5: Con | AJ5: =AD5 -> Con | AK5: =IF(AJ5=AI5,"Hold","Gain from") -> Hold | AL5: =IF(AK5="Hold","",(AI5)) | AN5: 0.44061857 | AO5: 0.045605944 | AP5: 0.099536171 | AQ5: 0 | AR5: 0 | AS5: 0.41423931 | AT5: 0
A6: Aberdeenshire North and Moray East | B6: Scotland | C6: Scotland | D6: =(Scot19!D6+Scot19!AH6+(Scot19!AY6)+Scot19!AZ6+Scot19!AI6+Scot19!E6) -> 18026.869 | E6: =(Scot19!F6+Scot19!AJ6+Scot19!BA6)+(Scot19!BB6+Scot19!AK6+Scot19!G6) -> 6698.211 | F6: =(Scot19!H6+Scot19!AL6+Scot19!BC6)+(Scot19!BD6+Scot19!AM6+Scot19!I6) -> 1627.4172 | G6: =(Scot19!J6+Scot19!AN6+Scot19!BE6)+(Scot19!BF6+Scot19!AO6+Scot19!K6) -> 568.49442 | H6: =(Scot19!L6+Scot19!AP6+Scot19!BG6)+(Scot19!BH6+Scot19!AQ6+Scot19!M6) -> 887.09577 | I6: =(Scot19!N6+Scot19!AR6+Scot19!BI6)+(Scot19!BJ6+Scot19!AS6+Scot19!O6) -> 15623.025 | J6: =(Scot19!P6+Scot19!AT6+Scot19!BK6)+(Scot19!BL6+Scot19!AU6+Scot19!Q6) -> 932.17308 | K6: =SUM(D6:J6) -> 44363.285 | M6: =D6/K6 -> 0.40634658 | N6: =E6/K6 -> 0.15098546 | O6: =F6/K6 -> 0.036683875 | P6: =G6/K6 -> 0.012814525 | Q6: =H6/K6 -> 0.019996169 | R6: =I6/K6 -> 0.35216113 | S6: =J6/K6 -> 0.021012264 | U6: =M6-AN6 -> -0.083253159 | V6: =N6-AO6 -> 0.10543488 | W6: =O6-AP6 -> -0.0079211901 | X6: =P6-AQ6 -> 0.012814525 | Y6: =Q6-AR6 -> 0.019996169 | Z6: =R6-AS6 -> -0.064590601 | AA6: =S6-AT6 -> 0.017519374 | AC6: =LARGE(M6:S6,1) -> 0.40634658 | AD6: =IF(M6=AC6,"Con",IF(N6=AC6,"Lab",IF(O6=AC6,"LD",IF(P6=AC6,"Grn",IF(Q6=AC6,"Ref",IF(R6=AC6,"SNP","OTH ")))))) -> Con | AE6: =AC6-AF6 -> 0.054185448 | AF6: =LARGE(M6:S6,2) -> 0.35216113 | AG6: =IF(M6=AF6,"Con",IF(N6=AF6,"Lab",IF(O6=AF6,"LD",IF(P6=AF6,"Grn",IF(Q6=AF6,"Ref",IF(R6=AF6,"SNP","OTH ")))))) -> SNP | AI6: Con | AJ6: =AD6 -> Con | AK6: =IF(AJ6=AI6,"Hold","Gain from") -> Hold | AL6: =IF(AK6="Hold","",(AI6)) | AN6: 0.48959974 | AO6: 0.045550578 | AP6: 0.044605065 | AQ6: 0 | AR6: 0 | AS6: 0.41675173 | AT6: 0.0034928902
A7: Airdrie | B7: Scotland | C7: Scotland | D7: =(Scot19!D7+Scot19!AH7+(Scot19!AY7)+Scot19!AZ7+Scot19!AI7+Scot19!E7) -> 4604.2395 | E7: =(Scot19!F7+Scot19!AJ7+Scot19!BA7)+(Scot19!BB7+Scot19!AK7+Scot19!G7) -> 18783.78 | F7: =(Scot19!H7+Scot19!AL7+Scot19!BC7)+(Scot19!BD7+Scot19!AM7+Scot19!I7) -> 1314.1112 | G7: =(Scot19!J7+Scot19!AN7+Scot19!BE7)+(Scot19!BF7+Scot19!AO7+Scot19!K7) -> 1176.9531 | H7: =(Scot19!L7+Scot19!AP7+Scot19!BG7)+(Scot19!BH7+Scot19!AQ7+Scot19!M7) -> 833.19151 | I7: =(Scot19!N7+Scot19!AR7+Scot19!BI7)+(Scot19!BJ7+Scot19!AS7+Scot19!O7) -> 17688.975 | J7: =(Scot19!P7+Scot19!AT7+Scot19!BK7)+(Scot19!BL7+Scot19!AU7+Scot19!Q7) -> 857.11906 | K7: =SUM(D7:J7) -> 45258.369 | M7: =D7/K7 -> 0.10173233 | N7: =E7/K7 -> 0.4150344 | O7: =F7/K7 -> 0.029035761 | P7: =G7/K7 -> 0.026005204 | Q7: =H7/K7 -> 0.018409667 | R7: =I7/K7 -> 0.39084428 | S7: =J7/K7 -> 0.018938355 | U7: =M7-AN7 -> -0.072546187 | V7: =N7-AO7 -> 0.097069646 | W7: =O7-AP7 -> -0.0062697243 | X7: =P7-AQ7 -> 0.011797817 | Y7: =Q7-AR7 -> 0.018409667 | Z7: =R7-AS7 -> -0.064590601 | AA7: =S7-AT7 -> 0.016129382 | AC7: =LARGE(M7:S7,1) -> 0.4150344 | AD7: =IF(M7=AC7,"Con",IF(N7=AC7,"Lab",IF(O7=AC7,"LD",IF(P7=AC7,"Grn",IF(Q7=AC7,"Ref",IF(R7=AC7,"SNP","OTH ")))))) -> Lab | AE7: =AC7-AF7 -> 0.024190115 | AF7: =LARGE(M7:S7,2) -> 0.39084428 | AG7: =IF(M7=AF7,"Con",IF(N7=AF7,"Lab",IF(O7=AF7,"LD",IF(P7=AF7,"Grn",IF(Q7=AF7,"Ref",IF(R7=AF7,"SNP","OTH ")))))) -> SNP | AI7: SNP | AJ7: =AD7 -> Lab | AK7: =IF(AJ7=AI7,"Hold","Gain from") -> Gain from | AL7: =IF(AK7="Hold","",(AI7)) -> SNP | AN7: 0.17427852 | AO7: 0.31796475 | AP7: 0.035305485 | AQ7: 0.014207387 | AR7: 0 | AS7: 0.45543488 | AT7: 0.0028089734
A8: Argyll, Bute and South Lochaber | B8: Scotland | C8: Scotland | D8: =(Scot19!D8+Scot19!AH8+(Scot19!AY8)+Scot19!AZ8+Scot19!AI8+Scot19!E8) -> 13234.968 | E8: =(Scot19!F8+Scot19!AJ8+Scot19!BA8)+(Scot19!BB8+Scot19!AK8+Scot19!G8) -> 9444.7153 | F8: =(Scot19!H8+Scot19!AL8+Scot19!BC8)+(Scot19!BD8+Scot19!AM8+Scot19!I8) -> 6513.6618 | G8: =(Scot19!J8+Scot19!AN8+Scot19!BE8)+(Scot19!BF8+Scot19!AO8+Scot19!K8) -> 739.08702 | H8: =(Scot19!L8+Scot19!AP8+Scot19!BG8)+(Scot19!BH8+Scot19!AQ8+Scot19!M8) -> 1168.2609 | I8: =(Scot19!N8+Scot19!AR8+Scot19!BI8)+(Scot19!BJ8+Scot19!AS8+Scot19!O8) -> 18937.423 | J8: =(Scot19!P8+Scot19!AT8+Scot19!BK8)+(Scot19!BL8+Scot19!AU8+Scot19!Q8) -> 1056.0912 | K8: =SUM(D8:J8) -> 51094.207 | M8: =D8/K8 -> 0.25903069 | N8: =E8/K8 -> 0.18484904 | O8: =F8/K8 -> 0.12748337 | P8: =G8/K8 -> 0.014465182 | Q8: =H8/K8 -> 0.02286484 | R8: =I8/K8 -> 0.37063738 | S8: =J8/K8 -> 0.020669489 | U8: =M8-AN8 -> -0.082808464 | V8: =N8-AO8 -> 0.11888604 | W8: =O8-AP8 -> -0.027476208 | X8: =P8-AQ8 -> 0.014465182 | Y8: =Q8-AR8 -> 0.021693514 | Z8: =R8-AS8 -> -0.064552439 | AA8: =S8-AT8 -> 0.019792374 | AC8: =LARGE(M8:S8,1) -> 0.37063738 | AD8: =IF(M8=AC8,"Con",IF(N8=AC8,"Lab",IF(O8=AC8,"LD",IF(P8=AC8,"Grn",IF(Q8=AC8,"Ref",IF(R8=AC8,"SNP","OTH ")))))) -> SNP | AE8: =AC8-AF8 -> 0.1116067 | AF8: =LARGE(M8:S8,2) -> 0.25903069 | AG8: =IF(M8=AF8,"Con",IF(N8=AF8,"Lab",IF(O8=AF8,"LD",IF(P8=AF8,"Grn",IF(Q8=AF8,"Ref",IF(R8=AF8,"SNP","OTH ")))))) -> Con | AI8: SNP | AJ8: =AD8 -> SNP | AK8: =IF(AJ8=AI8,"Hold","Gain from") -> Hold | AL8: =IF(AK8="Hold","",(AI8)) | AN8: 0.34183915 | AO8: 0.065963003 | AP8: 0.15495958 | AQ8: 0 | AR8: 0.0011713262 | AS8: 0.43518982 | AT8: 0.00087711449
A9: Ayr, Carrick and Cumnock | B9: Scotland | C9: Scotland | D9: =(Scot19!D9+Scot19!AH9+(Scot19!AY9)+Scot19!AZ9+Scot19!AI9+Scot19!E9) -> 14034.079 | E9: =(Scot19!F9+Scot19!AJ9+Scot19!BA9)+(Scot19!BB9+Scot19!AK9+Scot19!G9) -> 11143.749 | F9: =(Scot19!H9+Scot19!AL9+Scot19!BC9)+(Scot19!BD9+Scot19!AM9+Scot19!I9) -> 1780.1568 | G9: =(Scot19!J9+Scot19!AN9+Scot19!BE9)+(Scot19!BF9+Scot19!AO9+Scot19!K9) -> 598.17252 | H9: =(Scot19!L9+Scot19!AP9+Scot19!BG9)+(Scot19!BH9+Scot19!AQ9+Scot19!M9) -> 933.40636 | I9: =(Scot19!N9+Scot19!AR9+Scot19!BI9)+(Scot19!BJ9+Scot19!AS9+Scot19!O9) -> 17272.264 | J9: =(Scot19!P9+Scot19!AT9+Scot19!BK9)+(Scot19!BL9+Scot19!AU9+Scot19!Q9) -> 818.43383 | K9: =SUM(D9:J9) -> 46580.262 | M9: =D9/K9 -> 0.3012881 | N9: =E9/K9 -> 0.23923758 | O9: =F9/K9 -> 0.038216978 | P9: =G9/K9 -> 0.012841759 | Q9: =H9/K9 -> 0.020038667 | R9: =I9/K9 -> 0.37080651 | S9: =J9/K9 -> 0.0175704 | U9: =M9-AN9 -> -0.083253159 | V9: =N9-AO9 -> 0.10565896 | W9: =O9-AP9 -> -0.0082522347 | X9: =P9-AQ9 -> 0.012841759 | Y9: =Q9-AR9 -> 0.020038667 | Z9: =R9-AS9 -> -0.064590601 | AA9: =S9-AT9 -> 0.017556608 | AC9: =LARGE(M9:S9,1) -> 0.37080651 | AD9: =IF(M9=AC9,"Con",IF(N9=AC9,"Lab",IF(O9=AC9,"LD",IF(P9=AC9,"Grn",IF(Q9=AC9,"Ref",IF(R9=AC9,"SNP","OTH ")))))) -> SNP | AE9: =AC9-AF9 -> 0.069518405 | AF9: =LARGE(M9:S9,2) -> 0.3012881 | AG9: =IF(M9=AF9,"Con",IF(N9=AF9,"Lab",IF(O9=AF9,"LD",IF(P9=AF9,"Grn",IF(Q9=AF9,"Ref",IF(R9=AF9,"SNP","OTH ")))))) -> Con | AI9: SNP | AJ9: =AD9 -> SNP | AK9: =IF(AJ9=AI9,"Hold","Gain from") -> Hold | AL9: =IF(AK9="Hold","",(AI9)) | AN9: 0.38454126 | AO9: 0.13357862 | AP9: 0.046469213 | AQ9: 0 | AR9: 0 | AS9: 0.43539711 | AT9: 1.3792138e-05
A10: Bathgate and Linlithgow | B10: Scotland | C10: Scotland | D10: =(Scot19!D10+Scot19!AH10+(Scot19!AY10)+Scot19!AZ10+Scot19!AI10+Scot19!E10) -> 6986.2342 | E10: =(Scot19!F10+Scot19!AJ10+Scot19!BA10)+(Scot19!BB10+Scot19!AK10+Scot19!G10) -> 13569.231 | F10: =(Scot19!H10+Scot19!AL10+Scot19!BC10)+(Scot19!BD10+Scot19!AM10+Scot19!I10) -> 2959.1485 | G10: =(Scot19!J10+Scot19!AN10+Scot19!BE10)+(Scot19!BF10+Scot19!AO10+Scot19!K10) -> 1561.4581 | H10: =(Scot19!L10+Scot19!AP10+Scot19!BG10)+(Scot19!BH10+Scot19!AQ10+Scot19!M10) -> 1207.5777 | I10: =(Scot19!N10+Scot19!AR10+Scot19!BI10)+(Scot19!BJ10+Scot19!AS10+Scot19!O10) -> 17346.943 | J10: =(Scot19!P10+Scot19!AT10+Scot19!BK10)+(Scot19!BL10+Scot19!AU10+Scot19!Q10) -> 1302.5215 | K10: =SUM(D10:J10) -> 44933.114 | M10: =D10/K10 -> 0.15548075 | N10: =E10/K10 -> 0.30198732 | O10: =F10/K10 -> 0.065856742 | P10: =G10/K10 -> 0.034750722 | Q10: =H10/K10 -> 0.026875007 | R10: =I10/K10 -> 0.38606145 | S10: =J10/K10 -> 0.028988008 | U10: =M10-AN10 -> -0.075749891 | V10: =N10-AO10 -> 0.112994 | W10: =O10-AP10 -> -0.01345049 | X10: =P10-AQ10 -> 0.014015046 | Y10: =Q10-AR10 -> 0.0066888133 | Z10: =R10-AS10 -> -0.063909048 | AA10: =S10-AT10 -> 0.019411573 | AC10: =LARGE(M10:S10,1) -> 0.38606145 | AD10: =IF(M10=AC10,"Con",IF(N10=AC10,"Lab",IF(O10=AC10,"LD",IF(P10=AC10,"Grn",IF(Q10=AC10,"Ref",IF(R10=AC10,"SNP","OTH ")))))) -> SNP | AE10: =AC10-AF10 -> 0.084074129 | AF10: =LARGE(M10:S10,2) -> 0.30198732 | AG10: =IF(M10=AF10,"Con",IF(N10=AF10,"Lab",IF(O10=AF10,"LD",IF(P10=AF10,"Grn",IF(Q10=AF10,"Ref",IF(R10=AF10,"SNP","OTH ")))))) -> Lab | AI10: SNP | AJ10: =AD10 -> SNP | AK10: =IF(AJ10=AI10,"Hold","Gain from") -> Hold | AL10: =IF(AK10="Hold","",(AI10)) | AN10: 0.23123064 | AO10: 0.18899332 | AP10: 0.079307232 | AQ10: 0.020735675 | AR10: 0.020186193 | AS10: 0.4499705 | AT10: 0.0095764355
A11: Bearsden and Campsie Fells | B11: Scotland | C11: Scotland | D11: =(Scot19!D11+Scot19!AH11+(Scot19!AY11)+Scot19!AZ11+Scot19!AI11+Scot19!E11) -> 4896.2718 | E11: =(Scot19!F11+Scot19!AJ11+Scot19!BA11)+(Scot19!BB11+Scot19!AK11+Scot19!G11) -> 12477.345 | F11: =(Scot19!H11+Scot19!AL11+Scot19!BC11)+(Scot19!BD11+Scot19!AM11+Scot19!I11) -> 15459.48 | G11: =(Scot19!J11+Scot19!AN11+Scot19!BE11)+(Scot19!BF11+Scot19!AO11+Scot19!K11) -> 1586.8135 | H11: =(Scot19!L11+Scot19!AP11+Scot19!BG11)+(Scot19!BH11+Scot19!AQ11+Scot19!M11) -> 1147.3027 | I11: =(Scot19!N11+Scot19!AR11+Scot19!BI11)+(Scot19!BJ11+Scot19!AS11+Scot19!O11) -> 17319.502 | J11: =(Scot19!P11+Scot19!AT11+Scot19!BK11)+(Scot19!BL11+Scot19!AU11+Scot19!Q11) -> 1510.9146 | K11: =SUM(D11:J11) -> 54397.629 | M11: =D11/K11 -> 0.09000892 | N11: =E11/K11 -> 0.22937295 | O11: =F11/K11 -> 0.284194 | P11: =G11/K11 -> 0.029170637 | Q11: =H11/K11 -> 0.021091042 | R11: =I11/K11 -> 0.31838708 | S11: =J11/K11 -> 0.027775376 | U11: =M11-AN11 -> -0.064186122 | V11: =N11-AO11 -> 0.11120787 | W11: =O11-AP11 -> -0.035516998 | X11: =P11-AQ11 -> 0.013516173 | Y11: =Q11-AR11 -> 0.021091042 | Z11: =R11-AS11 -> -0.064590601 | AA11: =S11-AT11 -> 0.018478632 | AC11: =LARGE(M11:S11,1) -> 0.31838708 | AD11: =IF(M11=AC11,"Con",IF(N11=AC11,"Lab",IF(O11=AC11,"LD",IF(P11=AC11,"Grn",IF(Q11=AC11,"Ref",IF(R11=AC11,"SNP","OTH ")))))) -> SNP | AE11: =AC11-AF11 -> 0.034193082 | AF11: =LARGE(M11:S11,2) -> 0.284194 | AG11: =IF(M11=AF11,"Con",IF(N11=AF11,"Lab",IF(O11=AF11,"LD",IF(P11=AF11,"Grn",IF(Q11=AF11,"Ref",IF(R11=AF11,"SNP","OTH ")))))) -> LD | AI11: SNP | AJ11: =AD11 -> SNP | AK11: =IF(AJ11=AI11,"Hold","Gain from") -> Hold | AL11: =IF(AK11="Hold","",(AI11)) | AN11: 0.15419504 | AO11: 0.11816507 | AP11: 0.31971099 | AQ11: 0.015654465 | AR11: 0 | AS11: 0.38297768 | AT11: 0.0092967445
A12: Berwickshire, Roxburgh and Selkirk | B12: Scotland | C12: Scotland | D12: =(Scot19!D12+Scot19!AH12+(Scot19!AY12)+Scot19!AZ12+Scot19!AI12+Scot19!E12) -> 21093.185 | E12: =(Scot19!F12+Scot19!AJ12+Scot19!BA12)+(Scot19!BB12+Scot19!AK12+Scot19!G12) -> 8239.0035 | F12: =(Scot19!H12+Scot19!AL12+Scot19!BC12)+(Scot19!BD12+Scot19!AM12+Scot19!I12) -> 3437.1617 | G12: =(Scot19!J12+Scot19!AN12+Scot19!BE12)+(Scot19!BF12+Scot19!AO12+Scot19!K12) -> 699.11798 | H12: =(Scot19!L12+Scot19!AP12+Scot19!BG12)+(Scot19!BH12+Scot19!AQ12+Scot19!M12) -> 1090.9247 | I12: =(Scot19!N12+Scot19!AR12+Scot19!BI12)+(Scot19!BJ12+Scot19!AS12+Scot19!O12) -> 16944.439 | J12: =(Scot19!P12+Scot19!AT12+Scot19!BK12)+(Scot19!BL12+Scot19!AU12+Scot19!Q12) -> 955.79895 | K12: =SUM(D12:J12) -> 52459.63 | M12: =D12/K12 -> 0.40208413 | N12: =E12/K12 -> 0.15705417 | O12: =F12/K12 -> 0.065520128 | P12: =G12/K12 -> 0.013326781 | Q12: =H12/K12 -> 0.020795509 | R12: =I12/K12 -> 0.32299958 | S12: =J12/K12 -> 0.018219704 | U12: =M12-AN12 -> -0.083253159 | V12: =N12-AO12 -> 0.1096496 | W12: =O12-AP12 -> -0.014147834 | X12: =P12-AQ12 -> 0.013326781 | Y12: =Q12-AR12 -> 0.020795509 | Z12: =R12-AS12 -> -0.064590601 | AA12: =S12-AT12 -> 0.018219704 | AC12: =LARGE(M12:S12,1) -> 0.40208413 | AD12: =IF(M12=AC12,"Con",IF(N12=AC12,"Lab",IF(O12=AC12,"LD",IF(P12=AC12,"Grn",IF(Q12=AC12,"Ref",IF(R12=AC12,"SNP","OTH ")))))) -> Con | AE12: =AC12-AF12 -> 0.079084546 | AF12: =LARGE(M12:S12,2) -> 0.32299958 | AG12: =IF(M12=AF12,"Con",IF(N12=AF12,"Lab",IF(O12=AF12,"LD",IF(P12=AF12,"Grn",IF(Q12=AF12,"Ref",IF(R12=AF12,"SNP","OTH ")))))) -> SNP | AI12: Con | AJ12: =AD12 -> Con | AK12: =IF(AJ12=AI12,"Hold","Gain from") -> Hold | AL12: =IF(AK12="Hold","",(AI12)) | AN12: 0.48533729 | AO12: 0.047404568 | AP12: 0.079667963 | AQ12: 0 | AR12: 0 | AS12: 0.38759018 | AT12: 0
A13: Caithness, Sutherland and Easter Ross | B13: Scotland | C13: Scotland | D13: =(Scot19!D13+Scot19!AH13+(Scot19!AY13)+Scot19!AZ13+Scot19!AI13+Scot19!E13) -> 5555.2355 | E13: =(Scot19!F13+Scot19!AJ13+Scot19!BA13)+(Scot19!BB13+Scot19!AK13+Scot19!G13) -> 9462.4219 | F13: =(Scot19!H13+Scot19!AL13+Scot19!BC13)+(Scot19!BD13+Scot19!AM13+Scot19!I13) -> 14017.059 | G13: =(Scot19!J13+Scot19!AN13+Scot19!BE13)+(Scot19!BF13+Scot19!AO13+Scot19!K13) -> 855.55324 | H13: =(Scot19!L13+Scot19!AP13+Scot19!BG13)+(Scot19!BH13+Scot19!AQ13+Scot19!M13) -> 1569.8733 | I13: =(Scot19!N13+Scot19!AR13+Scot19!BI13)+(Scot19!BJ13+Scot19!AS13+Scot19!O13) -> 16513.234 | J13: =(Scot19!P13+Scot19!AT13+Scot19!BK13)+(Scot19!BL13+Scot19!AU13+Scot19!Q13) -> 1421.0396 | K13: =SUM(D13:J13) -> 49394.417 | M13: =D13/K13 -> 0.11246687 | N13: =E13/K13 -> 0.19156866 | O13: =F13/K13 -> 0.28377821 | P13: =G13/K13 -> 0.017320849 | Q13: =H13/K13 -> 0.031782404 | R13: =I13/K13 -> 0.33431377 | S13: =J13/K13 -> 0.028769235 | U13: =M13-AN13 -> -0.069601992 | V13: =N13-AO13 -> 0.1264517 | W13: =O13-AP13 -> -0.033907956 | X13: =P13-AQ13 -> 0.015760785 | Y13: =Q13-AR13 -> 0.0030767058 | Z13: =R13-AS13 -> -0.063735419 | AA13: =S13-AT13 -> 0.021956174 | AC13: =LARGE(M13:S13,1) -> 0.33431377 | AD13: =IF(M13=AC13,"Con",IF(N13=AC13,"Lab",IF(O13=AC13,"LD",IF(P13=AC13,"Grn",IF(Q13=AC13,"Ref",IF(R13=AC13,"SNP","OTH ")))))) -> SNP | AE13: =AC13-AF13 -> 0.050535561 | AF13: =LARGE(M13:S13,2) -> 0.28377821 | AG13: =IF(M13=AF13,"Con",IF(N13=AF13,"Lab",IF(O13=AF13,"LD",IF(P13=AF13,"Grn",IF(Q13=AF13,"Ref",IF(R13=AF13,"SNP","OTH ")))))) -> LD | AI13: SNP | AJ13: =AD13 -> SNP | AK13: =IF(AJ13=AI13,"Hold","Gain from") -> Hold | AL13: =IF(AK13="Hold","",(AI13)) | AN13: 0.18206886 | AO13: 0.065116954 | AP13: 0.31768617 | AQ13: 0.0015600642 | AR13: 0.028705698 | AS13: 0.39804919 | AT13: 0.0068130611
A14: Central Ayrshire | B14: Scotland | C14: Scotland | D14: =(Scot19!D14+Scot19!AH14+(Scot19!AY14)+Scot19!AZ14+Scot19!AI14+Scot19!E14) -> 12317.83 | E14: =(Scot19!F14+Scot19!AJ14+Scot19!BA14)+(Scot19!BB14+Scot19!AK14+Scot19!G14) -> 11504.454 | F14: =(Scot19!H14+Scot19!AL14+Scot19!BC14)+(Scot19!BD14+Scot19!AM14+Scot19!I14) -> 1877.1884 | G14: =(Scot19!J14+Scot19!AN14+Scot19!BE14)+(Scot19!BF14+Scot19!AO14+Scot19!K14) -> 598.97524 | H14: =(Scot19!L14+Scot19!AP14+Scot19!BG14)+(Scot19!BH14+Scot19!AQ14+Scot19!M14) -> 934.65895 | I14: =(Scot19!N14+Scot19!AR14+Scot19!BI14)+(Scot19!BJ14+Scot19!AS14+Scot19!O14) -> 18452.546 | J14: =(Scot19!P14+Scot19!AT14+Scot19!BK14)+(Scot19!BL14+Scot19!AU14+Scot19!Q14) -> 818.88883 | K14: =SUM(D14:J14) -> 46504.542 | M14: =D14/K14 -> 0.2648737 | N14: =E14/K14 -> 0.24738344 | O14: =F14/K14 -> 0.040365701 | P14: =G14/K14 -> 0.01287993 | Q14: =H14/K14 -> 0.020098229 | R14: =I14/K14 -> 0.3967902 | S14: =J14/K14 -> 0.017608793 | U14: =M14-AN14 -> -0.083253159 | V14: =N14-AO14 -> 0.10597302 | W14: =O14-AP14 -> -0.0087162109 | X14: =P14-AQ14 -> 0.01287993 | Y14: =Q14-AR14 -> 0.020098229 | Z14: =R14-AS14 -> -0.064590601 | AA14: =S14-AT14 -> 0.017608793 | AC14: =LARGE(M14:S14,1) -> 0.3967902 | AD14: =IF(M14=AC14,"Con",IF(N14=AC14,"Lab",IF(O14=AC14,"LD",IF(P14=AC14,"Grn",IF(Q14=AC14,"Ref",IF(R14=AC14,"SNP","OTH ")))))) -> SNP | AE14: =AC14-AF14 -> 0.1319165 | AF14: =LARGE(M14:S14,2) -> 0.2648737 | AG14: =IF(M14=AF14,"Con",IF(N14=AF14,"Lab",IF(O14=AF14,"LD",IF(P14=AF14,"Grn",IF(Q14=AF14,"Ref",IF(R14=AF14,"SNP","OTH ")))))) -> Con | AI14: SNP | AJ14: =AD14 -> SNP | AK14: =IF(AJ14=AI14,"Hold","Gain from") -> Hold | AL14: =IF(AK14="Hold","",(AI14)) | AN14: 0.34812686 | AO14: 0.14141043 | AP14: 0.049081912 | AQ14: 0 | AR14: 0 | AS14: 0.4613808 | AT14: 0
... A59: West Dunbartonshire | B59: Scotland | C59: Scotland | D59: =(Scot19!D59+Scot19!AH59+(Scot19!AY59)+Scot19!AZ59+Scot19!AI59+Scot19!E59) -> 3845.1394 | E59: =(Scot19!F59+Scot19!AJ59+Scot19!BA59)+(Scot19!BB59+Scot19!AK59+Scot19!G59) -> 17440.649 | F59: =(Scot19!H59+Scot19!AL59+Scot19!BC59)+(Scot19!BD59+Scot19!AM59+Scot19!I59) -> 1592.1112 | G59: =(Scot19!J59+Scot19!AN59+Scot19!BE59)+(Scot19!BF59+Scot19!AO59+Scot19!K59) -> 1367.8351 | H59: =(Scot19!L59+Scot19!AP59+Scot19!BG59)+(Scot19!BH59+Scot19!AQ59+Scot19!M59) -> 781.51808 | I59: =(Scot19!N59+Scot19!AR59+Scot19!BI59)+(Scot19!BJ59+Scot19!AS59+Scot19!O59) -> 20057.917 | J59: =(Scot19!P59+Scot19!AT59+Scot19!BK59)+(Scot19!BL59+Scot19!AU59+Scot19!Q59) -> 1392.7165 | K59: =SUM(D59:J59) -> 46477.885 | M59: =D59/K59 -> 0.082730514 | N59: =E59/K59 -> 0.37524617 | O59: =F59/K59 -> 0.034255241 | P59: =G59/K59 -> 0.029429804 | Q59: =H59/K59 -> 0.016814837 | R59: =I59/K59 -> 0.43155829 | S59: =J59/K59 -> 0.029965144 | U59: =M59-AN59 -> -0.058995829 | V59: =N59-AO59 -> 0.0886605 | W59: =O59-AP59 -> -0.0073967724 | X59: =P59-AQ59 -> 0.010775771 | Y59: =Q59-AR59 -> 0.016814837 | Z59: =R59-AS59 -> -0.064590601 | AA59: =S59-AT59 -> 0.014732093 | AC59: =LARGE(M59:S59,1) -> 0.43155829 | AD59: =IF(M59=AC59,"Con",IF(N59=AC59,"Lab",IF(O59=AC59,"LD",IF(P59=AC59,"Grn",IF(Q59=AC59,"Ref",IF(R59=AC59,"SNP","OTH ")))))) -> SNP | AE59: =AC59-AF59 -> 0.056312116 | AF59: =LARGE(M59:S59,2) -> 0.37524617 | AG59: =IF(M59=AF59,"Con",IF(N59=AF59,"Lab",IF(O59=AF59,"LD",IF(P59=AF59,"Grn",IF(Q59=AF59,"Ref",IF(R59=AF59,"SNP","OTH ")))))) -> Lab | AI59: SNP | AJ59: =AD59 -> SNP | AK59: =IF(AJ59=AI59,"Hold","Gain from") -> Hold | AL59: =IF(AK59="Hold","",(AI59)) | AN59: 0.14172634 | AO59: 0.28658567 | AP59: 0.041652013 | AQ59: 0.018654033 | AR59: 0 | AS59: 0.49614889 | AT59: 0.015233051
L60: 2024 | M60: =COUNTIF(AD3:AD59,"Con") -> 5 | N60: =COUNTIF(AD3:AD59,"Lab") -> 11 | O60: =COUNTIF(AD3:AD59,"LD") -> 3 | P60: =COUNTIF(AD3:AD59,"Grn") -> 0 | Q60: =COUNTIF(AD3:AD59,"Ref") -> 0 | R60: =COUNTIF(AD3:AD59,"SNP") -> 38 | S60: =COUNTIF(AD3:AD59,"Oth") -> 0
M61: =M60-M62 -> -1 | N61: =N60-N62 -> 10 | O61: =O60-O62 -> 1 | P61: =P60-P62 -> 0 | Q61: =Q60-Q62 -> 0 | R61: =R60-R62 -> -10 | S61: =S60-S62 -> 0
L62: 2019 | M62: =COUNTIF(AI3:AI59,"Con") -> 6 | N62: =COUNTIF(AI3:AI59,"Lab") -> 1 | O62: =COUNTIF(AI3:AI59,"LD") -> 2 | P62: =COUNTIF(AD5:AD61,"Grn") -> 0 | Q62: =COUNTIF(AD5:AD61,"Ref") -> 0 | R62: =COUNTIF(AI3:AI59,"SNP") -> 48 | S62: =COUNTIF(AI3:AI59,"Oth") -> 0

Sheet Wales19
D1: Calculated by SEAT | S1: Ratio lost | AH1: Votes lost | AY1: Votes GAINED
A2: Constituency | B2: Region | C2: Nation | D2: con_weak | E2: con_strong | F2: lab_weak | G2: lab_strong | H2: ld_weak | I2: ld_strong | J2: grn_weak | K2: grn_strong | L2: ref_weak | M2: ref_strong | N2: pc_weak | O2: pc_strong | P2: oth_weak | Q2: oth_strong | R2: TOTAL | S2: con_weak | T2: con_strong | U2: lab_weak | V2: lab_strong | W2: ld_weak | X2: ld_strong | Y2: grn_weak | Z2: grn_strong | AA2: ref_weak | AB2: ref_strong | AC2: pc_weak | AD2: pc_strong | AE2: oth_weak | AF2: oth_strong | AH2: con_weak | AI2: con_strong | AJ2: lab_weak | AK2: lab_strong | AL2: ld_weak | AM2: ld_strong | AN2: grn_weak | AO2: grn_strong | AP2: ref_weak | AQ2: ref_strong | AR2: pc_weak | AS2: pc_strong | AT2: oth_weak | AU2: oth_strong | AV2: Total weak | AW2: Total strong | AY2: con_weak | AZ2: con_strong | BA2: lab_weak | BB2: lab_strong | BC2: ld_weak | BD2: ld_strong | BE2: grn_weak | BF2: grn_strong | BG2: ref_weak | BH2: ref_strong | BI2: pc_weak | BJ2: pc_strong | BK2: oth_weak | BL2: oth_strong
A3: Aberafan Porthcawl | B3: Wales | C3: Wales | D3: 9164.8328 | E3: 4907.6611 | F3: 9164.8328 | G3: 13676.145 | H3: 2115.0136 | I3: 0 | J3: 847.05646 | K3: 0 | L3: 1184.3556 | M3: 0 | N3: 3805.8701 | O3: 0 | P3: 958.39628 | Q3: 0 | R3: =SUM(D3:Q3) -> 45824.164 | S3: ='Projection - Wales'!B15 -> -0.80083835 | T3: ='Projection - Wales'!B16 -> 0 | U3: ='Projection - Wales'!C15 -> 0 | V3: ='Projection - Wales'!C16 -> 0 | W3: ='Projection - Wales'!D15 -> 0 | X3: ='Projection - Wales'!D16 -> 0 | Y3: ='Projection - Wales'!E15 -> 0 | Z3: ='Projection - Wales'!E16 -> 0 | AA3: ='Projection - Wales'!F15 -> 0 | AB3: ='Projection - Wales'!F16 -> 0 | AC3: ='Projection - Wales'!F15 -> 0 | AD3: ='Projection - Wales'!G16 -> 0 | AE3: ='Projection - Wales'!H15 -> 0 | AF3: ='Projection - Wales'!H16 -> 0 | AH3: =S3*D3 -> -7339.5496 | AI3: =T3*E3 -> 0 | AJ3: =U3*F3 -> 0 | AK3: =V3*G3 -> 0 | AL3: =W3*H3 -> 0 | AM3: =X3*I3 -> 0 | AN3: =Y3*J3 -> 0 | AO3: =Z3*K3 -> 0 | ... AU3: =AF3*Q3 -> 0 | AV3: =AH3+AJ3+AL3+AN3+AP3+AT3+AR3 -> -7339.5496 | AW3: =AI3+AK3+AM3+AO3+AQ3+AU3+AS3 -> 0 | AY3: ='Projection - Wales'!B$11*Wales19!AV3 -> 0 | AZ3: ='Projection - Wales'!B$11*Wales19!AV3 -> 0 | BA3: =-'Projection - Wales'!C$12*Wales19!AV3 -> 1546.5568 | BB3: =-'Projection - Wales'!C$12*Wales19!AW3 -> 0 | BC3: =-'Projection - Wales'!D$12*Wales19!AV3 -> 695.00595 | BD3: =-'Projection - Wales'!D$12*Wales19!AW3 -> 0 | BE3: =-'Projection - Wales'!E$12*Wales19!AV3 -> 1219.5151 | BF3: =-'Projection - Wales'!E$12*Wales19!AW3 -> 0 | BG3: =-'Projection - Wales'!F$12*Wales19!AV3 -> 3147.2564 | BH3: =-'Projection - Wales'!F$12*Wales19!AW3 -> 0 | BI3: =-'Projection - Wales'!G$12*Wales19!AV3 -> 376.07837 | BJ3: =-'Projection - Wales'!G$12*Wales19!AW3 -> 0 | BK3: =-'Projection - Wales'!H$12*Wales19!AV3 -> 355.1369 | BL3: =-'Projection - Wales'!H$12*Wales19!AW3 -> 0
A4: Alyn and Deeside | B4: Wales | C4: Wales | D4: 10216.84 | E4: 11860.863 | F4: 10216.84 | G4: 12852.011 | H4: 2909.087 | I4: 0 | J4: 109.72817 | K4: 0 | L4: 1028.7016 | M4: 0 | N4: 1692.6195 | O4: 0 | P4: 197.51071 | Q4: 0 | R4: =SUM(D4:Q4) -> 51084.2 | S4: =S3 -> -0.80083835 | T4: =T3 -> 0 | U4: =U3 -> 0 | V4: =V3 -> 0 | W4: =W3 -> 0 | X4: =X3 -> 0 | Y4: =Y3 -> 0 | Z4: =Z3 -> 0 | ... AF4: =AF3 -> 0 | AH4: =S4*D4 -> -8182.0374 | AI4: =T4*E4 -> 0 | AJ4: =U4*F4 -> 0 | AK4: =V4*G4 -> 0 | AL4: =W4*H4 -> 0 | AM4: =X4*I4 -> 0 | AN4: =Y4*J4 -> 0 | AO4: =Z4*K4 -> 0 | ... AU4: =AF4*Q4 -> 0 | AV4: =AH4+AJ4+AL4+AN4+AP4+AT4 -> -8182.0374 | AW4: =AI4+AK4+AM4+AO4+AQ4+AU4 -> 0 | AY4: ='Projection - Wales'!B$11*Wales19!AV4 -> 0 | AZ4: ='Projection - Wales'!B$11*Wales19!AV4 -> 0 | BA4: =-'Projection - Wales'!C$12*Wales19!AV4 -> 1724.082 | BB4: =-'Projection - Wales'!C$12*Wales19!AW4 -> 0 | BC4: =-'Projection - Wales'!D$12*Wales19!AV4 -> 774.78387 | BD4: =-'Projection - Wales'!D$12*Wales19!AW4 -> 0 | BE4: =-'Projection - Wales'!E$12*Wales19!AV4 -> 1359.5001 | BF4: =-'Projection - Wales'!E$12*Wales19!AW4 -> 0 | BG4: =-'Projection - Wales'!F$12*Wales19!AV4 -> 3508.5218 | BH4: =-'Projection - Wales'!F$12*Wales19!AW4 -> 0 | BI4: =-'Projection - Wales'!G$12*Wales19!AV4 -> 419.24743 | BJ4: =-'Projection - Wales'!G$12*Wales19!AW4 -> 0 | BK4: =-'Projection - Wales'!H$12*Wales19!AV4 -> 395.90214 | BL4: =-'Projection - Wales'!H$12*Wales19!AW4 -> 0
A5: Bangor Aberconwy | B5: Wales | C5: Wales | D5: 9849.4553 | E5: 10960.122 | F5: 9849.4553 | G5: 9005.7476 | H5: 2311.2385 | I5: 0 | J5: 13.141847 | K5: 0 | L5: 123.20482 | M5: 0 | N5: 7111.2556 | O5: 0 | P5: 23.655325 | Q5: 0 | R5: =SUM(D5:Q5) -> 49247.276 | S5: =S4 -> -0.80083835 | T5: =T4 -> 0 | U5: =U4 -> 0 | V5: =V4 -> 0 | W5: =W4 -> 0 | X5: =X4 -> 0 | Y5: =Y4 -> 0 | Z5: =Z4 -> 0 | ... AF5: =AF4 -> 0 | AH5: =S5*D5 -> -7887.8215 | AI5: =T5*E5 -> 0 | AJ5: =U5*F5 -> 0 | AK5: =V5*G5 -> 0 | AL5: =W5*H5 -> 0 | AM5: =X5*I5 -> 0 | AN5: =Y5*J5 -> 0 | AO5: =Z5*K5 -> 0 | ... AU5: =AF5*Q5 -> 0 | AV5: =AH5+AJ5+AL5+AN5+AP5+AT5 -> -7887.8215 | AW5: =AI5+AK5+AM5+AO5+AQ5+AU5 -> 0 | AY5: ='Projection - Wales'!B$11*Wales19!AV5 -> 0 | AZ5: ='Projection - Wales'!B$11*Wales19!AV5 -> 0 | BA5: =-'Projection - Wales'!C$12*Wales19!AV5 -> 1662.0862 | BB5: =-'Projection - Wales'!C$12*Wales19!AW5 -> 0 | BC5: =-'Projection - Wales'!D$12*Wales19!AV5 -> 746.92361 | BD5: =-'Projection - Wales'!D$12*Wales19!AW5 -> 0 | BE5: =-'Projection - Wales'!E$12*Wales19!AV5 -> 1310.6142 | BF5: =-'Projection - Wales'!E$12*Wales19!AW5 -> 0 | BG5: =-'Projection - Wales'!F$12*Wales19!AV5 -> 3382.3597 | BH5: =-'Projection - Wales'!F$12*Wales19!AW5 -> 0 | BI5: =-'Projection - Wales'!G$12*Wales19!AV5 -> 404.17182 | BJ5: =-'Projection - Wales'!G$12*Wales19!AW5 -> 0 | BK5: =-'Projection - Wales'!H$12*Wales19!AV5 -> 381.666 | BL5: =-'Projection - Wales'!H$12*Wales19!AW5 -> 0
A6: Blaenau Gwent and Rhymney | B6: Wales | C6: Wales | D6: 8359.6518 | E6: 2424.6772 | F6: 8359.6518 | G6: 13440.195 | H6: 1791.2546 | I6: 0 | J6: 673.98933 | K6: 0 | L6: 2508.021 | M6: 0 | N6: 3350.7465 | O6: 0 | P6: 890.07197 | Q6: 0 | R6: =SUM(D6:Q6) -> 41798.259 | S6: =S5 -> -0.80083835 | T6: =T5 -> 0 | U6: =U5 -> 0 | V6: =V5 -> 0 | W6: =W5 -> 0 | X6: =X5 -> 0 | Y6: =Y5 -> 0 | Z6: =Z5 -> 0 | ... AF6: =AF5 -> 0 | AH6: =S6*D6 -> -6694.7298 | AI6: =T6*E6 -> 0 | AJ6: =U6*F6 -> 0 | AK6: =V6*G6 -> 0 | AL6: =W6*H6 -> 0 | AM6: =X6*I6 -> 0 | AN6: =Y6*J6 -> 0 | AO6: =Z6*K6 -> 0 | ... AU6: =AF6*Q6 -> 0 | AV6: =AH6+AJ6+AL6+AN6+AP6+AT6 -> -6694.7298 | AW6: =AI6+AK6+AM6+AO6+AQ6+AU6 -> 0 | AY6: ='Projection - Wales'!B$11*Wales19!AV6 -> 0 | AZ6: ='Projection - Wales'!B$11*Wales19!AV6 -> 0 | BA6: =-'Projection - Wales'!C$12*Wales19!AV6 -> 1410.6833 | BB6: =-'Projection - Wales'!C$12*Wales19!AW6 -> 0 | BC6: =-'Projection - Wales'!D$12*Wales19!AV6 -> 633.94585 | BD6: =-'Projection - Wales'!D$12*Wales19!AW6 -> 0 | BE6: =-'Projection - Wales'!E$12*Wales19!AV6 -> 1112.374 | BF6: =-'Projection - Wales'!E$12*Wales19!AW6 -> 0 | BG6: =-'Projection - Wales'!F$12*Wales19!AV6 -> 2870.7526 | BH6: =-'Projection - Wales'!F$12*Wales19!AW6 -> 0 | BI6: =-'Projection - Wales'!G$12*Wales19!AV6 -> 343.03782 | BJ6: =-'Projection - Wales'!G$12*Wales19!AW6 -> 0 | BK6: =-'Projection - Wales'!H$12*Wales19!AV6 -> 323.93617 | BL6: =-'Projection - Wales'!H$12*Wales19!AW6 -> 0
A7: Brecon, Radnor and Cwm-tawe | B7: Wales | C7: Wales | D7: 10521.299 | E7: 14498.35 | F7: 8929.5123 | G7: 0 | H7: 10521.299 | I7: 4772.8518 | J7: 281.23806 | K7: 0 | L7: 318.33269 | M7: 0 | N7: 1900.6526 | O7: 0 | P7: 862.9603 | Q7: 0 | R7: =SUM(D7:Q7) -> 52606.496 | S7: =S6 -> -0.80083835 | T7: =T6 -> 0 | U7: =U6 -> 0 | V7: =V6 -> 0 | W7: =W6 -> 0 | X7: =X6 -> 0 | Y7: =Y6 -> 0 | Z7: =Z6 -> 0 | ... AF7: =AF6 -> 0 | AH7: =S7*D7 -> -8425.8598 | AI7: =T7*E7 -> 0 | AJ7: =U7*F7 -> 0 | AK7: =V7*G7 -> 0 | AL7: =W7*H7 -> 0 | AM7: =X7*I7 -> 0 | AN7: =Y7*J7 -> 0 | AO7: =Z7*K7 -> 0 | ... AU7: =AF7*Q7 -> 0 | AV7: =AH7+AJ7+AL7+AN7+AP7+AT7 -> -8425.8598 | AW7: =AI7+AK7+AM7+AO7+AQ7+AU7 -> 0 | AY7: ='Projection - Wales'!B$11*Wales19!AV7 -> 0 | AZ7: ='Projection - Wales'!B$11*Wales19!AV7 -> 0 | BA7: =-'Projection - Wales'!C$12*Wales19!AV7 -> 1775.4592 | BB7: =-'Projection - Wales'!C$12*Wales19!AW7 -> 0 | BC7: =-'Projection - Wales'!D$12*Wales19!AV7 -> 797.87222 | BD7: =-'Projection - Wales'!D$12*Wales19!AW7 -> 0 | BE7: =-'Projection - Wales'!E$12*Wales19!AV7 -> 1400.0128 | BF7: =-'Projection - Wales'!E$12*Wales19!AW7 -> 0 | BG7: =-'Projection - Wales'!F$12*Wales19!AV7 -> 3613.0748 | BH7: =-'Projection - Wales'!F$12*Wales19!AW7 -> 0 | BI7: =-'Projection - Wales'!G$12*Wales19!AV7 -> 431.74089 | BJ7: =-'Projection - Wales'!G$12*Wales19!AW7 -> 0 | BK7: =-'Projection - Wales'!H$12*Wales19!AV7 -> 407.69992 | BL7: =-'Projection - Wales'!H$12*Wales19!AW7 -> 0
A8: Bridgend | B8: Wales | C8: Wales | D8: 9984.0193 | E8: 8088.5553 | F8: 9984.0193 | G8: 14478.403 | H8: 2250.3985 | I8: 0 | J8: 983.48762 | K8: 0 | L8: 976.09153 | M8: 0 | N8: 2987.7122 | O8: 0 | P8: 187.40957 | Q8: 0 | R8: =SUM(D8:Q8) -> 49920.096 | S8: =S7 -> -0.80083835 | T8: =T7 -> 0 | U8: =U7 -> 0 | V8: =V7 -> 0 | W8: =W7 -> 0 | X8: =X7 -> 0 | Y8: =Y7 -> 0 | Z8: =Z7 -> 0 | ... AF8: =AF7 -> 0 | AH8: =S8*D8 -> -7995.5855 | AI8: =T8*E8 -> 0 | AJ8: =U8*F8 -> 0 | AK8: =V8*G8 -> 0 | AL8: =W8*H8 -> 0 | AM8: =X8*I8 -> 0 | AN8: =Y8*J8 -> 0 | AO8: =Z8*K8 -> 0 | ... AU8: =AF8*Q8 -> 0 | AV8: =AH8+AJ8+AL8+AN8+AP8+AT8 -> -7995.5855 | AW8: =AI8+AK8+AM8+AO8+AQ8+AU8 -> 0 | AY8: ='Projection - Wales'!B$11*Wales19!AV8 -> 0 | AZ8: ='Projection - Wales'!B$11*Wales19!AV8 -> 0 | BA8: =-'Projection - Wales'!C$12*Wales19!AV8 -> 1684.7938 | BB8: =-'Projection - Wales'!C$12*Wales19!AW8 -> 0 | BC8: =-'Projection - Wales'!D$12*Wales19!AV8 -> 757.12814 | BD8: =-'Projection - Wales'!D$12*Wales19!AW8 -> 0 | BE8: =-'Projection - Wales'!E$12*Wales19!AV8 -> 1328.5199 | BF8: =-'Projection - Wales'!E$12*Wales19!AW8 -> 0 | BG8: =-'Projection - Wales'!F$12*Wales19!AV8 -> 3428.5698 | BH8: =-'Projection - Wales'!F$12*Wales19!AW8 -> 0 | BI8: =-'Projection - Wales'!G$12*Wales19!AV8 -> 409.69364 | BJ8: =-'Projection - Wales'!G$12*Wales19!AW8 -> 0 | BK8: =-'Projection - Wales'!H$12*Wales19!AV8 -> 386.88035 | BL8: =-'Projection - Wales'!H$12*Wales19!AW8 -> 0
A9: Caerfyrddin | B9: Wales | C9: Wales | D9: 10779.584 | E9: 10749.546 | F9: 10779.584 | G9: 3176.0328 | H9: 771.83255 | I9: 0 | J9: 60.999835 | K9: 0 | L9: 571.87345 | M9: 0 | N9: 10779.584 | O9: 6119.0849 | P9: 109.7997 | Q9: 0 | R9: =SUM(D9:Q9) -> 53897.922 | S9: =S8 -> -0.80083835 | T9: =T8 -> 0 | U9: =U8 -> 0 | V9: =V8 -> 0 | W9: =W8 -> 0 | X9: =X8 -> 0 | Y9: =Y8 -> 0 | Z9: =Z8 -> 0 | ... AF9: =AF8 -> 0 | AH9: =S9*D9 -> -8632.7046 | AI9: =T9*E9 -> 0 | AJ9: =U9*F9 -> 0 | AK9: =V9*G9 -> 0 | AL9: =W9*H9 -> 0 | AM9: =X9*I9 -> 0 | AN9: =Y9*J9 -> 0 | AO9: =Z9*K9 -> 0 | ... AU9: =AF9*Q9 -> 0 | AV9: =AH9+AJ9+AL9+AN9+AP9+AT9 -> -8632.7046 | AW9: =AI9+AK9+AM9+AO9+AQ9+AU9 -> 0 | AY9: ='Projection - Wales'!B$11*Wales19!AV9 -> 0 | AZ9: ='Projection - Wales'!B$11*Wales19!AV9 -> 0 | BA9: =-'Projection - Wales'!C$12*Wales19!AV9 -> 1819.0446 | BB9: =-'Projection - Wales'!C$12*Wales19!AW9 -> 0 | BC9: =-'Projection - Wales'!D$12*Wales19!AV9 -> 817.45903 | BD9: =-'Projection - Wales'!D$12*Wales19!AW9 -> 0 | BE9: =-'Projection - Wales'!E$12*Wales19!AV9 -> 1434.3815 | BF9: =-'Projection - Wales'!E$12*Wales19!AW9 -> 0 | BG9: =-'Projection - Wales'!F$12*Wales19!AV9 -> 3701.7714 | BH9: =-'Projection - Wales'!F$12*Wales19!AW9 -> 0 | BI9: =-'Projection - Wales'!G$12*Wales19!AV9 -> 442.33961 | BJ9: =-'Projection - Wales'!G$12*Wales19!AW9 -> 0 | BK9: =-'Projection - Wales'!H$12*Wales19!AV9 -> 417.70846 | BL9: =-'Projection - Wales'!H$12*Wales19!AW9 -> 0
A10: Caerphilly | B10: Wales | C10: Wales | D10: 8801.3832 | E10: 5650.5306 | F10: 8801.3832 | G10: 11425.678 | H10: 479.97558 | I10: 0 | J10: 309.6151 | K10: 0 | L10: 1507.8697 | M10: 0 | N10: 6740.9691 | O10: 0 | P10: 289.51099 | Q10: 0 | R10: =SUM(D10:Q10) -> 44006.916 | S10: =S9 -> -0.80083835 | T10: =T9 -> 0 | U10: =U9 -> 0 | V10: =V9 -> 0 | W10: =W9 -> 0 | X10: =X9 -> 0 | Y10: =Y9 -> 0 | Z10: =Z9 -> 0 | ... AF10: =AF9 -> 0 | AH10: =S10*D10 -> -7048.4852 | AI10: =T10*E10 -> 0 | AJ10: =U10*F10 -> 0 | AK10: =V10*G10 -> 0 | AL10: =W10*H10 -> 0 | AM10: =X10*I10 -> 0 | AN10: =Y10*J10 -> 0 | AO10: =Z10*K10 -> 0 | ... AU10: =AF10*Q10 -> 0 | AV10: =AH10+AJ10+AL10+AN10+AP10+AT10 -> -7048.4852 | AW10: =AI10+AK10+AM10+AO10+AQ10+AU10 -> 0 | AY10: ='Projection - Wales'!B$11*Wales19!AV10 -> 0 | AZ10: ='Projection - Wales'!B$11*Wales19!AV10 -> 0 | BA10: =-'Projection - Wales'!C$12*Wales19!AV10 -> 1485.225 | BB10: =-'Projection - Wales'!C$12*Wales19!AW10 -> 0 | BC10: =-'Projection - Wales'!D$12*Wales19!AV10 -> 667.44411 | BD10: =-'Projection - Wales'!D$12*Wales19!AW10 -> 0 | BE10: =-'Projection - Wales'!E$12*Wales19!AV10 -> 1171.1529 | BF10: =-'Projection - Wales'!E$12*Wales19!AW10 -> 0 | BG10: =-'Projection - Wales'!F$12*Wales19!AV10 -> 3022.4457 | BH10: =-'Projection - Wales'!F$12*Wales19!AW10 -> 0 | BI10: =-'Projection - Wales'!G$12*Wales19!AV10 -> 361.16424 | BJ10: =-'Projection - Wales'!G$12*Wales19!AW10 -> 0 | BK10: =-'Projection - Wales'!H$12*Wales19!AV10 -> 341.05325 | BL10: =-'Projection - Wales'!H$12*Wales19!AW10 -> 0
A11: Cardiff East | B11: Wales | C11: Wales | D11: 9810.5321 | E11: 1674.8673 | F11: 9810.5321 | G11: 19806.081 | H11: 5479.6795 | I11: 0 | J11: 357.36383 | K11: 0 | L11: 590.95026 | M11: 0 | N11: 984.36356 | O11: 0 | P11: 538.29067 | Q11: 0 | R11: =SUM(D11:Q11) -> 49052.66 | S11: =S10 -> -0.80083835 | T11: =T10 -> 0 | U11: =U10 -> 0 | V11: =V10 -> 0 | W11: =W10 -> 0 | X11: =X10 -> 0 | Y11: =Y10 -> 0 | Z11: =Z10 -> 0 | ... AF11: =AF10 -> 0 | AH11: =S11*D11 -> -7856.6503 | AI11: =T11*E11 -> 0 | AJ11: =U11*F11 -> 0 | AK11: =V11*G11 -> 0 | AL11: =W11*H11 -> 0 | AM11: =X11*I11 -> 0 | AN11: =Y11*J11 -> 0 | AO11: =Z11*K11 -> 0 | ... AU11: =AF11*Q11 -> 0 | AV11: =AH11+AJ11+AL11+AN11+AP11+AT11 -> -7856.6503 | AW11: =AI11+AK11+AM11+AO11+AQ11+AU11 -> 0 | AY11: ='Projection - Wales'!B$11*Wales19!AV11 -> 0 | AZ11: ='Projection - Wales'!B$11*Wales19!AV11 -> 0 | BA11: =-'Projection - Wales'!C$12*Wales19!AV11 -> 1655.5179 | BB11: =-'Projection - Wales'!C$12*Wales19!AW11 -> 0 | BC11: =-'Projection - Wales'!D$12*Wales19!AV11 -> 743.97191 | BD11: =-'Projection - Wales'!D$12*Wales19!AW11 -> 0 | BE11: =-'Projection - Wales'!E$12*Wales19!AV11 -> 1305.4349 | BF11: =-'Projection - Wales'!E$12*Wales19!AW11 -> 0 | BG11: =-'Projection - Wales'!F$12*Wales19!AV11 -> 3368.9932 | BH11: =-'Projection - Wales'!F$12*Wales19!AW11 -> 0 | BI11: =-'Projection - Wales'!G$12*Wales19!AV11 -> 402.57461 | BJ11: =-'Projection - Wales'!G$12*Wales19!AW11 -> 0 | BK11: =-'Projection - Wales'!H$12*Wales19!AV11 -> 380.15772 | BL11: =-'Projection - Wales'!H$12*Wales19!AW11 -> 0
A12: Cardiff North | B12: Wales | C12: Wales | D12: 10923.263 | E12: 9345.9263 | F12: 10923.263 | G12: 16259.434 | H12: 3626.9801 | I12: 0 | J12: 866.98008 | K12: 0 | L12: 440.43822 | M12: 0 | N12: 1858.6734 | O12: 0 | P12: 371.35653 | Q12: 0 | R12: =SUM(D12:Q12) -> 54616.314 | S12: =S11 -> -0.80083835 | T12: =T11 -> 0 | U12: =U11 -> 0 | V12: =V11 -> 0 | W12: =W11 -> 0 | X12: =X11 -> 0 | Y12: =Y11 -> 0 | Z12: =Z11 -> 0 | ... AF12: =AF11 -> 0 | AH12: =S12*D12 -> -8747.7678 | AI12: =T12*E12 -> 0 | AJ12: =U12*F12 -> 0 | AK12: =V12*G12 -> 0 | AL12: =W12*H12 -> 0 | AM12: =X12*I12 -> 0 | AN12: =Y12*J12 -> 0 | AO12: =Z12*K12 -> 0 | ... AU12: =AF12*Q12 -> 0 | AV12: =AH12+AJ12+AL12+AN12+AP12+AT12 -> -8747.7678 | AW12: =AI12+AK12+AM12+AO12+AQ12+AU12 -> 0 | AY12: ='Projection - Wales'!B$11*Wales19!AV12 -> 0 | AZ12: ='Projection - Wales'!B$11*Wales19!AV12 -> 0 | BA12: =-'Projection - Wales'!C$12*Wales19!AV12 -> 1843.2902 | BB12: =-'Projection - Wales'!C$12*Wales19!AW12 -> 0 | BC12: =-'Projection - Wales'!D$12*Wales19!AV12 -> 828.35474 | BD12: =-'Projection - Wales'!D$12*Wales19!AW12 -> 0 | BE12: =-'Projection - Wales'!E$12*Wales19!AV12 -> 1453.5 | BF12: =-'Projection - Wales'!E$12*Wales19!AW12 -> 0 | BG12: =-'Projection - Wales'!F$12*Wales19!AV12 -> 3751.1114 | BH12: =-'Projection - Wales'!F$12*Wales19!AW12 -> 0 | BI12: =-'Projection - Wales'!G$12*Wales19!AV12 -> 448.23545 | BJ12: =-'Projection - Wales'!G$12*Wales19!AW12 -> 0 | BK12: =-'Projection - Wales'!H$12*Wales19!AV12 -> 423.276 | BL12: =-'Projection - Wales'!H$12*Wales19!AW12 -> 0
A13: Cardiff South and Penarth | B13: Wales | C13: Wales | D13: 9642.5917 | E13: 6008.5784 | F13: 9642.5917 | G13: 15903.815 | H13: 3899.4805 | I13: 0 | J13: 1204.511 | K13: 0 | L13: 310.54974 | M13: 0 | N13: 1440.1004 | O13: 0 | P13: 160.73956 | Q13: 0 | R13: =SUM(D13:Q13) -> 48212.959 | S13: =S12 -> -0.80083835 | T13: =T12 -> 0 | U13: =U12 -> 0 | V13: =V12 -> 0 | W13: =W12 -> 0 | X13: =X12 -> 0 | Y13: =Y12 -> 0 | Z13: =Z12 -> 0 | ... AF13: =AF12 -> 0 | AH13: =S13*D13 -> -7722.1572 | AI13: =T13*E13 -> 0 | AJ13: =U13*F13 -> 0 | AK13: =V13*G13 -> 0 | AL13: =W13*H13 -> 0 | AM13: =X13*I13 -> 0 | AN13: =Y13*J13 -> 0 | AO13: =Z13*K13 -> 0 | ... AU13: =AF13*Q13 -> 0 | AV13: =AH13+AJ13+AL13+AN13+AP13+AT13 -> -7722.1572 | AW13: =AI13+AK13+AM13+AO13+AQ13+AU13 -> 0 | AY13: ='Projection - Wales'!B$11*Wales19!AV13 -> 0 | AZ13: ='Projection - Wales'!B$11*Wales19!AV13 -> 0 | BA13: =-'Projection - Wales'!C$12*Wales19!AV13 -> 1627.1782 | BB13: =-'Projection - Wales'!C$12*Wales19!AW13 -> 0 | BC13: =-'Projection - Wales'!D$12*Wales19!AV13 -> 731.23632 | BD13: =-'Projection - Wales'!D$12*Wales19!AW13 -> 0 | BE13: =-'Projection - Wales'!E$12*Wales19!AV13 -> 1283.088 | BF13: =-'Projection - Wales'!E$12*Wales19!AW13 -> 0 | BG13: =-'Projection - Wales'!F$12*Wales19!AV13 -> 3311.3216 | BH13: =-'Projection - Wales'!F$12*Wales19!AW13 -> 0 | BI13: =-'Projection - Wales'!G$12*Wales19!AV13 -> 395.68318 | BJ13: =-'Projection - Wales'!G$12*Wales19!AW13 -> 0 | BK13: =-'Projection - Wales'!H$12*Wales19!AV13 -> 373.65004 | BL13: =-'Projection - Wales'!H$12*Wales19!AW13 -> 0
A14: Cardiff West | B14: Wales | C14: Wales | D14: 10246.014 | E14: 5643.1433 | F14: 10246.014 | G14: 15618.371 | H14: 2869.0996 | I14: 0 | J14: 1214.431 | K14: 0 | L14: 526.18158 | M14: 0 | N14: 4468.5039 | O14: 0 | P14: 398.312 | Q14: 0 | R14: =SUM(D14:Q14) -> 51230.071 | S14: =S13 -> -0.80083835 | T14: =T13 -> 0 | U14: =U13 -> 0 | V14: =V13 -> 0 | W14: =W13 -> 0 | X14: =X13 -> 0 | Y14: =Y13 -> 0 | Z14: =Z13 -> 0 | ... AF14: =AF13 -> 0 | AH14: =S14*D14 -> -8205.4012 | AI14: =T14*E14 -> 0 | AJ14: =U14*F14 -> 0 | AK14: =V14*G14 -> 0 | AL14: =W14*H14 -> 0 | AM14: =X14*I14 -> 0 | AN14: =Y14*J14 -> 0 | AO14: =Z14*K14 -> 0 | ... AU14: =AF14*Q14 -> 0 | AV14: =AH14+AJ14+AL14+AN14+AP14+AT14 -> -8205.4012 | AW14: =AI14+AK14+AM14+AO14+AQ14+AU14 -> 0 | AY14: ='Projection - Wales'!B$11*Wales19!AV14 -> 0 | AZ14: ='Projection - Wales'!B$11*Wales19!AV14 -> 0 | BA14: =-'Projection - Wales'!C$12*Wales19!AV14 -> 1729.0052 | BB14: =-'Projection - Wales'!C$12*Wales19!AW14 -> 0 | BC14: =-'Projection - Wales'!D$12*Wales19!AV14 -> 776.99627 | BD14: =-'Projection - Wales'!D$12*Wales19!AW14 -> 0 | BE14: =-'Projection - Wales'!E$12*Wales19!AV14 -> 1363.3822 | BF14: =-'Projection - Wales'!E$12*Wales19!AW14 -> 0 | BG14: =-'Projection - Wales'!F$12*Wales19!AV14 -> 3518.5404 | BH14: =-'Projection - Wales'!F$12*Wales19!AW14 -> 0 | BI14: =-'Projection - Wales'!G$12*Wales19!AV14 -> 420.44459 | BJ14: =-'Projection - Wales'!G$12*Wales19!AW14 -> 0 | BK14: =-'Projection - Wales'!H$12*Wales19!AV14 -> 397.03264 | BL14: =-'Projection - Wales'!H$12*Wales19!AW14 -> 0
A15: Ceredigion Preseli | B15: Wales | C15: Wales | D15: 10515.625 | E15: 6058.3391 | F15: 9358.8996 | G15: 0 | H15: 7799.6452 | I15: 0 | J15: 729.016 | K15: 0 | L15: 618.9 | M15: 0 | N15: 10515.625 | O15: 6863.2471 | P15: 118.8288 | Q15: 0 | R15: =SUM(D15:Q15) -> 52578.126 | S15: =S14 -> -0.80083835 | T15: =T14 -> 0 | U15: =U14 -> 0 | V15: =V14 -> 0 | W15: =W14 -> 0 | X15: =X14 -> 0 | Y15: =Y14 -> 0 | Z15: =Z14 -> 0 | ... AF15: =AF14 -> 0 | AH15: =S15*D15 -> -8421.316 | AI15: =T15*E15 -> 0 | AJ15: =U15*F15 -> 0 | AK15: =V15*G15 -> 0 | AL15: =W15*H15 -> 0 | AM15: =X15*I15 -> 0 | AN15: =Y15*J15 -> 0 | AO15: =Z15*K15 -> 0 | ... AU15: =AF15*Q15 -> 0 | AV15: =AH15+AJ15+AL15+AN15+AP15+AT15 -> -8421.316 | AW15: =AI15+AK15+AM15+AO15+AQ15+AU15 -> 0 | AY15: ='Projection - Wales'!B$11*Wales19!AV15 -> 0 | AZ15: ='Projection - Wales'!B$11*Wales19!AV15 -> 0 | BA15: =-'Projection - Wales'!C$12*Wales19!AV15 -> 1774.5018 | BB15: =-'Projection - Wales'!C$12*Wales19!AW15 -> 0 | BC15: =-'Projection - Wales'!D$12*Wales19!AV15 -> 797.44195 | BD15: =-'Projection - Wales'!D$12*Wales19!AW15 -> 0 | BE15: =-'Projection - Wales'!E$12*Wales19!AV15 -> 1399.2578 | BF15: =-'Projection - Wales'!E$12*Wales19!AW15 -> 0 | BG15: =-'Projection - Wales'!F$12*Wales19!AV15 -> 3611.1263 | BH15: =-'Projection - Wales'!F$12*Wales19!AW15 -> 0 | BI15: =-'Projection - Wales'!G$12*Wales19!AV15 -> 431.50806 | BJ15: =-'Projection - Wales'!G$12*Wales19!AW15 -> 0 | BK15: =-'Projection - Wales'!H$12*Wales19!AV15 -> 407.48006 | BL15: =-'Projection - Wales'!H$12*Wales19!AW15 -> 0
... A34: Ynys Mon | B34: Wales | C34: Wales | D34: 7282.4642 | E34: 6450.6425 | F34: 7282.4642 | G34: 4030.0206 | H34: 69.888 | I34: 0 | J34: 69.888 | K34: 0 | L34: 655.2 | M34: 0 | N34: 7282.4642 | O34: 3163.491 | P34: 125.7984 | Q34: 0 | R34: =SUM(D34:Q34) -> 36412.321 | S34: =S33 -> -0.80083835 | T34: =T33 -> 0 | U34: =U33 -> 0 | V34: =V33 -> 0 | W34: =W33 -> 0 | X34: =X33 -> 0 | Y34: =Y33 -> 0 | Z34: =Z33 -> 0 | ... AF34: =AF33 -> 0 | AH34: =S34*D34 -> -5832.0766 | AI34: =T34*E34 -> 0 | AJ34: =U34*F34 -> 0 | AK34: =V34*G34 -> 0 | AL34: =W34*H34 -> 0 | AM34: =X34*I34 -> 0 | AN34: =Y34*J34 -> 0 | AO34: =Z34*K34 -> 0 | ... AU34: =AF34*Q34 -> 0 | AV34: =AH34+AJ34+AL34+AN34+AP34+AT34 -> -5832.0766 | AW34: =AI34+AK34+AM34+AO34+AQ34+AU34 -> 0 | AY34: ='Projection - Wales'!B$11*Wales19!AV34 -> 0 | AZ34: ='Projection - Wales'!B$11*Wales19!AV34 -> 0 | BA34: =-'Projection - Wales'!C$12*Wales19!AV34 -> 1228.9089 | BB34: =-'Projection - Wales'!C$12*Wales19!AW34 -> 0 | BC34: =-'Projection - Wales'!D$12*Wales19!AV34 -> 552.25841 | BD34: =-'Projection - Wales'!D$12*Wales19!AW34 -> 0 | BE34: =-'Projection - Wales'!E$12*Wales19!AV34 -> 969.03845 | BF34: =-'Projection - Wales'!E$12*Wales19!AW34 -> 0 | BG34: =-'Projection - Wales'!F$12*Wales19!AV34 -> 2500.8402 | BH34: =-'Projection - Wales'!F$12*Wales19!AW34 -> 0 | BI34: =-'Projection - Wales'!G$12*Wales19!AV34 -> 298.83549 | BJ34: =-'Projection - Wales'!G$12*Wales19!AW34 -> 0 | BK34: =-'Projection - Wales'!H$12*Wales19!AV34 -> 282.1952 | BL34: =-'Projection - Wales'!H$12*Wales19!AW34 -> 0
AH35: =SUM(AH3:AH34) -> -246496.54 | AI35: =SUM(AI3:AI34) -> 0 | AJ35: =SUM(AJ3:AJ34) -> 0 | AK35: =SUM(AK3:AK34) -> 0 | AL35: =SUM(AL3:AL34) -> 0 | AM35: =SUM(AM3:AM34) -> 0 | AN35: =SUM(AN3:AN34) -> 0 | AO35: =SUM(AO3:AO34) -> 0 | ... AU35: =SUM(AU3:AU34) -> 0

Sheet Wales24
D1: Estimated total vote | M1: 2024 projected vote share | N1: Lab | O1: LD | P1: Grn | Q1: Ref | R1: SNP | S1: Oth | U1: Change in vote share | V1: Lab | W1: LD | X1: Grn | Y1: Ref | Z1: SNP | AA1: Oth | AN1: 2019 vote share (without redistributing BXP vote)
D2: CON | E2: LAB | F2: LD | G2: GRN | H2: REF | I2: PC | J2: OTH | K2: TOTAL | M2: CON | N2: LAB | O2: LD | P2: GRN | Q2: REF | R2: PC | S2: OTH | U2: CON | V2: LAB | W2: LD | X2: GRN | Y2: REF | Z2: PC | AA2: OTH | AC2: 1st % | AD2: 1st | AE2: Majority | AF2: 2nd % | AG2: 2nd | AI2: 2019 | AJ2: 2024 | AK2: Result | AL2: - | AN2: CON | AO2: LAB | AP2: LD | AQ2: GRN | AR2: BXP | AS2: PC | AT2: OTH
A3: Aberafan Porthcawl | B3: Wales | C3: Wales | D3: =(Wales19!D3+Wales19!AH3+(Wales19!AY3)+Wales19!AZ3+Wales19!AI3+Wales19!E3) -> 6732.9444 | E3: =(Wales19!F3+Wales19!AJ3+Wales19!BA3)+(Wales19!BB3+Wales19!AK3+Wales19!G3) -> 24387.535 | F3: =(Wales19!H3+Wales19!AL3+Wales19!BC3)+(Wales19!BD3+Wales19!AM3+Wales19!I3) -> 2810.0195 | G3: =(Wales19!J3+Wales19!AN3+Wales19!BE3)+(Wales19!BF3+Wales19!AO3+Wales19!K3) -> 2066.5716 | H3: =(Wales19!L3+Wales19!AP3+Wales19!BG3)+(Wales19!BH3+Wales19!AQ3+Wales19!M3) -> 4331.612 | I3: =(Wales19!N3+Wales19!AR3+Wales19!BI3)+(Wales19!BJ3+Wales19!AS3+Wales19!O3) -> 4181.9485 | J3: =(Wales19!P3+Wales19!AT3+Wales19!BK3)+(Wales19!BL3+Wales19!AU3+Wales19!Q3) -> 1313.5332 | K3: =SUM(D3:J3) -> 45824.164 | M3: =D3/K3 -> 0.14693 | N3: =E3/K3 -> 0.53219814 | O3: =F3/K3 -> 0.061321784 | P3: =G3/K3 -> 0.045097857 | Q3: =H3/K3 -> 0.09452681 | R3: =I3/K3 -> 0.091260769 | S3: =J3/K3 -> 0.028664641 | U3: =M3-AN3 -> -0.12811602 | V3: =N3-AO3 -> 0.049093277 | W3: =O3-AP3 -> 0.01816148 | X3: =P3-AQ3 -> 0.029455983 | Y3: =Q3-AR3 -> 0.008846708 | Z3: =R3-AS3 -> 0.0097588049 | AA3: =S3-AT3 -> 0.012799772 | AC3: =LARGE(M3:S3,1) -> 0.53219814 | AD3: =IF(M3=AC3,"Con",IF(N3=AC3,"Lab",IF(O3=AC3,"LD",IF(P3=AC3,"Grn",IF(Q3=AC3,"Ref",IF(R3=AC3,"PC","OTH ")))))) -> Lab | AE3: =AC3-AF3 -> 0.38526814 | AF3: =LARGE(M3:S3,2) -> 0.14693 | AG3: =IF(M3=AF3,"Con",IF(N3=AF3,"Lab",IF(O3=AF3,"LD",IF(P3=AF3,"Grn",IF(Q3=AF3,"Ref",IF(R3=AF3,"PC","OTH ")))))) -> Con | AI3: Lab | AJ3: =AD3 -> Lab | AK3: =IF(AJ3=AI3,"Hold","Gain from") -> Hold | AL3: =IF(AK3="Hold","",(AI3)) | AN3: 0.27504602 | AO3: 0.48310486 | AP3: 0.043160304 | AQ3: 0.015641874 | AR3: 0.085680102 | AS3: 0.081501964 | AT3: =100%-AS3-AR3-AQ3-AP3-AO3-AN3 -> 0.015864868
A4: Alyn and Deeside | B4: Wales | C4: Wales | D4: =(Wales19!D4+Wales19!AH4+(Wales19!AY4)+Wales19!AZ4+Wales19!AI4+Wales19!E4) -> 13895.665 | E4: =(Wales19!F4+Wales19!AJ4+Wales19!BA4)+(Wales19!BB4+Wales19!AK4+Wales19!G4) -> 24792.933 | F4: =(Wales19!H4+Wales19!AL4+Wales19!BC4)+(Wales19!BD4+Wales19!AM4+Wales19!I4) -> 3683.8709 | G4: =(Wales19!J4+Wales19!AN4+Wales19!BE4)+(Wales19!BF4+Wales19!AO4+Wales19!K4) -> 1469.2283 | H4: =(Wales19!L4+Wales19!AP4+Wales19!BG4)+(Wales19!BH4+Wales19!AQ4+Wales19!M4) -> 4537.2234 | I4: =(Wales19!N4+Wales19!AR4+Wales19!BI4)+(Wales19!BJ4+Wales19!AS4+Wales19!O4) -> 2111.8669 | J4: =(Wales19!P4+Wales19!AT4+Wales19!BK4)+(Wales19!BL4+Wales19!AU4+Wales19!Q4) -> 593.41285 | K4: =SUM(D4:J4) -> 51084.2 | M4: =D4/K4 -> 0.27201493 | N4: =E4/K4 -> 0.48533465 | O4: =F4/K4 -> 0.072113704 | P4: =G4/K4 -> 0.028760914 | Q4: =H4/K4 -> 0.088818526 | R4: =I4/K4 -> 0.041340901 | S4: =J4/K4 -> 0.011616368 | U4: =M4-AN4 -> -0.13463001 | V4: =N4-AO4 -> 0.045518673 | W4: =O4-AP4 -> 0.017549032 | X4: =P4-AQ4 -> 0.028760914 | Y4: =Q4-AR4 -> 0.021980881 | Z4: =R4-AS4 -> 0.0092041456 | AA4: =S4-AT4 -> 0.011616368 | AC4: =LARGE(M4:S4,1) -> 0.48533465 | AD4: =IF(M4=AC4,"Con",IF(N4=AC4,"Lab",IF(O4=AC4,"LD",IF(P4=AC4,"Grn",IF(Q4=AC4,"Ref",IF(R4=AC4,"PC","OTH ")))))) -> Lab | AE4: =AC4-AF4 -> 0.21331972 | AF4: =LARGE(M4:S4,2) -> 0.27201493 | AG4: =IF(M4=AF4,"Con",IF(N4=AF4,"Lab",IF(O4=AF4,"LD",IF(P4=AF4,"Grn",IF(Q4=AF4,"Ref",IF(R4=AF4,"PC","OTH ")))))) -> Con | AI4: Lab | AJ4: =AD4 -> Lab | AK4: =IF(AJ4=AI4,"Hold","Gain from") -> Hold | AL4: =IF(AK4="Hold","",(AI4)) | AN4: 0.40664495 | AO4: 0.43981598 | AP4: 0.054564671 | AQ4: 0 | AR4: 0.066837645 | AS4: 0.032136756 | AT4: =100%-AS4-AR4-AQ4-AP4-AO4-AN4 -> 0
A5: Bangor Aberconwy | B5: Wales | C5: Wales | D5: =(Wales19!D5+Wales19!AH5+(Wales19!AY5)+Wales19!AZ5+Wales19!AI5+Wales19!E5) -> 12921.756 | E5: =(Wales19!F5+Wales19!AJ5+Wales19!BA5)+(Wales19!BB5+Wales19!AK5+Wales19!G5) -> 20517.289 | F5: =(Wales19!H5+Wales19!AL5+Wales19!BC5)+(Wales19!BD5+Wales19!AM5+Wales19!I5) -> 3058.1621 | G5: =(Wales19!J5+Wales19!AN5+Wales19!BE5)+(Wales19!BF5+Wales19!AO5+Wales19!K5) -> 1323.756 | H5: =(Wales19!L5+Wales19!AP5+Wales19!BG5)+(Wales19!BH5+Wales19!AQ5+Wales19!M5) -> 3505.5645 | I5: =(Wales19!N5+Wales19!AR5+Wales19!BI5)+(Wales19!BJ5+Wales19!AS5+Wales19!O5) -> 7515.4275 | J5: =(Wales19!P5+Wales19!AT5+Wales19!BK5)+(Wales19!BL5+Wales19!AU5+Wales19!Q5) -> 405.32132 | K5: =SUM(D5:J5) -> 49247.276 | M5: =D5/K5 -> 0.26238519 | N5: =E5/K5 -> 0.41661774 | O5: =F5/K5 -> 0.062098097 | P5: =G5/K5 -> 0.026879781 | Q5: =H5/K5 -> 0.071182912 | R5: =I5/K5 -> 0.15260595 | S5: =J5/K5 -> 0.0082303297 | U5: =M5-AN5 -> -0.15698822 | V5: =N5-AO5 -> 0.035180774 | W5: =O5-AP5 -> 0.015458529 | X5: =P5-AQ5 -> 0.026879781 | Y5: =Q5-AR5 -> 0.06284816 | Z5: =R5-AS5 -> 0.0083906455 | AA5: =S5-AT5 -> 0.0082303297 | AC5: =LARGE(M5:S5,1) -> 0.41661774 | AD5: =IF(M5=AC5,"Con",IF(N5=AC5,"Lab",IF(O5=AC5,"LD",IF(P5=AC5,"Grn",IF(Q5=AC5,"Ref",IF(R5=AC5,"PC","OTH ")))))) -> Lab | AE5: =AC5-AF5 -> 0.15423256 | AF5: =LARGE(M5:S5,2) -> 0.26238519 | AG5: =IF(M5=AF5,"Con",IF(N5=AF5,"Lab",IF(O5=AF5,"LD",IF(P5=AF5,"Grn",IF(Q5=AF5,"Ref",IF(R5=AF5,"PC","OTH ")))))) -> Con | AI5: Con | AJ5: =AD5 -> Lab | AK5: =IF(AJ5=AI5,"Hold","Gain from") -> Gain from | AL5: =IF(AK5="Hold","",(AI5)) -> Con | AN5: 0.41937341 | AO5: 0.38143697 | AP5: 0.046639568 | AQ5: 0 | AR5: 0.0083347514 | AS5: 0.14421531 | AT5: =100%-AS5-AR5-AQ5-AP5-AO5-AN5 -> 6.1062266e-16
