Workbook

Sheet HEADLINE
B2: Projected result of 2029 general election | P2: Great Britain | V2: Blocs
F3: Seat projection | M3: % | N3: Seats | P3: Party | R3: Seats | S3: % | T3: +/- | V3: Party | X3: Seats | Y3: % | Z3: +/- | AC3: Seats | AD3: % | AE3: +/-
B4: Party | D4: % | E4: +/- | F4: Seats | I4: Gain | J4: Loss | K4: Net | M4: 2024 | Q4: {=_xlfn._xlws.SORT(AB4:AE13,2,-1)} -> Reform | R4: 331 | S4: 0.50923077 | T4: 326 | W4: {=_xlfn._xlws.SORT(AB17:AE18,2,-1)} -> Pro-Reform | X4: 387 | Y4: 0.59538462 | Z4: 253 | AB4: Conservative | AC4: =F6 -> 48 | AD4: =AC4/650 -> 0.073846154 | AE4: =K6 -> -73
C5: Labour | D5: 0.182 | E5: =D5-34.7% -> -0.165 | F5: ='Regional Transition'!B12 -> 47 | G5: =F5/650 -> 0.072307692 | H5: =F5 -> 47 | I5: =COUNTIF('Table of seats'!$H$2:$H$633,"Lab") -> 0 | J5: =K5-I5 -> -364 | K5: =F5-411 -> -364 | M5: 0.347 | N5: 411 | Q5: Liberal Democrats | R5: 78 | S5: 0.12 | T5: 6 | W5: Anti-Reform | X5: 255 | Y5: 0.39230769 | Z5: -253 | AB5: Labour | AC5: =F5 -> 47 | AD5: =AC5/650 -> 0.072307692 | AE5: =K5 -> -364
C6: Conservative | D6: 0.182 | E6: =D6-24.4% -> -0.062 | F6: ='Regional Transition'!C12 -> 48 | G6: =F6/650 -> 0.073846154 | H6: =F6 -> 48 | I6: =COUNTIF('Table of seats'!$H$2:$H$633,"Con") -> 17 | J6: =K6-I6 -> -90 | K6: =F6-121 -> -73 | M6: 0.244 | N6: 121 | Q6: Green | R6: 67 | S6: 0.10307692 | T6: 63 | W6: Non-voting | X6: =650-X5-X4 -> 8 | Y6: =X6/650 -> 0.012307692 | Z6: 0 | AB6: Liberal Democrats | AC6: =F8 -> 78 | AD6: =AC6/650 -> 0.12 | AE6: =K8 -> 6
C7: Reform | D7: 0.27 | E7: =D7-14.7% -> 0.123 | F7: ='Regional Transition'!D12 -> 331 | G7: =F7/650 -> 0.50923077 | H7: =F7 -> 331 | I7: =COUNTIF('Table of seats'!$H$2:$H$633,"Ref") -> 326 | J7: =K7-I7 -> 0 | K7: =F7-5 -> 326 | M7: 0.147 | N7: 5 | Q7: Conservative | R7: 48 | S7: 0.073846154 | T7: -73 | V7: Total | X7: =X5+X4+X6 -> 650 | AB7: Green | AC7: =F9 -> 67 | AD7: =AC7/650 -> 0.10307692 | AE7: =K9 -> 63
C8: Liberal Democrats | D8: 0.116 | E8: =D8-12.5% -> -0.009 | F8: ='Regional Transition'!E12 -> 78 | G8: =F8/650 -> 0.12 | H8: =F8 -> 78 | I8: =COUNTIF('Table of seats'!$H$2:$H$633,"LD") -> 7 | J8: =K8-I8 -> -1 | K8: =F8-72 -> 6 | M8: 0.125 | N8: 72 | Q8: Labour | R8: 47 | S8: 0.072307692 | T8: -364 | AB8: Reform | AC8: =F7 -> 331 | AD8: =AC8/650 -> 0.50923077 | AE8: =K7 -> 326
C9: Green | D9: 0.165 | E9: =D9-6.9% -> 0.096 | F9: ='Regional Transition'!F12 -> 67 | G9: =F9/650 -> 0.10307692 | H9: =F9 -> 67 | I9: =COUNTIF('Table of seats'!$H$2:$H$633,"Grn") -> 63 | J9: =K9-I9 -> 0 | K9: =F9-4 -> 63 | M9: 0.069 | N9: 4 | Q9: Scottish National | R9: 47 | S9: 0.072307692 | T9: 38 | AB9: Scottish National | AC9: =F10 -> 47 | AD9: =AC9/650 -> 0.072307692 | AE9: =K10 -> 38
C10: Scottish National | D10: 0.036 | E10: =D10-3.2% -> 0.004 | F10: ='Regional Transition'!G12 -> 47 | G10: =F10/650 -> 0.072307692 | H10: =F10 -> 47 | I10: =COUNTIF('Table of seats'!$H$2:$H$633,"SNP") -> 39 | J10: =K10-I10 -> -1 | K10: =F10-9 -> 38 | M10: 0.032 | N10: 9 | Q10: Plaid Cymru | R10: 7 | S10: 0.010769231 | T10: 3 | AB10: Plaid Cymru | AC10: =F11 -> 7 | AD10: =AC10/650 -> 0.010769231 | AE10: =K11 -> 3
C11: Plaid Cymru | F11: ='Regional Transition'!H12 -> 7 | G11: =F11/650 -> 0.010769231 | H11: =F11 -> 7 | I11: =COUNTIF('Table of seats'!$H$2:$H$633,"PC") -> 3 | J11: =K11-I11 -> 0 | K11: =F11-4 -> 3 | N11: 4 | Q11: Your Party | R11: 4 | S11: 0.0061538462 | T11: 4 | AB11: Independents | AC11: =F14+F15 -> 2 | AD11: =AC11/650 -> 0.0030769231 | AE11: =K14+K15 -> -3
C12: Restore Britain | D12: 0.032666667 | E12: =D12 -> 0.032666667 | F12: ='Regional Transition'!K12 -> 0 | G12: =F12/650 -> 0 | H12: =F12 -> 0 | I12: =K12 -> 0 | J12: 0 | K12: =F12-0 -> 0 | M12: 0 | N12: 0 | Q12: Independents | R12: 2 | S12: 0.0030769231 | T12: -3 | AB12: Restore Britain | AC12: =F12 -> 0 | AD12: =AC12/650 -> 0 | AE12: =AC12 -> 0
C13: Your Party | D13: 0.0032666667 | E13: =D13 -> 0.0032666667 | F13: ='Regional Transition'!L12 -> 4 | G13: =F13/650 -> 0.0061538462 | H13: =F13 -> 4 | I13: =K13 -> 4 | J13: 0 | K13: =F13-0 -> 4 | M13: 0 | N13: 0 | Q13: Restore Britain | R13: 0 | S13: 0 | T13: 0 | AB13: Your Party | AC13: =F13 -> 4 | AD13: =AC13/650 -> 0.0061538462 | AE13: =AC13 -> 4
C14: Independents | D14: 0.009457 | E14: =D14-2% -> -0.010543 | F14: ='Regional Transition'!I12 -> 2 | G14: =F14/650 -> 0.0030769231 | H14: =F14 -> 2 | I14: =COUNTIF('Table of seats'!$H$2:$H$633,"Ind") -> 1 | J14: =K14-I14 -> -4 | K14: =F14-5 -> -3 | M14: 0.020047799 | N14: 5 | P14: Total | R14: =SUM(AC4:AC13)+19 -> 650
C15: Workers Party | D15: 0.000833 | E15: =D15-0.7% -> -0.006167 | F15: ='Regional Transition'!J12 -> 0 | G15: =F15/650 -> 0 | H15: =F15 -> 0 | I15: =COUNTIF('Table of seats'!$H$2:$H$633,"WPB") -> 0 | J15: =K15-I15 -> 0 | K15: =F15-0 -> 0 | M15: 0.0066296949 | N15: 0
C16: Others | D16: =100%-D15-D14-D13-D12-D10-D9-D8-D7-D6-D5 -> 0.0027766667 | E16: =D16-0.9% -> -0.0062233333 | F16: ='Regional Transition'!M12+18 -> 19 | G16: =F16/650 -> 0.029230769 | H16: =F16 -> 19 | I16: =COUNTIF('Table of seats'!$H$2:$H$633,"Oth") -> 0 | J16: =K16-I16 -> 0 | K16: =F16-19 -> 0 | L16: =100%-N5-N6-N7-N8-N9-N10-N12-N13 -> -621 | M16: =100%-M11-M10-M9-M8-M7-M6-M5-M15-M14 -> 0.009322506 | N16: 19 | O16: =100%-Q5-Q6-Q7-Q8-Q9-Q10-Q12-Q13 -> #VALUE! | U16: =100%-W5-#REF!-W7-#REF!-W9-W10-W12-W13 -> #VALUE! | AC16: Seats | AD16: % | AE16: +/-
F17: =SUM(F5:F16) -> 650 | N17: =SUM(N5:N16) -> 650 | AB17: Pro-Reform | AC17: =AC4+AC8+7+1 -> 387 | AD17: =AC17/650 -> 0.59538462 | AE17: =AE4+AE8 -> 253
AB18: Anti-Reform | AC18: =AC5+AC6+AC7+AC11+AC13+3+AC9+AC10 -> 255 | AD18: =AC18/650 -> 0.39230769 | AE18: =AE5+AE6+AE7+AE11+AE13+AE9+AE10 -> -253

Sheet Table of seats
A1: Seat | B1: County | C1: Region | D1: Nation | E1: Winner | F1: Swing | G1: from | H1: Changes | I1: Lab | J1: Lab +/- | K1: Con | L1: Con +/- | M1: Ref | N1: Ref +/- | O1: LD | P1: LD +/- | Q1: Grn | R1: Grn +/- | S1: Nat | T1: Nat +/- | U1: Oth | V1: Oth +/- | Z1: Ind | AA1: Ind +/- | AB1: WPB | AC1: WPB +/- | AD1: Res | AE1: Res +/- | AF1: YP | AG1: YP +/- | AH1: Oth | AI1: Oth +/- | AJ1: 1st | AK1: GRN from 1st
A2: ='ENGLAND GE2029'!A3 -> Amber Valley | B2: ='ENGLAND GE2029'!B3 -> DBY | C2: ='ENGLAND GE2029'!C3 -> East M | D2: ='ENGLAND GE2029'!D3 -> England | E2: ='ENGLAND GE2029'!AP3 -> Ref | F2: ='ENGLAND GE2029'!AQ3 -> gain from | G2: ='ENGLAND GE2029'!AR3 -> LAB | H2: =IF(E2='ENGLAND GE2029'!AO3,"",E2) -> Ref | I2: ='ENGLAND GE2029'!E3 -> 0.17688328 | J2: ='ENGLAND GE2029'!P3*100 -> -19.334079 | K2: ='ENGLAND GE2029'!F3 -> 0.17133792 | L2: ='ENGLAND GE2029'!Q3*100 -> -8.083109 | M2: ='ENGLAND GE2029'!G3 -> 0.4417057 | N2: ='ENGLAND GE2029'!R3*100 -> 15.50442 | O2: ='ENGLAND GE2029'!H3 -> 0.031602375 | P2: ='ENGLAND GE2029'!S3*100 -> -0.57821212 | Q2: ='ENGLAND GE2029'!I3 -> 0.12840878 | R2: ='ENGLAND GE2029'!T3*100 -> 7.4847846 | T2: 0 | U2: =MAX('ENGLAND GE2029'!J3,'ENGLAND GE2029'!K3,'ENGLAND GE2029'!L3,'ENGLAND GE2029'!M3,'ENGLAND GE2029'!N3) -> 0.047958923 | V2: =IF(Z2=U2,AA2,IF(U2=AB2,AC2,IF(U2=AD2,AE2,IF(U2=AF2,AG2,IF(U2=AH2,AI2,"="))))) -> 4.7958923 | Z2: ='ENGLAND GE2029'!J3 -> 0 | AA2: ='ENGLAND GE2029'!U3*100 -> 0 | AB2: ='ENGLAND GE2029'!K3 -> 0 | AC2: ='ENGLAND GE2029'!V3*100 -> 0 | AD2: ='ENGLAND GE2029'!L3 -> 0.047958923 | AE2: =AD2*100 -> 4.7958923 | AF2: ='ENGLAND GE2029'!M3 -> 0.0021030309 | AG2: =AF2*100 -> 0.21030309 | AH2: ='ENGLAND GE2029'!N3 -> 0 | AI2: ='ENGLAND GE2029'!Y3*100 -> 0 | AJ2: =MAX(I2,K2,M2,O2,Q2,S2,AH2,Z2,AB2) -> 0.4417057 | AK2: =Q2-AJ2 -> -0.31329692
A3: ='ENGLAND GE2029'!A4 -> Bolsover | B3: ='ENGLAND GE2029'!B4 -> DBY | C3: ='ENGLAND GE2029'!C4 -> East M | D3: ='ENGLAND GE2029'!D4 -> England | E3: ='ENGLAND GE2029'!AP4 -> Ref | F3: ='ENGLAND GE2029'!AQ4 -> gain from | G3: ='ENGLAND GE2029'!AR4 -> LAB | H3: =IF(E3='ENGLAND GE2029'!AO4,"",E3) -> Ref | I3: ='ENGLAND GE2029'!E4 -> 0.19751276 | J3: ='ENGLAND GE2029'!P4*100 -> -20.775188 | K3: ='ENGLAND GE2029'!F4 -> 0.17761165 | L3: ='ENGLAND GE2029'!Q4*100 -> -7.8645124 | M3: ='ENGLAND GE2029'!G4 -> 0.33822238 | N3: ='ENGLAND GE2029'!R4*100 -> 12.304115 | O3: ='ENGLAND GE2029'!H4 -> 0.030034677 | P3: ='ENGLAND GE2029'!S4*100 -> -0.47958829 | Q3: ='ENGLAND GE2029'!I4 -> 0.21635215 | R3: ='ENGLAND GE2029'!T4*100 -> 12.788535 | T3: 0 | U3: =MAX('ENGLAND GE2029'!J4,'ENGLAND GE2029'!K4,'ENGLAND GE2029'!L4,'ENGLAND GE2029'!M4,'ENGLAND GE2029'!N4) -> 0.036723051 | V3: =IF(Z3=U3,AA3,IF(U3=AB3,AC3,IF(U3=AD3,AE3,IF(U3=AF3,AG3,IF(U3=AH3,AI3,"="))))) -> 3.6723051 | Z3: ='ENGLAND GE2029'!J4 -> 0 | AA3: ='ENGLAND GE2029'!U4*100 -> 0 | AB3: ='ENGLAND GE2029'!K4 -> 0 | AC3: ='ENGLAND GE2029'!V4*100 -> 0 | AD3: ='ENGLAND GE2029'!L4 -> 0.036723051 | AE3: =AD3*100 -> 3.6723051 | AF3: ='ENGLAND GE2029'!M4 -> 0.0035433345 | AG3: =AF3*100 -> 0.35433345 | AH3: ='ENGLAND GE2029'!N4 -> 0 | AI3: ='ENGLAND GE2029'!Y4*100 -> 0 | AJ3: =MAX(I3,K3,M3,O3,Q3,S3,AH3,Z3,AB3) -> 0.33822238 | AK3: =Q3-AJ3 -> -0.12187023
A4: ='ENGLAND GE2029'!A5 -> Chesterfield | B4: ='ENGLAND GE2029'!B5 -> DBY | C4: ='ENGLAND GE2029'!C5 -> East M | D4: ='ENGLAND GE2029'!D5 -> England | E4: ='ENGLAND GE2029'!AP5 -> Ref | F4: ='ENGLAND GE2029'!AQ5 -> gain from | G4: ='ENGLAND GE2029'!AR5 -> LAB | H4: =IF(E4='ENGLAND GE2029'!AO5,"",E4) -> Ref | I4: ='ENGLAND GE2029'!E5 -> 0.24579343 | J4: ='ENGLAND GE2029'!P5*100 -> -21.903631 | K4: ='ENGLAND GE2029'!F5 -> 0.1537472 | L4: ='ENGLAND GE2029'!Q5*100 -> -5.0704728 | M4: ='ENGLAND GE2029'!G5 -> 0.32408336 | N4: ='ENGLAND GE2029'!R5*100 -> 13.404606 | O4: ='ENGLAND GE2029'!H5 -> 0.057479099 | P4: ='ENGLAND GE2029'!S5*100 -> -0.39575513 | Q4: ='ENGLAND GE2029'!I5 -> 0.17125226 | R4: ='ENGLAND GE2029'!T5*100 -> 10.671129 | T4: 0 | U4: =MAX('ENGLAND GE2029'!J5,'ENGLAND GE2029'!K5,'ENGLAND GE2029'!L5,'ENGLAND GE2029'!M5,'ENGLAND GE2029'!N5) -> 0.035187883 | V4: =IF(Z4=U4,AA4,IF(U4=AB4,AC4,IF(U4=AD4,AE4,IF(U4=AF4,AG4,IF(U4=AH4,AI4,"="))))) -> 3.5187883 | Z4: ='ENGLAND GE2029'!J5 -> 0 | AA4: ='ENGLAND GE2029'!U5*100 -> 0 | AB4: ='ENGLAND GE2029'!K5 -> 0.0040028773 | AC4: ='ENGLAND GE2029'!V5*100 -> -0.1965117 | AD4: ='ENGLAND GE2029'!L5 -> 0.035187883 | AE4: =AD4*100 -> 3.5187883 | AF4: ='ENGLAND GE2029'!M5 -> 0.0030640518 | AG4: =AF4*100 -> 0.30640518 | AH4: ='ENGLAND GE2029'!N5 -> 0.0053898393 | AI4: ='ENGLAND GE2029'!Y5*100 -> -0.33455716 | AJ4: =MAX(I4,K4,M4,O4,Q4,S4,AH4,Z4,AB4) -> 0.32408336 | AK4: =Q4-AJ4 -> -0.1528311
A5: ='ENGLAND GE2029'!A6 -> Derby North | B5: ='ENGLAND GE2029'!B6 -> DBY | C5: ='ENGLAND GE2029'!C6 -> East M | D5: ='ENGLAND GE2029'!D6 -> England | E5: ='ENGLAND GE2029'!AP6 -> Ref | F5: ='ENGLAND GE2029'!AQ6 -> gain from | G5: ='ENGLAND GE2029'!AR6 -> LAB | H5: =IF(E5='ENGLAND GE2029'!AO6,"",E5) -> Ref | I5: ='ENGLAND GE2029'!E6 -> 0.23516694 | J5: ='ENGLAND GE2029'!P6*100 -> -21.985396 | K5: ='ENGLAND GE2029'!F6 -> 0.1743052 | L5: ='ENGLAND GE2029'!Q6*100 -> -6.2846243 | M5: ='ENGLAND GE2029'!G6 -> 0.30501926 | N5: ='ENGLAND GE2029'!R6*100 -> 12.202359 | O5: ='ENGLAND GE2029'!H6 -> 0.040716867 | P5: ='ENGLAND GE2029'!S6*100 -> -0.38101258 | Q5: ='ENGLAND GE2029'!I6 -> 0.20826291 | R5: ='ENGLAND GE2029'!T6*100 -> 12.795792 | T5: 0 | U5: =MAX('ENGLAND GE2029'!J6,'ENGLAND GE2029'!K6,'ENGLAND GE2029'!L6,'ENGLAND GE2029'!M6,'ENGLAND GE2029'!N6) -> 0.033117968 | V5: =IF(Z5=U5,AA5,IF(U5=AB5,AC5,IF(U5=AD5,AE5,IF(U5=AF5,AG5,IF(U5=AH5,AI5,"="))))) -> 3.3117968 | Z5: ='ENGLAND GE2029'!J6 -> 0 | AA5: ='ENGLAND GE2029'!U6*100 -> 0 | AB5: ='ENGLAND GE2029'!K6 -> 0 | AC5: ='ENGLAND GE2029'!V6*100 -> 0 | AD5: ='ENGLAND GE2029'!L6 -> 0.033117968 | AE5: =AD5*100 -> 3.3117968 | AF5: ='ENGLAND GE2029'!M6 -> 0.0034108521 | AG5: =AF5*100 -> 0.34108521 | AH5: ='ENGLAND GE2029'!N6 -> 0 | AI5: ='ENGLAND GE2029'!Y6*100 -> 0 | AJ5: =MAX(I5,K5,M5,O5,Q5,S5,AH5,Z5,AB5) -> 0.30501926 | AK5: =Q5-AJ5 -> -0.09675635
A6: ='ENGLAND GE2029'!A7 -> Derby South | B6: ='ENGLAND GE2029'!B7 -> DBY | C6: ='ENGLAND GE2029'!C7 -> East M | D6: ='ENGLAND GE2029'!D7 -> England | E6: ='ENGLAND GE2029'!AP7 -> Ref | F6: ='ENGLAND GE2029'!AQ7 -> gain from | G6: ='ENGLAND GE2029'!AR7 -> LAB | H6: =IF(E6='ENGLAND GE2029'!AO7,"",E6) -> Ref | I6: ='ENGLAND GE2029'!E7 -> 0.19568517 | J6: ='ENGLAND GE2029'!P7*100 -> -19.210595 | K6: ='ENGLAND GE2029'!F7 -> 0.099626389 | L6: ='ENGLAND GE2029'!Q7*100 -> -3.9200852 | M6: ='ENGLAND GE2029'!G7 -> 0.36992322 | N6: ='ENGLAND GE2029'!R7*100 -> 14.261768 | O6: ='ENGLAND GE2029'!H7 -> 0.043138424 | P6: ='ENGLAND GE2029'!S7*100 -> -0.5178376 | Q6: ='ENGLAND GE2029'!I7 -> 0.12857291 | R6: ='ENGLAND GE2029'!T7*100 -> 7.7796155 | T6: 0 | U6: =MAX('ENGLAND GE2029'!J7,'ENGLAND GE2029'!K7,'ENGLAND GE2029'!L7,'ENGLAND GE2029'!M7,'ENGLAND GE2029'!N7) -> 0.11468776 | V6: =IF(Z6=U6,AA6,IF(U6=AB6,AC6,IF(U6=AD6,AE6,IF(U6=AF6,AG6,IF(U6=AH6,AI6,"="))))) -> -2.4487083 | Z6: ='ENGLAND GE2029'!J7 -> 0 | AA6: ='ENGLAND GE2029'!U7*100 -> -0.78076954 | AB6: ='ENGLAND GE2029'!K7 -> 0.11468776 | AC6: ='ENGLAND GE2029'!V7*100 -> -2.4487083 | AD6: ='ENGLAND GE2029'!L7 -> 0.040165022 | AE6: =AD6*100 -> 4.0165022 | AF6: ='ENGLAND GE2029'!M7 -> 0.008201105 | AG6: =AF6*100 -> 0.8201105 | AH6: ='ENGLAND GE2029'!N7 -> 0 | AI6: ='ENGLAND GE2029'!Y7*100 -> 0 | AJ6: =MAX(I6,K6,M6,O6,Q6,S6,AH6,Z6,AB6) -> 0.36992322 | AK6: =Q6-AJ6 -> -0.2413503
A7: ='ENGLAND GE2029'!A8 -> Derbyshire Dales | B7: ='ENGLAND GE2029'!B8 -> DBY | C7: ='ENGLAND GE2029'!C8 -> East M | D7: ='ENGLAND GE2029'!D8 -> England | E7: ='ENGLAND GE2029'!AP8 -> Ref | F7: ='ENGLAND GE2029'!AQ8 -> gain from | G7: ='ENGLAND GE2029'!AR8 -> LAB | H7: =IF(E7='ENGLAND GE2029'!AO8,"",E7) -> Ref | I7: ='ENGLAND GE2029'!E8 -> 0.18921001 | J7: ='ENGLAND GE2029'!P8*100 -> -15.715838 | K7: ='ENGLAND GE2029'!F8 -> 0.26377831 | L7: ='ENGLAND GE2029'!Q8*100 -> -7.576374 | M7: ='ENGLAND GE2029'!G8 -> 0.26554262 | N7: ='ENGLAND GE2029'!R8*100 -> 11.481708 | O7: ='ENGLAND GE2029'!H8 -> 0.091615286 | P7: ='ENGLAND GE2029'!S8*100 -> -0.31732929 | Q7: ='ENGLAND GE2029'!I8 -> 0.15129916 | R7: ='ENGLAND GE2029'!T8*100 -> 9.6103338 | T7: 0 | U7: =MAX('ENGLAND GE2029'!J8,'ENGLAND GE2029'!K8,'ENGLAND GE2029'!L8,'ENGLAND GE2029'!M8,'ENGLAND GE2029'!N8) -> 0.028831727 | V7: =IF(Z7=U7,AA7,IF(U7=AB7,AC7,IF(U7=AD7,AE7,IF(U7=AF7,AG7,IF(U7=AH7,AI7,"="))))) -> 2.8831727 | Z7: ='ENGLAND GE2029'!J8 -> 0.0036946496 | AA7: ='ENGLAND GE2029'!U8*100 -> -0.3502261 | AB7: ='ENGLAND GE2029'!K8 -> 0 | AC7: ='ENGLAND GE2029'!V8*100 -> 0 | AD7: ='ENGLAND GE2029'!L8 -> 0.028831727 | AE7: =AD7*100 -> 2.8831727 | AF7: ='ENGLAND GE2029'!M8 -> 0.0028010139 | AG7: =AF7*100 -> 0.28010139 | AH7: ='ENGLAND GE2029'!N8 -> 0.0032272233 | AI7: ='ENGLAND GE2029'!Y8*100 -> -0.29554885 | AJ7: =MAX(I7,K7,M7,O7,Q7,S7,AH7,Z7,AB7) -> 0.26554262 | AK7: =Q7-AJ7 -> -0.11424346
A8: ='ENGLAND GE2029'!A9 -> Erewash | B8: ='ENGLAND GE2029'!B9 -> DBY | C8: ='ENGLAND GE2029'!C9 -> East M | D8: ='ENGLAND GE2029'!D9 -> England | E8: ='ENGLAND GE2029'!AP9 -> Ref | F8: ='ENGLAND GE2029'!AQ9 -> gain from | G8: ='ENGLAND GE2029'!AR9 -> LAB | H8: =IF(E8='ENGLAND GE2029'!AO9,"",E8) -> Ref | I8: ='ENGLAND GE2029'!E9 -> 0.20605586 | J8: ='ENGLAND GE2029'!P9*100 -> -19.44464 | K8: ='ENGLAND GE2029'!F9 -> 0.19335706 | L8: ='ENGLAND GE2029'!Q9*100 -> -7.0908388 | M8: ='ENGLAND GE2029'!G9 -> 0.35349458 | N8: ='ENGLAND GE2029'!R9*100 -> 14.045454 | O8: ='ENGLAND GE2029'!H9 -> 0.051350871 | P8: ='ENGLAND GE2029'!S9*100 -> -0.50598626 | Q8: ='ENGLAND GE2029'!I9 -> 0.14875676 | R8: ='ENGLAND GE2029'!T9*100 -> 9.1136896 | T8: 0 | U8: =MAX('ENGLAND GE2029'!J9,'ENGLAND GE2029'!K9,'ENGLAND GE2029'!L9,'ENGLAND GE2029'!M9,'ENGLAND GE2029'!N9) -> 0.038381255 | V8: =IF(Z8=U8,AA8,IF(U8=AB8,AC8,IF(U8=AD8,AE8,IF(U8=AF8,AG8,IF(U8=AH8,AI8,"="))))) -> 3.8381255 | Z8: ='ENGLAND GE2029'!J9 -> 0.0058222362 | AA8: ='ENGLAND GE2029'!U9*100 -> -0.23394157 | AB8: ='ENGLAND GE2029'!K9 -> 0 | AC8: ='ENGLAND GE2029'!V9*100 -> 0 | AD8: ='ENGLAND GE2029'!L9 -> 0.038381255 | AE8: =AD8*100 -> 3.8381255 | AF8: ='ENGLAND GE2029'!M9 -> 0.0027813735 | AG8: =AF8*100 -> 0.27813735 | AH8: ='ENGLAND GE2029'!N9 -> 0 | AI8: ='ENGLAND GE2029'!Y9*100 -> 0 | AJ8: =MAX(I8,K8,M8,O8,Q8,S8,AH8,Z8,AB8) -> 0.35349458 | AK8: =Q8-AJ8 -> -0.20473782
A9: ='ENGLAND GE2029'!A10 -> High Peak | B9: ='ENGLAND GE2029'!B10 -> DBY | C9: ='ENGLAND GE2029'!C10 -> East M | D9: ='ENGLAND GE2029'!D10 -> England | E9: ='ENGLAND GE2029'!AP10 -> Lab | F9: ='ENGLAND GE2029'!AQ10 -> HOLD | G9: ='ENGLAND GE2029'!AR10 | H9: =IF(E9='ENGLAND GE2029'!AO10,"",E9) | I9: ='ENGLAND GE2029'!E10 -> 0.25466577 | J9: ='ENGLAND GE2029'!P10*100 -> -20.326619 | K9: ='ENGLAND GE2029'!F10 -> 0.23506451 | L9: ='ENGLAND GE2029'!Q10*100 -> -6.2155337 | M9: ='ENGLAND GE2029'!G10 -> 0.25365294 | N9: ='ENGLAND GE2029'!R10*100 -> 11.22271 | O9: ='ENGLAND GE2029'!H10 -> 0.03413431 | P9: ='ENGLAND GE2029'!S10*100 -> -0.055658093 | Q9: ='ENGLAND GE2029'!I10 -> 0.19180045 | R9: ='ENGLAND GE2029'!T10*100 -> 12.306899 | T9: 0 | U9: =MAX('ENGLAND GE2029'!J10,'ENGLAND GE2029'!K10,'ENGLAND GE2029'!L10,'ENGLAND GE2029'!M10,'ENGLAND GE2029'!N10) -> 0.027540785 | V9: =IF(Z9=U9,AA9,IF(U9=AB9,AC9,IF(U9=AD9,AE9,IF(U9=AF9,AG9,IF(U9=AH9,AI9,"="))))) -> 2.7540785 | Z9: ='ENGLAND GE2029'!J10 -> 0 | AA9: ='ENGLAND GE2029'!U10*100 -> 0 | AB9: ='ENGLAND GE2029'!K10 -> 0 | AC9: ='ENGLAND GE2029'!V10*100 -> 0 | AD9: ='ENGLAND GE2029'!L10 -> 0.027540785 | AE9: =AD9*100 -> 2.7540785 | AF9: ='ENGLAND GE2029'!M10 -> 0.003141236 | AG9: =AF9*100 -> 0.3141236 | AH9: ='ENGLAND GE2029'!N10 -> 0 | AI9: ='ENGLAND GE2029'!Y10*100 -> 0 | AJ9: =MAX(I9,K9,M9,O9,Q9,S9,AH9,Z9,AB9) -> 0.25466577 | AK9: =Q9-AJ9 -> -0.062865318
A10: ='ENGLAND GE2029'!A11 -> Mid Derbyshire | B10: ='ENGLAND GE2029'!B11 -> DBY | C10: ='ENGLAND GE2029'!C11 -> East M | D10: ='ENGLAND GE2029'!D11 -> England | E10: ='ENGLAND GE2029'!AP11 -> Ref | F10: ='ENGLAND GE2029'!AQ11 -> gain from | G10: ='ENGLAND GE2029'!AR11 -> LAB | H10: =IF(E10='ENGLAND GE2029'!AO11,"",E10) -> Ref | I10: ='ENGLAND GE2029'!E11 -> 0.18844448 | J10: ='ENGLAND GE2029'!P11*100 -> -17.640418 | K10: ='ENGLAND GE2029'!F11 -> 0.23897798 | L10: ='ENGLAND GE2029'!Q11*100 -> -8.6369596 | M10: ='ENGLAND GE2029'!G11 -> 0.29276829 | N10: ='ENGLAND GE2029'!R11*100 -> 11.70116 | O10: ='ENGLAND GE2029'!H11 -> 0.045382261 | P10: ='ENGLAND GE2029'!S11*100 -> -0.42780463 | Q10: ='ENGLAND GE2029'!I11 -> 0.19336138 | R10: ='ENGLAND GE2029'!T11*100 -> 11.875523 | T10: 0 | U10: =MAX('ENGLAND GE2029'!J11,'ENGLAND GE2029'!K11,'ENGLAND GE2029'!L11,'ENGLAND GE2029'!M11,'ENGLAND GE2029'!N11) -> 0.031787798 | V10: =IF(Z10=U10,AA10,IF(U10=AB10,AC10,IF(U10=AD10,AE10,IF(U10=AF10,AG10,IF(U10=AH10,AI10,"="))))) -> 3.1787798 | Z10: ='ENGLAND GE2029'!J11 -> 0.0038974212 | AA10: ='ENGLAND GE2029'!U11*100 -> -0.27281599 | AB10: ='ENGLAND GE2029'!K11 -> 0.001798433 | AC10: ='ENGLAND GE2029'!V11*100 -> -0.13566056 | AD10: ='ENGLAND GE2029'!L11 -> 0.031787798 | AE10: =AD10*100 -> 3.1787798 | AF10: ='ENGLAND GE2029'!M11 -> 0.0035819574 | AG10: =AF10*100 -> 0.35819574 | AH10: ='ENGLAND GE2029'!N11 -> 0 | AI10: ='ENGLAND GE2029'!Y11*100 -> 0 | AJ10: =MAX(I10,K10,M10,O10,Q10,S10,AH10,Z10,AB10) -> 0.29276829 | AK10: =Q10-AJ10 -> -0.099406907
A11: ='ENGLAND GE2029'!A12 -> North East Derbyshire | B11: ='ENGLAND GE2029'!B12 -> DBY | C11: ='ENGLAND GE2029'!C12 -> East M | D11: ='ENGLAND GE2029'!D12 -> England | E11: ='ENGLAND GE2029'!AP12 -> Ref | F11: ='ENGLAND GE2029'!AQ12 -> gain from | G11: ='ENGLAND GE2029'!AR12 -> LAB | H11: =IF(E11='ENGLAND GE2029'!AO12,"",E11) -> Ref | I11: ='ENGLAND GE2029'!E12 -> 0.20962524 | J11: ='ENGLAND GE2029'!P12*100 -> -17.390505 | K11: ='ENGLAND GE2029'!F12 -> 0.2684065 | L11: ='ENGLAND GE2029'!Q12*100 -> -7.6903756 | M11: ='ENGLAND GE2029'!G12 -> 0.30357546 | N11: ='ENGLAND GE2029'!R12*100 -> 13.135639 | O11: ='ENGLAND GE2029'!H12 -> 0.045520994 | P11: ='ENGLAND GE2029'!S12*100 -> -0.15509108 | Q11: ='ENGLAND GE2029'!I12 -> 0.13579839 | R11: ='ENGLAND GE2029'!T12*100 -> 8.6284592 | T11: 0 | U11: =MAX('ENGLAND GE2029'!J12,'ENGLAND GE2029'!K12,'ENGLAND GE2029'!L12,'ENGLAND GE2029'!M12,'ENGLAND GE2029'!N12) -> 0.032961205 | V11: =IF(Z11=U11,AA11,IF(U11=AB11,AC11,IF(U11=AD11,AE11,IF(U11=AF11,AG11,IF(U11=AH11,AI11,"="))))) -> 3.2961205 | Z11: ='ENGLAND GE2029'!J12 -> 0 | AA11: ='ENGLAND GE2029'!U12*100 -> 0 | AB11: ='ENGLAND GE2029'!K12 -> 0 | AC11: ='ENGLAND GE2029'!V12*100 -> 0 | AD11: ='ENGLAND GE2029'!L12 -> 0.032961205 | AE11: =AD11*100 -> 3.2961205 | AF11: ='ENGLAND GE2029'!M12 -> 0.0022240553 | AG11: =AF11*100 -> 0.22240553 | AH11: ='ENGLAND GE2029'!N12 -> 0.0018881599 | AI11: ='ENGLAND GE2029'!Y12*100 -> -0.046652548 | AJ11: =MAX(I11,K11,M11,O11,Q11,S11,AH11,Z11,AB11) -> 0.30357546 | AK11: =Q11-AJ11 -> -0.16777707
A12: ='ENGLAND GE2029'!A13 -> South Derbyshire | B12: ='ENGLAND GE2029'!B13 -> DBY | C12: ='ENGLAND GE2029'!C13 -> East M | D12: ='ENGLAND GE2029'!D13 -> England | E12: ='ENGLAND GE2029'!AP13 -> Ref | F12: ='ENGLAND GE2029'!AQ13 -> gain from | G12: ='ENGLAND GE2029'!AR13 -> LAB | H12: =IF(E12='ENGLAND GE2029'!AO13,"",E12) -> Ref | I12: ='ENGLAND GE2029'!E13 -> 0.20994139 | J12: ='ENGLAND GE2029'!P13*100 -> -17.77972 | K12: ='ENGLAND GE2029'!F13 -> 0.22839302 | L12: ='ENGLAND GE2029'!Q13*100 -> -6.8215855 | M12: ='ENGLAND GE2029'!G13 -> 0.34281581 | N12: ='ENGLAND GE2029'!R13*100 -> 14.649773 | O12: ='ENGLAND GE2029'!H13 -> 0.044698386 | P12: ='ENGLAND GE2029'!S13*100 -> -0.19596811 | Q12: ='ENGLAND GE2029'!I13 -> 0.1153032 | R12: ='ENGLAND GE2029'!T13*100 -> 7.2864911 | T12: 0 | U12: =MAX('ENGLAND GE2029'!J13,'ENGLAND GE2029'!K13,'ENGLAND GE2029'!L13,'ENGLAND GE2029'!M13,'ENGLAND GE2029'!N13) -> 0.037221791 | V12: =IF(Z12=U12,AA12,IF(U12=AB12,AC12,IF(U12=AD12,AE12,IF(U12=AF12,AG12,IF(U12=AH12,AI12,"="))))) -> 3.7221791 | Z12: ='ENGLAND GE2029'!J13 -> 0.018570536 | AA12: ='ENGLAND GE2029'!U13*100 -> -0.7666428 | AB12: ='ENGLAND GE2029'!K13 -> 0 | AC12: ='ENGLAND GE2029'!V13*100 -> 0 | AD12: ='ENGLAND GE2029'!L13 -> 0.037221791 | AE12: =AD12*100 -> 3.7221791 | AF12: ='ENGLAND GE2029'!M13 -> 0.0030558688 | AG12: =AF12*100 -> 0.30558688 | AH12: ='ENGLAND GE2029'!N13 -> 0 | AI12: ='ENGLAND GE2029'!Y13*100 -> -0.40011369 | AJ12: =MAX(I12,K12,M12,O12,Q12,S12,AH12,Z12,AB12) -> 0.34281581 | AK12: =Q12-AJ12 -> -0.22751261
A13: ='ENGLAND GE2029'!A14 -> Harborough, Oadby and Wigston | B13: ='ENGLAND GE2029'!B14 -> LEI | C13: ='ENGLAND GE2029'!C14 -> East M | D13: ='ENGLAND GE2029'!D14 -> England | E13: ='ENGLAND GE2029'!AP14 -> Con | F13: ='ENGLAND GE2029'!AQ14 -> HOLD | G13: ='ENGLAND GE2029'!AR14 | H13: =IF(E13='ENGLAND GE2029'!AO14,"",E13) | I13: ='ENGLAND GE2029'!E14 -> 0.1694981 | J13: ='ENGLAND GE2029'!P14*100 -> -15.273427 | K13: ='ENGLAND GE2029'!F14 -> 0.27635361 | L13: ='ENGLAND GE2029'!Q14*100 -> -9.3074401 | M13: ='ENGLAND GE2029'!G14 -> 0.21319068 | N13: ='ENGLAND GE2029'!R14*100 -> 8.752085 | O13: ='ENGLAND GE2029'!H14 -> 0.087405063 | P13: ='ENGLAND GE2029'!S14*100 -> -0.65099134 | Q13: ='ENGLAND GE2029'!I14 -> 0.22363327 | R13: ='ENGLAND GE2029'!T14*100 -> 13.890735 | T13: 0 | U13: =MAX('ENGLAND GE2029'!J14,'ENGLAND GE2029'!K14,'ENGLAND GE2029'!L14,'ENGLAND GE2029'!M14,'ENGLAND GE2029'!N14) -> 0.023147529 | V13: =IF(Z13=U13,AA13,IF(U13=AB13,AC13,IF(U13=AD13,AE13,IF(U13=AF13,AG13,IF(U13=AH13,AI13,"="))))) -> 2.3147529 | Z13: ='ENGLAND GE2029'!J14 -> 0 | AA13: ='ENGLAND GE2029'!U14*100 -> 0 | AB13: ='ENGLAND GE2029'!K14 -> 0 | AC13: ='ENGLAND GE2029'!V14*100 -> 0 | AD13: ='ENGLAND GE2029'!L14 -> 0.023147529 | AE13: =AD13*100 -> 2.3147529 | AF13: ='ENGLAND GE2029'!M14 -> 0.003662582 | AG13: =AF13*100 -> 0.3662582 | AH13: ='ENGLAND GE2029'!N14 -> 0.0031091653 | AI13: ='ENGLAND GE2029'!Y14*100 -> -0.091973163 | AJ13: =MAX(I13,K13,M13,O13,Q13,S13,AH13,Z13,AB13) -> 0.27635361 | AK13: =Q13-AJ13 -> -0.052720347
... A544: ='ENGLAND GE2029'!A545 -> Wetherby and Easingwold | B544: ='ENGLAND GE2029'!B545 -> WYK | C544: ='ENGLAND GE2029'!C545 -> YH | D544: ='ENGLAND GE2029'!D545 -> England | E544: ='ENGLAND GE2029'!AP545 -> Con | F544: ='ENGLAND GE2029'!AQ545 -> HOLD | G544: ='ENGLAND GE2029'!AR545 | H544: =IF(E544='ENGLAND GE2029'!AO545,"",E544) | I544: ='ENGLAND GE2029'!E545 -> 0.15442065 | J544: ='ENGLAND GE2029'!P545*100 -> -14.698198 | K544: ='ENGLAND GE2029'!F545 -> 0.28717119 | L544: ='ENGLAND GE2029'!Q545*100 -> -10.696188 | M544: ='ENGLAND GE2029'!G545 -> 0.24980287 | N544: ='ENGLAND GE2029'!R545*100 -> 11.034364 | O544: ='ENGLAND GE2029'!H545 -> 0.058126977 | P544: ='ENGLAND GE2029'!S545*100 -> -0.59959493 | Q544: ='ENGLAND GE2029'!I545 -> 0.20687476 | R544: ='ENGLAND GE2029'!T545*100 -> 12.021026 | T544: 0 | U544: =MAX('ENGLAND GE2029'!J545,'ENGLAND GE2029'!K545,'ENGLAND GE2029'!L545,'ENGLAND GE2029'!M545,'ENGLAND GE2029'!N545) -> 0.03016374 | V544: =IF(Z544=U544,AA544,IF(U544=AB544,AC544,IF(U544=AD544,AE544,IF(U544=AF544,AG544,IF(U544=AH544,AI544,"="))))) -> 3.016374 | Z544: ='ENGLAND GE2029'!J545 -> 0 | AA544: ='ENGLAND GE2029'!U545*100 -> 0 | AB544: ='ENGLAND GE2029'!K545 -> 0 | AC544: ='ENGLAND GE2029'!V545*100 -> 0 | AD544: ='ENGLAND GE2029'!L545 -> 0.03016374 | AE544: =AD544*100 -> 3.016374 | AF544: ='ENGLAND GE2029'!M545 -> 0.0031212212 | AG544: =AF544*100 -> 0.31212212 | AH544: ='ENGLAND GE2029'!N545 -> 0.010318592 | AI544: ='ENGLAND GE2029'!Y545*100 -> -0.3899055 | AJ544: =MAX(I544,K544,M544,O544,Q544,S544,AH544,Z544,AB544) -> 0.28717119 | AK544: =Q544-AJ544 -> -0.080296427
A545: ='SCOTLAND GE2029'!A3 -> Aberdeen North | B545: ='SCOTLAND GE2029'!#REF! -> #REF! | C545: ='SCOTLAND GE2029'!#REF! -> #REF! | D545: ='SCOTLAND GE2029'!#REF! -> #REF! | E545: ='SCOTLAND GE2029'!AL3 -> SNP | F545: ='SCOTLAND GE2029'!AM3 -> HOLD | G545: ='SCOTLAND GE2029'!AN3 | H545: =IF(E545='SCOTLAND GE2029'!AK3,"",E545) | I545: ='SCOTLAND GE2029'!B3 -> 0.13387141 | J545: ='SCOTLAND GE2029'!L3*100 -> -16.95613 | K545: ='SCOTLAND GE2029'!C3 -> 0.11091108 | L545: ='SCOTLAND GE2029'!M3*100 -> -2.8796728 | M545: ='SCOTLAND GE2029'!D3 -> 0.23375728 | N545: ='SCOTLAND GE2029'!N3*100 -> 14.393664 | O545: ='SCOTLAND GE2029'!E3 -> 0.057888289 | P545: ='SCOTLAND GE2029'!O3*100 -> -0.34729182 | Q545: ='SCOTLAND GE2029'!F3 -> 0.073525782 | R545: ='SCOTLAND GE2029'!P3*100 -> 4.3237149 | S545: ='SCOTLAND GE2029'!I3 -> 0.36098389 | T545: ='SCOTLAND GE2029'!S3*100 -> 1.574099 | U545: =MAX(Z545,AB545,AH545) -> 0.029062268 | V545: =IF(Z545=U545,AA545,IF(AB545=U545,AC545,IF(AH545=U545,AI545,"="))) -> -0.10838297 | Z545: ='SCOTLAND GE2029'!G3 -> 0 | AA545: ='SCOTLAND GE2029'!Q3*100 -> 0 | AB545: ='SCOTLAND GE2029'!H3 -> 0 | AC545: ='SCOTLAND GE2029'!R3*100 -> 0 | AH545: ='SCOTLAND GE2029'!J3 -> 0.029062268 | AI545: ='SCOTLAND GE2029'!T3*100 -> -0.10838297 | AJ545: =MAX(I545,K545,M545,O545,Q545,S545,AH545,Z545,AB545) -> 0.36098389 | AK545: =Q545-AJ545 -> -0.28745811
A546: ='SCOTLAND GE2029'!A4 -> Aberdeen South | B546: ='SCOTLAND GE2029'!#REF! -> #REF! | C546: ='SCOTLAND GE2029'!#REF! -> #REF! | D546: ='SCOTLAND GE2029'!#REF! -> #REF! | E546: ='SCOTLAND GE2029'!AL4 -> SNP | F546: ='SCOTLAND GE2029'!AM4 -> HOLD | G546: ='SCOTLAND GE2029'!AN4 | H546: =IF(E546='SCOTLAND GE2029'!AK4,"",E546) | I546: ='SCOTLAND GE2029'!B4 -> 0.11045906 | J546: ='SCOTLAND GE2029'!L4*100 -> -13.670892 | K546: ='SCOTLAND GE2029'!C4 -> 0.19607106 | L546: ='SCOTLAND GE2029'!M4*100 -> -4.7752439 | M546: ='SCOTLAND GE2029'!D4 -> 0.18196339 | N546: ='SCOTLAND GE2029'!N4*100 -> 11.293761 | O546: ='SCOTLAND GE2029'!E4 -> 0.060229488 | P546: ='SCOTLAND GE2029'!O4*100 -> -0.27978069 | Q546: ='SCOTLAND GE2029'!F4 -> 0.085368338 | R546: ='SCOTLAND GE2029'!P4*100 -> 5.0650461 | S546: ='SCOTLAND GE2029'!I4 -> 0.3476632 | T546: ='SCOTLAND GE2029'!S4*100 -> 1.940773 | U546: =MAX(Z546,AB546,AH546) -> 0.0093325496 | V546: =IF(Z546=U546,AA546,IF(AB546=U546,AC546,IF(AH546=U546,AI546,"="))) -> 0.44776569 | Z546: ='SCOTLAND GE2029'!G4 -> 0.0093325496 | AA546: ='SCOTLAND GE2029'!Q4*100 -> 0.44776569 | AB546: ='SCOTLAND GE2029'!H4 -> 0 | AC546: ='SCOTLAND GE2029'!R4*100 -> 0 | AH546: ='SCOTLAND GE2029'!J4 -> 0.008912911 | AI546: ='SCOTLAND GE2029'!T4*100 -> -0.021428723 | AJ546: =MAX(I546,K546,M546,O546,Q546,S546,AH546,Z546,AB546) -> 0.3476632 | AK546: =Q546-AJ546 -> -0.26229487
A547: ='SCOTLAND GE2029'!A5 -> Aberdeenshire North and Moray East | B547: ='SCOTLAND GE2029'!#REF! -> #REF! | C547: ='SCOTLAND GE2029'!#REF! -> #REF! | D547: ='SCOTLAND GE2029'!#REF! -> #REF! | E547: ='SCOTLAND GE2029'!AL5 -> Ref | F547: ='SCOTLAND GE2029'!AM5 -> gain from | G547: ='SCOTLAND GE2029'!AN5 -> SNP | H547: =IF(E547='SCOTLAND GE2029'!AK5,"",E547) -> Ref | I547: ='SCOTLAND GE2029'!B5 -> 0.039943355 | J547: ='SCOTLAND GE2029'!L5*100 -> -6.1554498 | K547: ='SCOTLAND GE2029'!C5 -> 0.23203368 | L547: ='SCOTLAND GE2029'!M5*100 -> -9.5634695 | M547: ='SCOTLAND GE2029'!D5 -> 0.33810789 | N547: ='SCOTLAND GE2029'!N5*100 -> 19.246005 | O547: ='SCOTLAND GE2029'!E5 -> 0.061304066 | P547: ='SCOTLAND GE2029'!O5*100 -> -1.1546044 | Q547: ='SCOTLAND GE2029'!F5 -> 0 | R547: ='SCOTLAND GE2029'!P5*100 -> 0 | S547: ='SCOTLAND GE2029'!I5 -> 0.328611 | T547: ='SCOTLAND GE2029'!S5*100 -> -2.3724808 | U547: =MAX(Z547,AB547,AH547) -> 0 | V547: =IF(Z547=U547,AA547,IF(AB547=U547,AC547,IF(AH547=U547,AI547,"="))) -> 0 | Z547: ='SCOTLAND GE2029'!G5 -> 0 | AA547: ='SCOTLAND GE2029'!Q5*100 -> 0 | AB547: ='SCOTLAND GE2029'!H5 -> 0 | AC547: ='SCOTLAND GE2029'!R5*100 -> 0 | AH547: ='SCOTLAND GE2029'!J5 -> 0 | AI547: ='SCOTLAND GE2029'!T5*100 -> 0 | AJ547: =MAX(I547,K547,M547,O547,Q547,S547,AH547,Z547,AB547) -> 0.33810789 | AK547: =Q547-AJ547 -> -0.33810789
A548: ='SCOTLAND GE2029'!A6 -> Airdrie and Shotts | B548: ='SCOTLAND GE2029'!#REF! -> #REF! | C548: ='SCOTLAND GE2029'!#REF! -> #REF! | D548: ='SCOTLAND GE2029'!#REF! -> #REF! | E548: ='SCOTLAND GE2029'!AL6 -> SNP | F548: ='SCOTLAND GE2029'!AM6 -> gain from | G548: ='SCOTLAND GE2029'!AN6 -> LAB | H548: =IF(E548='SCOTLAND GE2029'!AK6,"",E548) -> SNP | I548: ='SCOTLAND GE2029'!B6 -> 0.26884314 | J548: ='SCOTLAND GE2029'!L6*100 -> -24.582985 | K548: ='SCOTLAND GE2029'!C6 -> 0.043476914 | L548: ='SCOTLAND GE2029'!M6*100 -> -0.27784721 | M548: ='SCOTLAND GE2029'!D6 -> 0.24967224 | N548: ='SCOTLAND GE2029'!N6*100 -> 16.864349 | O548: ='SCOTLAND GE2029'!E6 -> 0.022085815 | P548: ='SCOTLAND GE2029'!O6*100 -> 0.23127287 | Q548: ='SCOTLAND GE2029'!F6 -> 0 | R548: ='SCOTLAND GE2029'!P6*100 -> 0 | S548: ='SCOTLAND GE2029'!I6 -> 0.38233278 | T548: ='SCOTLAND GE2029'!S6*100 -> 7.3490805 | U548: =MAX(Z548,AB548,AH548) -> 0.033589107 | V548: =IF(Z548=U548,AA548,IF(AB548=U548,AC548,IF(AH548=U548,AI548,"="))) -> 0.41612994 | Z548: ='SCOTLAND GE2029'!G6 -> 0 | AA548: ='SCOTLAND GE2029'!Q6*100 -> 0 | AB548: ='SCOTLAND GE2029'!H6 -> 0 | AC548: ='SCOTLAND GE2029'!R6*100 -> 0 | AH548: ='SCOTLAND GE2029'!J6 -> 0.033589107 | AI548: ='SCOTLAND GE2029'!T6*100 -> 0.41612994 | AJ548: =MAX(I548,K548,M548,O548,Q548,S548,AH548,Z548,AB548) -> 0.38233278 | AK548: =Q548-AJ548 -> -0.38233278
A549: ='SCOTLAND GE2029'!A7 -> Alloa and Grangemouth | B549: ='SCOTLAND GE2029'!#REF! -> #REF! | C549: ='SCOTLAND GE2029'!#REF! -> #REF! | D549: ='SCOTLAND GE2029'!#REF! -> #REF! | E549: ='SCOTLAND GE2029'!AL7 -> SNP | F549: ='SCOTLAND GE2029'!AM7 -> gain from | G549: ='SCOTLAND GE2029'!AN7 -> LAB | H549: =IF(E549='SCOTLAND GE2029'!AK7,"",E549) -> SNP | I549: ='SCOTLAND GE2029'!B7 -> 0.19875082 | J549: ='SCOTLAND GE2029'!L7*100 -> -23.907836 | K549: ='SCOTLAND GE2029'!C7 -> 0.061994501 | L549: ='SCOTLAND GE2029'!M7*100 -> -1.3901715 | M549: ='SCOTLAND GE2029'!D7 -> 0.24722964 | N549: ='SCOTLAND GE2029'!N7*100 -> 15.490178 | O549: ='SCOTLAND GE2029'!E7 -> 0.027117096 | P549: ='SCOTLAND GE2029'!O7*100 -> -0.081911929 | Q549: ='SCOTLAND GE2029'!F7 -> 0.086144012 | R549: ='SCOTLAND GE2029'!P7*100 -> 5.1654558 | S549: ='SCOTLAND GE2029'!I7 -> 0.31117238 | T549: ='SCOTLAND GE2029'!S7*100 -> 2.1931825 | U549: =MAX(Z549,AB549,AH549) -> 0.041752639 | V549: =IF(Z549=U549,AA549,IF(AB549=U549,AC549,IF(AH549=U549,AI549,"="))) -> 2.0369663 | Z549: ='SCOTLAND GE2029'!G7 -> 0.041752639 | AA549: ='SCOTLAND GE2029'!Q7*100 -> 2.0369663 | AB549: ='SCOTLAND GE2029'!H7 -> 0.010478958 | AC549: ='SCOTLAND GE2029'!R7*100 -> 0.50664679 | AH549: ='SCOTLAND GE2029'!J7 -> 0.015359961 | AI549: ='SCOTLAND GE2029'!T7*100 -> -0.01251 | AJ549: =MAX(I549,K549,M549,O549,Q549,S549,AH549,Z549,AB549) -> 0.31117238 | AK549: =Q549-AJ549 -> -0.22502837
A550: ='SCOTLAND GE2029'!A8 -> Angus and Perthshire Glens | B550: ='SCOTLAND GE2029'!#REF! -> #REF! | C550: ='SCOTLAND GE2029'!#REF! -> #REF! | D550: ='SCOTLAND GE2029'!#REF! -> #REF! | E550: ='SCOTLAND GE2029'!AL8 -> SNP | F550: ='SCOTLAND GE2029'!AM8 -> HOLD | G550: ='SCOTLAND GE2029'!AN8 | H550: =IF(E550='SCOTLAND GE2029'!AK8,"",E550) | I550: ='SCOTLAND GE2029'!B8 -> 0.063604782 | J550: ='SCOTLAND GE2029'!L8*100 -> -7.9991569 | K550: ='SCOTLAND GE2029'!C8 -> 0.24024723 | L550: ='SCOTLAND GE2029'!M8*100 -> -6.1180501 | M550: ='SCOTLAND GE2029'!D8 -> 0.17912525 | N550: ='SCOTLAND GE2029'!N8*100 -> 11.056902 | O550: ='SCOTLAND GE2029'!E8 -> 0.063132517 | P550: ='SCOTLAND GE2029'!O8*100 -> -0.35228853 | Q550: ='SCOTLAND GE2029'!F8 -> 0 | R550: ='SCOTLAND GE2029'!P8*100 -> 0 | S550: ='SCOTLAND GE2029'!I8 -> 0.42439442 | T550: ='SCOTLAND GE2029'!S8*100 -> 2.0111245 | U550: =MAX(Z550,AB550,AH550) -> 0.029495805 | V550: =IF(Z550=U550,AA550,IF(AB550=U550,AC550,IF(AH550=U550,AI550,"="))) -> 1.4014687 | Z550: ='SCOTLAND GE2029'!G8 -> 0.029495805 | AA550: ='SCOTLAND GE2029'!Q8*100 -> 1.4014687 | AB550: ='SCOTLAND GE2029'!H8 -> 0 | AC550: ='SCOTLAND GE2029'!R8*100 -> 0 | AH550: ='SCOTLAND GE2029'!J8 -> 0 | AI550: ='SCOTLAND GE2029'!T8*100 -> 0 | AJ550: =MAX(I550,K550,M550,O550,Q550,S550,AH550,Z550,AB550) -> 0.42439442 | AK550: =Q550-AJ550 -> -0.42439442
A551: ='SCOTLAND GE2029'!A9 -> Arbroath and Broughty Ferry | B551: ='SCOTLAND GE2029'!#REF! -> #REF! | C551: ='SCOTLAND GE2029'!#REF! -> #REF! | D551: ='SCOTLAND GE2029'!#REF! -> #REF! | E551: ='SCOTLAND GE2029'!AL9 -> SNP | F551: ='SCOTLAND GE2029'!AM9 -> HOLD | G551: ='SCOTLAND GE2029'!AN9 | H551: =IF(E551='SCOTLAND GE2029'!AK9,"",E551) | I551: ='SCOTLAND GE2029'!B9 -> 0.15795912 | J551: ='SCOTLAND GE2029'!L9*100 -> -17.574444 | K551: ='SCOTLAND GE2029'!C9 -> 0.13207673 | L551: ='SCOTLAND GE2029'!M9*100 -> -2.2988209 | M551: ='SCOTLAND GE2029'!D9 -> 0.24050553 | N551: ='SCOTLAND GE2029'!N9*100 -> 15.437093 | O551: ='SCOTLAND GE2029'!E9 -> 0.051598698 | P551: ='SCOTLAND GE2029'!O9*100 -> 0.062061723 | Q551: ='SCOTLAND GE2029'!F9 -> 0 | R551: ='SCOTLAND GE2029'!P9*100 -> 0 | S551: ='SCOTLAND GE2029'!I9 -> 0.39619671 | T551: ='SCOTLAND GE2029'!S9*100 -> 4.3022196 | U551: =MAX(Z551,AB551,AH551) -> 0.021663212 | V551: =IF(Z551=U551,AA551,IF(AB551=U551,AC551,IF(AH551=U551,AI551,"="))) -> 0.071890453 | Z551: ='SCOTLAND GE2029'!G9 -> 0 | AA551: ='SCOTLAND GE2029'!Q9*100 -> 0 | AB551: ='SCOTLAND GE2029'!H9 -> 0 | AC551: ='SCOTLAND GE2029'!R9*100 -> 0 | AH551: ='SCOTLAND GE2029'!J9 -> 0.021663212 | AI551: ='SCOTLAND GE2029'!T9*100 -> 0.071890453 | AJ551: =MAX(I551,K551,M551,O551,Q551,S551,AH551,Z551,AB551) -> 0.39619671 | AK551: =Q551-AJ551 -> -0.39619671
A552: ='SCOTLAND GE2029'!A10 -> Argyll, Bute and South Lochaber | B552: ='SCOTLAND GE2029'!#REF! -> #REF! | C552: ='SCOTLAND GE2029'!#REF! -> #REF! | D552: ='SCOTLAND GE2029'!#REF! -> #REF! | E552: ='SCOTLAND GE2029'!AL10 -> SNP | F552: ='SCOTLAND GE2029'!AM10 -> HOLD | G552: ='SCOTLAND GE2029'!AN10 | H552: =IF(E552='SCOTLAND GE2029'!AK10,"",E552) | I552: ='SCOTLAND GE2029'!B10 -> 0.085778644 | J552: ='SCOTLAND GE2029'!L10*100 -> -10.558599 | K552: ='SCOTLAND GE2029'!C10 -> 0.16810449 | L552: ='SCOTLAND GE2029'!M10*100 -> -4.0312435 | M552: ='SCOTLAND GE2029'!D10 -> 0.17946912 | N552: ='SCOTLAND GE2029'!N10*100 -> 11.15943 | O552: ='SCOTLAND GE2029'!E10 -> 0.1572277 | P552: ='SCOTLAND GE2029'!O10*100 -> -0.6808676 | Q552: ='SCOTLAND GE2029'!F10 -> 0 | R552: ='SCOTLAND GE2029'!P10*100 -> 0 | S552: ='SCOTLAND GE2029'!I10 -> 0.36897735 | T552: ='SCOTLAND GE2029'!S10*100 -> 2.1645536 | U552: =MAX(Z552,AB552,AH552) -> 0.040442692 | V552: =IF(Z552=U552,AA552,IF(AB552=U552,AC552,IF(AH552=U552,AI552,"="))) -> 1.9467256 | Z552: ='SCOTLAND GE2029'!G10 -> 0.040442692 | AA552: ='SCOTLAND GE2029'!Q10*100 -> 1.9467256 | AB552: ='SCOTLAND GE2029'!H10 -> 0 | AC552: ='SCOTLAND GE2029'!R10*100 -> 0 | AH552: ='SCOTLAND GE2029'!J10 -> 0 | AI552: ='SCOTLAND GE2029'!T10*100 -> 0 | AJ552: =MAX(I552,K552,M552,O552,Q552,S552,AH552,Z552,AB552) -> 0.36897735 | AK552: =Q552-AJ552 -> -0.36897735
A553: ='SCOTLAND GE2029'!A11 -> Ayr, Carrick and Cumnock | B553: ='SCOTLAND GE2029'!#REF! -> #REF! | C553: ='SCOTLAND GE2029'!#REF! -> #REF! | D553: ='SCOTLAND GE2029'!#REF! -> #REF! | E553: ='SCOTLAND GE2029'!AL11 -> SNP | F553: ='SCOTLAND GE2029'!AM11 -> gain from | G553: ='SCOTLAND GE2029'!AN11 -> LAB | H553: =IF(E553='SCOTLAND GE2029'!AK11,"",E553) -> SNP | I553: ='SCOTLAND GE2029'!B11 -> 0.17314011 | J553: ='SCOTLAND GE2029'!L11*100 -> -19.157555 | K553: ='SCOTLAND GE2029'!C11 -> 0.19296012 | L553: ='SCOTLAND GE2029'!M11*100 -> -3.2929077 | M553: ='SCOTLAND GE2029'!D11 -> 0.2424349 | N553: ='SCOTLAND GE2029'!N11*100 -> 15.586074 | O553: ='SCOTLAND GE2029'!E11 -> 0.026806182 | P553: ='SCOTLAND GE2029'!O11*100 -> 0.039910705 | Q553: ='SCOTLAND GE2029'!F11 -> 0.056533536 | R553: ='SCOTLAND GE2029'!P11*100 -> 3.4889994 | S553: ='SCOTLAND GE2029'!I11 -> 0.29616456 | T553: ='SCOTLAND GE2029'!S11*100 -> 3.2924381 | U553: =MAX(Z553,AB553,AH553) -> 0.011960597 | V553: =IF(Z553=U553,AA553,IF(AB553=U553,AC553,IF(AH553=U553,AI553,"="))) -> 0.043040309 | Z553: ='SCOTLAND GE2029'!G11 -> 0 | AA553: ='SCOTLAND GE2029'!Q11*100 -> 0 | AB553: ='SCOTLAND GE2029'!H11 -> 0 | AC553: ='SCOTLAND GE2029'!R11*100 -> 0 | AH553: ='SCOTLAND GE2029'!J11 -> 0.011960597 | AI553: ='SCOTLAND GE2029'!T11*100 -> 0.043040309 | AJ553: =MAX(I553,K553,M553,O553,Q553,S553,AH553,Z553,AB553) -> 0.29616456 | AK553: =Q553-AJ553 -> -0.23963103
A554: ='SCOTLAND GE2029'!A12 -> Bathgate and Linlithgow | B554: ='SCOTLAND GE2029'!#REF! -> #REF! | C554: ='SCOTLAND GE2029'!#REF! -> #REF! | D554: ='SCOTLAND GE2029'!#REF! -> #REF! | E554: ='SCOTLAND GE2029'!AL12 -> SNP | F554: ='SCOTLAND GE2029'!AM12 -> gain from | G554: ='SCOTLAND GE2029'!AN12 -> LAB | H554: =IF(E554='SCOTLAND GE2029'!AK12,"",E554) -> SNP | I554: ='SCOTLAND GE2029'!B12 -> 0.226074 | J554: ='SCOTLAND GE2029'!L12*100 -> -24.400801 | K554: ='SCOTLAND GE2029'!C12 -> 0.064679619 | L554: ='SCOTLAND GE2029'!M12*100 -> -1.0061853 | M554: ='SCOTLAND GE2029'!D12 -> 0.2376597 | N554: ='SCOTLAND GE2029'!N12*100 -> 15.388459 | O554: ='SCOTLAND GE2029'!E12 -> 0.05307467 | P554: ='SCOTLAND GE2029'!O12*100 -> 0.14640674 | Q554: ='SCOTLAND GE2029'!F12 -> 0.087439053 | R554: ='SCOTLAND GE2029'!P12*100 -> 5.4394954 | S554: ='SCOTLAND GE2029'!I12 -> 0.31026811 | T554: ='SCOTLAND GE2029'!S12*100 -> 3.8046548 | U554: =MAX(Z554,AB554,AH554) -> 0.011261679 | V554: =IF(Z554=U554,AA554,IF(AB554=U554,AC554,IF(AH554=U554,AI554,"="))) -> 0.58177229 | Z554: ='SCOTLAND GE2029'!G12 -> 0.011261679 | AA554: ='SCOTLAND GE2029'!Q12*100 -> 0.58177229 | AB554: ='SCOTLAND GE2029'!H12 -> 0 | AC554: ='SCOTLAND GE2029'!R12*100 -> 0 | AH554: ='SCOTLAND GE2029'!J12 -> 0.0095431648 | AI554: ='SCOTLAND GE2029'!T12*100 -> 0.046198095 | AJ554: =MAX(I554,K554,M554,O554,Q554,S554,AH554,Z554,AB554) -> 0.31026811 | AK554: =Q554-AJ554 -> -0.22282906
A555: ='SCOTLAND GE2029'!A13 -> Berwickshire, Roxburgh and Selkirk | B555: ='SCOTLAND GE2029'!#REF! -> #REF! | C555: ='SCOTLAND GE2029'!#REF! -> #REF! | D555: ='SCOTLAND GE2029'!#REF! -> #REF! | E555: ='SCOTLAND GE2029'!AL13 -> Con | F555: ='SCOTLAND GE2029'!AM13 -> HOLD | G555: ='SCOTLAND GE2029'!AN13 | H555: =IF(E555='SCOTLAND GE2029'!AK13,"",E555) | I555: ='SCOTLAND GE2029'!B13 -> 0.058852678 | J555: ='SCOTLAND GE2029'!L13*100 -> -7.6698678 | K555: ='SCOTLAND GE2029'!C13 -> 0.31667574 | L555: ='SCOTLAND GE2029'!M13*100 -> -8.8668131 | M555: ='SCOTLAND GE2029'!D13 -> 0.18372915 | N555: ='SCOTLAND GE2029'!N13*100 -> 11.199068 | O555: ='SCOTLAND GE2029'!E13 -> 0.073501257 | P555: ='SCOTLAND GE2029'!O13*100 -> -0.56688107 | Q555: ='SCOTLAND GE2029'!F13 -> 0.078299165 | R555: ='SCOTLAND GE2029'!P13*100 -> 4.5522843 | S555: ='SCOTLAND GE2029'!I13 -> 0.27124167 | T555: ='SCOTLAND GE2029'!S13*100 -> 0.7634989 | U555: =MAX(Z555,AB555,AH555) -> 0.013197009 | V555: =IF(Z555=U555,AA555,IF(AB555=U555,AC555,IF(AH555=U555,AI555,"="))) -> 0.61305539 | Z555: ='SCOTLAND GE2029'!G13 -> 0.013197009 | AA555: ='SCOTLAND GE2029'!Q13*100 -> 0.61305539 | AB555: ='SCOTLAND GE2029'!H13 -> 0 | AC555: ='SCOTLAND GE2029'!R13*100 -> 0 | AH555: ='SCOTLAND GE2029'!J13 -> 0.004503325 | AI555: ='SCOTLAND GE2029'!T13*100 -> -0.024344248 | AJ555: =MAX(I555,K555,M555,O555,Q555,S555,AH555,Z555,AB555) -> 0.31667574 | AK555: =Q555-AJ555 -> -0.23837658
A556: ='SCOTLAND GE2029'!A14 -> Caithness, Sutherland and Easter Ross | B556: ='SCOTLAND GE2029'!#REF! -> #REF! | C556: ='SCOTLAND GE2029'!#REF! -> #REF! | D556: ='SCOTLAND GE2029'!#REF! -> #REF! | E556: ='SCOTLAND GE2029'!AL14 -> LD | F556: ='SCOTLAND GE2029'!AM14 -> HOLD | G556: ='SCOTLAND GE2029'!AN14 | H556: =IF(E556='SCOTLAND GE2029'!AK14,"",E556) | I556: ='SCOTLAND GE2029'!B14 -> 0.029647742 | J556: ='SCOTLAND GE2029'!L14*100 -> -4.4383703 | K556: ='SCOTLAND GE2029'!C14 -> 0.0291076 | L556: ='SCOTLAND GE2029'!M14*100 -> -1.1285034 | M556: ='SCOTLAND GE2029'!D14 -> 0.1723723 | N556: ='SCOTLAND GE2029'!N14*100 -> 9.9404957 | O556: ='SCOTLAND GE2029'!E14 -> 0.4228147 | P556: ='SCOTLAND GE2029'!O14*100 -> -7.0930959 | Q556: ='SCOTLAND GE2029'!F14 -> 0.078524967 | R556: ='SCOTLAND GE2029'!P14*100 -> 4.288824 | S556: ='SCOTLAND GE2029'!I14 -> 0.25242478 | T556: ='SCOTLAND GE2029'!S14*100 -> -1.3536829 | U556: =MAX(Z556,AB556,AH556) -> 0.015107922 | V556: =IF(Z556=U556,AA556,IF(AB556=U556,AC556,IF(AH556=U556,AI556,"="))) -> -0.21566717 | Z556: ='SCOTLAND GE2029'!G14 -> 0 | AA556: ='SCOTLAND GE2029'!Q14*100 -> 0 | AB556: ='SCOTLAND GE2029'!H14 -> 0 | AC556: ='SCOTLAND GE2029'!R14*100 -> 0 | AH556: ='SCOTLAND GE2029'!J14 -> 0.015107922 | AI556: ='SCOTLAND GE2029'!T14*100 -> -0.21566717 | AJ556: =MAX(I556,K556,M556,O556,Q556,S556,AH556,Z556,AB556) -> 0.4228147 | AK556: =Q556-AJ556 -> -0.34428973
... A601: ='SCOTLAND GE2029'!A59 -> West Dunbartonshire | B601: ='SCOTLAND GE2029'!#REF! -> #REF! | C601: ='SCOTLAND GE2029'!#REF! -> #REF! | D601: ='SCOTLAND GE2029'!#REF! -> #REF! | E601: ='SCOTLAND GE2029'!AL59 -> SNP | F601: ='SCOTLAND GE2029'!AM59 -> gain from | G601: ='SCOTLAND GE2029'!AN59 -> LAB | H601: =IF(E601='SCOTLAND GE2029'!AK59,"",E601) -> SNP | I601: ='SCOTLAND GE2029'!B59 -> 0.23928047 | J601: ='SCOTLAND GE2029'!L59*100 -> -24.859342 | K601: ='SCOTLAND GE2029'!C59 -> 0.032862931 | L601: ='SCOTLAND GE2029'!M59*100 -> -0.43743363 | M601: ='SCOTLAND GE2029'!D59 -> 0.20245258 | N601: ='SCOTLAND GE2029'!N59*100 -> 13.247481 | O601: ='SCOTLAND GE2029'!E59 -> 0.022228663 | P601: ='SCOTLAND GE2029'!O59*100 -> 0.10332305 | Q601: ='SCOTLAND GE2029'!F59 -> 0.10198731 | R601: ='SCOTLAND GE2029'!P59*100 -> 6.4194263 | S601: ='SCOTLAND GE2029'!I59 -> 0.3906021 | T601: ='SCOTLAND GE2029'!S59*100 -> 5.4557231 | U601: =MAX(Z601,AB601,AH601) -> 0.010585947 | V601: =IF(Z601=U601,AA601,IF(AB601=U601,AC601,IF(AH601=U601,AI601,"="))) -> 0.070821879 | Z601: ='SCOTLAND GE2029'!G59 -> 0 | AA601: ='SCOTLAND GE2029'!Q59*100 -> 0 | AB601: ='SCOTLAND GE2029'!H59 -> 0 | AC601: ='SCOTLAND GE2029'!R59*100 -> 0 | AH601: ='SCOTLAND GE2029'!J59 -> 0.010585947 | AI601: ='SCOTLAND GE2029'!T59*100 -> 0.070821879 | AJ601: =MAX(I601,K601,M601,O601,Q601,S601,AH601,Z601,AB601) -> 0.3906021 | AK601: =Q601-AJ601 -> -0.28861479
A602: ='WALES GE2029'!A3 -> Aberafan Maesteg | B602: ='WALES GE2029'!#REF! -> #REF! | C602: ='WALES GE2029'!#REF! -> #REF! | D602: ='WALES GE2029'!#REF! -> #REF! | E602: ='WALES GE2029'!AL3 -> Ref | F602: ='WALES GE2029'!AM3 -> gain from | G602: ='WALES GE2029'!AN3 -> LAB | H602: =IF(E602='WALES GE2029'!AK3,"",E602) -> Ref | I602: ='WALES GE2029'!B3 -> 0.21264181 | J602: ='WALES GE2029'!L3*100 -> -28.623944 | K602: ='WALES GE2029'!C3 -> 0.060676204 | L602: ='WALES GE2029'!M3*100 -> -2.0517508 | M602: ='WALES GE2029'!D3 -> 0.35680419 | N602: ='WALES GE2029'!N3*100 -> 14.748495 | O602: ='WALES GE2029'!E3 -> 0.025342083 | P602: ='WALES GE2029'!O3*100 -> -0.027742832 | Q602: ='WALES GE2029'!F3 -> 0.097264787 | R602: ='WALES GE2029'!P3*100 -> 6.6666812 | S602: ='WALES GE2029'!I3 -> 0.22018635 | T602: ='WALES GE2029'!S3*100 -> 8.8201115 | U602: =MAX(Z602,AB602,AH602) -> 0.020533266 | V602: =IF(Z602=U602,AA602,IF(AB602=U602,AC602,IF(AH602=U602,AI602,"="))) -> 0.32484866 | Z602: ='WALES GE2029'!G3 -> 0.020533266 | AA602: ='WALES GE2029'!Q3*100 -> 0.32484866 | AB602: ='WALES GE2029'!H3 -> 0 | AC602: ='WALES GE2029'!R3*100 -> 0 | AH602: ='WALES GE2029'!J3 -> 0.0065513205 | AI602: ='WALES GE2029'!T3*100 -> 0.14330121 | AJ602: =MAX(I602,K602,M602,O602,Q602,S602,AH602,Z602,AB602) -> 0.35680419 | AK602: =Q602-AJ602 -> -0.2595394
A603: ='WALES GE2029'!A4 -> Alyn and Deeside | B603: ='WALES GE2029'!#REF! -> #REF! | C603: ='WALES GE2029'!#REF! -> #REF! | D603: ='WALES GE2029'!#REF! -> #REF! | E603: ='WALES GE2029'!AL4 -> Ref | F603: ='WALES GE2029'!AM4 -> gain from | G603: ='WALES GE2029'!AN4 -> LAB | H603: =IF(E603='WALES GE2029'!AK4,"",E603) -> Ref | I603: ='WALES GE2029'!B4 -> 0.18077123 | J603: ='WALES GE2029'!L4*100 -> -24.315483 | K603: ='WALES GE2029'!C4 -> 0.13597565 | L603: ='WALES GE2029'!M4*100 -> -4.5901195 | M603: ='WALES GE2029'!D4 -> 0.37732478 | N603: ='WALES GE2029'!N4*100 -> 15.606279 | O603: ='WALES GE2029'!E4 -> 0.047094434 | P603: ='WALES GE2029'!O4*100 -> -0.049498347 | Q603: ='WALES GE2029'!F4 -> 0.14115533 | R603: ='WALES GE2029'!P4*100 -> 9.6769272 | S603: ='WALES GE2029'!I4 -> 0.074541285 | T603: ='WALES GE2029'!S4*100 -> 2.9878675 | U603: =MAX(Z603,AB603,AH603) -> 0.043137285 | V603: =IF(Z603=U603,AA603,IF(AB603=U603,AC603,IF(AH603=U603,AI603,"="))) -> 0.68402718 | Z603: ='WALES GE2029'!G4 -> 0.043137285 | AA603: ='WALES GE2029'!Q4*100 -> 0.68402718 | AB603: ='WALES GE2029'!H4 -> 0 | AC603: ='WALES GE2029'!R4*100 -> 0 | AH603: ='WALES GE2029'!J4 -> 0 | AI603: ='WALES GE2029'!T4*100 -> 0 | AJ603: =MAX(I603,K603,M603,O603,Q603,S603,AH603,Z603,AB603) -> 0.37732478 | AK603: =Q603-AJ603 -> -0.23616944
A604: ='WALES GE2029'!A5 -> Bangor Aberconwy | B604: ='WALES GE2029'!#REF! -> #REF! | C604: ='WALES GE2029'!#REF! -> #REF! | D604: ='WALES GE2029'!#REF! -> #REF! | E604: ='WALES GE2029'!AL5 -> PC | F604: ='WALES GE2029'!AM5 -> gain from | G604: ='WALES GE2029'!AN5 -> LAB | H604: =IF(E604='WALES GE2029'!AK5,"",E604) -> PC | I604: ='WALES GE2029'!B5 -> 0.13322493 | J604: ='WALES GE2029'!L5*100 -> -20.302087 | K604: ='WALES GE2029'!C5 -> 0.15067116 | L604: ='WALES GE2029'!M5*100 -> -6.6227546 | M604: ='WALES GE2029'!D5 -> 0.23166867 | N604: ='WALES GE2029'!N5*100 -> 8.5461272 | O604: ='WALES GE2029'!E5 -> 0.033636774 | P604: ='WALES GE2029'!O5*100 -> -0.29450794 | Q604: ='WALES GE2029'!F5 -> 0.096533705 | R604: ='WALES GE2029'!P5*100 -> 6.3864478 | S604: ='WALES GE2029'!I5 -> 0.33918501 | T604: ='WALES GE2029'!S5*100 -> 12.046202 | U604: =MAX(Z604,AB604,AH604) -> 0.015079753 | V604: =IF(Z604=U604,AA604,IF(AB604=U604,AC604,IF(AH604=U604,AI604,"="))) -> 0.24057247 | Z604: ='WALES GE2029'!G5 -> 0 | AA604: ='WALES GE2029'!Q5*100 -> 0 | AB604: ='WALES GE2029'!H5 -> 0 | AC604: ='WALES GE2029'!R5*100 -> 0 | AH604: ='WALES GE2029'!J5 -> 0.015079753 | AI604: ='WALES GE2029'!T5*100 -> 0.24057247 | AJ604: =MAX(I604,K604,M604,O604,Q604,S604,AH604,Z604,AB604) -> 0.33918501 | AK604: =Q604-AJ604 -> -0.24265131
A605: ='WALES GE2029'!A6 -> Blaenau Gwent and Rhymney | B605: ='WALES GE2029'!#REF! -> #REF! | C605: ='WALES GE2029'!#REF! -> #REF! | D605: ='WALES GE2029'!#REF! -> #REF! | E605: ='WALES GE2029'!AL6 -> Ref | F605: ='WALES GE2029'!AM6 -> gain from | G605: ='WALES GE2029'!AN6 -> LAB | H605: =IF(E605='WALES GE2029'!AK6,"",E605) -> Ref | I605: ='WALES GE2029'!B6 -> 0.19589011 | J605: ='WALES GE2029'!L6*100 -> -33.973585 | K605: ='WALES GE2029'!C6 -> 0.03231911 | L605: ='WALES GE2029'!M6*100 -> -9.3875663 | M605: ='WALES GE2029'!D6 -> 0.26807326 | N605: ='WALES GE2029'!N6*100 -> 26.807326 | O605: ='WALES GE2029'!E6 -> 0.036828139 | P605: ='WALES GE2029'!O6*100 -> -0.55487078 | Q605: ='WALES GE2029'!F6 -> 0.16044562 | R605: ='WALES GE2029'!P6*100 -> 10.299626 | S605: ='WALES GE2029'!I6 -> 0.18829443 | T605: ='WALES GE2029'!S6*100 -> 5.9827082 | U605: =MAX(Z605,AB605,AH605) -> 0.084027229 | V605: =IF(Z605=U605,AA605,IF(AB605=U605,AC605,IF(AH605=U605,AI605,"="))) -> 0.35179049 | Z605: ='WALES GE2029'!G6 -> 0.084027229 | AA605: ='WALES GE2029'!Q6*100 -> 0.35179049 | AB605: ='WALES GE2029'!H6 -> 0.022508949 | AC605: ='WALES GE2029'!R6*100 -> 0.34594201 | AH605: ='WALES GE2029'!J6 -> 0.011613147 | AI605: ='WALES GE2029'!T6*100 -> 0.12862972 | AJ605: =MAX(I605,K605,M605,O605,Q605,S605,AH605,Z605,AB605) -> 0.26807326 | AK605: =Q605-AJ605 -> -0.10762764
A606: ='WALES GE2029'!A7 -> Brecon, Radnor and Cwm Tawe | B606: ='WALES GE2029'!#REF! -> #REF! | C606: ='WALES GE2029'!#REF! -> #REF! | D606: ='WALES GE2029'!#REF! -> #REF! | E606: ='WALES GE2029'!AL7 -> LD | F606: ='WALES GE2029'!AM7 -> HOLD | G606: ='WALES GE2029'!AN7 | H606: =IF(E606='WALES GE2029'!AK7,"",E606) | I606: ='WALES GE2029'!B7 -> 0.090730803 | J606: ='WALES GE2029'!L7*100 -> -12.203881 | K606: ='WALES GE2029'!C7 -> 0.19697939 | L606: ='WALES GE2029'!M7*100 -> -6.6490574 | M606: ='WALES GE2029'!D7 -> 0.2405916 | N606: ='WALES GE2029'!N7*100 -> 9.9511426 | O606: ='WALES GE2029'!E7 -> 0.29202793 | P606: ='WALES GE2029'!O7*100 -> -0.30653022 | Q606: ='WALES GE2029'!F7 -> 0.081165607 | R606: ='WALES GE2029'!P7*100 -> 5.5643565 | S606: ='WALES GE2029'!I7 -> 0.0817509 | T606: ='WALES GE2029'!S7*100 -> 3.2769203 | U606: =MAX(Z606,AB606,AH606) -> 0.016753762 | V606: =IF(Z606=U606,AA606,IF(AB606=U606,AC606,IF(AH606=U606,AI606,"="))) -> 0.36704928 | Z606: ='WALES GE2029'!G7 -> 0 | AA606: ='WALES GE2029'!Q7*100 -> 0 | AB606: ='WALES GE2029'!H7 -> 0 | AC606: ='WALES GE2029'!R7*100 -> 0 | AH606: ='WALES GE2029'!J7 -> 0.016753762 | AI606: ='WALES GE2029'!T7*100 -> 0.36704928 | AJ606: =MAX(I606,K606,M606,O606,Q606,S606,AH606,Z606,AB606) -> 0.29202793 | AK606: =Q606-AJ606 -> -0.21086233
A607: ='WALES GE2029'!A8 -> Bridgend | B607: ='WALES GE2029'!#REF! -> #REF! | C607: ='WALES GE2029'!#REF! -> #REF! | D607: ='WALES GE2029'!#REF! -> #REF! | E607: ='WALES GE2029'!AL8 -> Ref | F607: ='WALES GE2029'!AM8 -> gain from | G607: ='WALES GE2029'!AN8 -> LAB | H607: =IF(E607='WALES GE2029'!AK8,"",E607) -> Ref | I607: ='WALES GE2029'!B8 -> 0.16509285 | J607: ='WALES GE2029'!L8*100 -> -23.409505 | K607: ='WALES GE2029'!C8 -> 0.1185418 | L607: ='WALES GE2029'!M8*100 -> -4.4942516 | M607: ='WALES GE2029'!D8 -> 0.31664506 | N607: ='WALES GE2029'!N8*100 -> 12.519633 | O607: ='WALES GE2029'!E8 -> 0.033543754 | P607: ='WALES GE2029'!O8*100 -> -0.14057309 | Q607: ='WALES GE2029'!F8 -> 0.13120414 | R607: ='WALES GE2029'!P8*100 -> 8.8665344 | S607: ='WALES GE2029'!I8 -> 0.14197894 | T607: ='WALES GE2029'!S8*100 -> 5.4266848 | U607: =MAX(Z607,AB607,AH607) -> 0.092993466 | V607: =IF(Z607=U607,AA607,IF(AB607=U607,AC607,IF(AH607=U607,AI607,"="))) -> 1.2314778 | Z607: ='WALES GE2029'!G8 -> 0.092993466 | AA607: ='WALES GE2029'!Q8*100 -> 1.2314778 | AB607: ='WALES GE2029'!H8 -> 0 | AC607: ='WALES GE2029'!R8*100 -> 0 | AH607: ='WALES GE2029'!J8 -> 0 | AI607: ='WALES GE2029'!T8*100 -> 0 | AJ607: =MAX(I607,K607,M607,O607,Q607,S607,AH607,Z607,AB607) -> 0.31664506 | AK607: =Q607-AJ607 -> -0.18544092
A608: ='WALES GE2029'!A9 -> Caerfyrddin | B608: ='WALES GE2029'!#REF! -> #REF! | C608: ='WALES GE2029'!#REF! -> #REF! | D608: ='WALES GE2029'!#REF! -> #REF! | E608: ='WALES GE2029'!AL9 -> PC | F608: ='WALES GE2029'!AM9 -> HOLD | G608: ='WALES GE2029'!AN9 | H608: =IF(E608='WALES GE2029'!AK9,"",E608) | I608: ='WALES GE2029'!B9 -> 0.084424981 | J608: ='WALES GE2029'!L9*100 -> -15.645301 | K608: ='WALES GE2029'!C9 -> 0.11891322 | L608: ='WALES GE2029'!M9*100 -> -7.4600503 | M608: ='WALES GE2029'!D9 -> 0.21342729 | N608: ='WALES GE2029'!N9*100 -> 6.1159944 | O608: ='WALES GE2029'!E9 -> 0.026058002 | P608: ='WALES GE2029'!O9*100 -> -0.5978661 | Q608: ='WALES GE2029'!F9 -> 0.078581415 | R608: ='WALES GE2029'!P9*100 -> 4.8518263 | S608: ='WALES GE2029'!I9 -> 0.46684875 | T608: ='WALES GE2029'!S9*100 -> 12.652773 | U608: =MAX(Z608,AB608,AH608) -> 0.0065083506 | V608: =IF(Z608=U608,AA608,IF(AB608=U608,AC608,IF(AH608=U608,AI608,"="))) -> 0.032468249 | Z608: ='WALES GE2029'!G9 -> 0 | AA608: ='WALES GE2029'!Q9*100 -> 0 | AB608: ='WALES GE2029'!H9 -> 0.005237988 | AC608: ='WALES GE2029'!R9*100 -> 0.050156135 | AH608: ='WALES GE2029'!J9 -> 0.0065083506 | AI608: ='WALES GE2029'!T9*100 -> 0.032468249 | AJ608: =MAX(I608,K608,M608,O608,Q608,S608,AH608,Z608,AB608) -> 0.46684875 | AK608: =Q608-AJ608 -> -0.38826733
A609: ='WALES GE2029'!A10 -> Caerphilly | B609: ='WALES GE2029'!#REF! -> #REF! | C609: ='WALES GE2029'!#REF! -> #REF! | D609: ='WALES GE2029'!#REF! -> #REF! | E609: ='WALES GE2029'!AL10 -> PC | F609: ='WALES GE2029'!AM10 -> gain from | G609: ='WALES GE2029'!AN10 -> LAB | H609: =IF(E609='WALES GE2029'!AK10,"",E609) -> PC | I609: ='WALES GE2029'!B10 -> 0.13383441 | J609: ='WALES GE2029'!L10*100 -> -24.640308 | K609: ='WALES GE2029'!C10 -> 0.059655974 | L609: ='WALES GE2029'!M10*100 -> -5.5032523 | M609: ='WALES GE2029'!D10 -> 0.32198741 | N609: ='WALES GE2029'!N10*100 -> 11.918362 | O609: ='WALES GE2029'!E10 -> 0.03342289 | P609: ='WALES GE2029'!O10*100 -> -1.3341769 | Q609: ='WALES GE2029'!F10 -> 0.090529654 | R609: ='WALES GE2029'!P10*100 -> 4.7374347 | S609: ='WALES GE2029'!I10 -> 0.36056966 | T609: ='WALES GE2029'!S10*100 -> 14.82194 | U609: =MAX(Z609,AB609,AH609) -> 0 | V609: =IF(Z609=U609,AA609,IF(AB609=U609,AC609,IF(AH609=U609,AI609,"="))) -> 0 | Z609: ='WALES GE2029'!G10 -> 0 | AA609: ='WALES GE2029'!Q10*100 -> 0 | AB609: ='WALES GE2029'!H10 -> 0 | AC609: ='WALES GE2029'!R10*100 -> 0 | AH609: ='WALES GE2029'!J10 -> 0 | AI609: ='WALES GE2029'!T10*100 -> 0 | AJ609: =MAX(I609,K609,M609,O609,Q609,S609,AH609,Z609,AB609) -> 0.36056966 | AK609: =Q609-AJ609 -> -0.27004001
A610: ='WALES GE2029'!A11 -> Cardiff East | B610: ='WALES GE2029'!#REF! -> #REF! | C610: ='WALES GE2029'!#REF! -> #REF! | D610: ='WALES GE2029'!#REF! -> #REF! | E610: ='WALES GE2029'!AL11 -> Grn | F610: ='WALES GE2029'!AM11 -> gain from | G610: ='WALES GE2029'!AN11 -> LAB | H610: =IF(E610='WALES GE2029'!AK11,"",E610) -> Grn | I610: ='WALES GE2029'!B11 -> 0.15533753 | J610: ='WALES GE2029'!L11*100 -> -24.936048 | K610: ='WALES GE2029'!C11 -> 0.067308134 | L610: ='WALES GE2029'!M11*100 -> -3.2709758 | M610: ='WALES GE2029'!D11 -> 0.19539428 | N610: ='WALES GE2029'!N11*100 -> 6.8103426 | O610: ='WALES GE2029'!E11 -> 0.15336817 | P610: ='WALES GE2029'!O11*100 -> -1.8806762 | Q610: ='WALES GE2029'!F11 -> 0.28652818 | R610: ='WALES GE2029'!P11*100 -> 18.64336 | S610: ='WALES GE2029'!I11 -> 0.13631859 | T610: ='WALES GE2029'!S11*100 -> 4.5579132 | U610: =MAX(Z610,AB610,AH610) -> 0.0057451147 | V610: =IF(Z610=U610,AA610,IF(AB610=U610,AC610,IF(AH610=U610,AI610,"="))) -> 0.076083438 | Z610: ='WALES GE2029'!G11 -> 0 | AA610: ='WALES GE2029'!Q11*100 -> 0 | AB610: ='WALES GE2029'!H11 -> 0 | AC610: ='WALES GE2029'!R11*100 -> 0 | AH610: ='WALES GE2029'!J11 -> 0.0057451147 | AI610: ='WALES GE2029'!T11*100 -> 0.076083438 | AJ610: =MAX(I610,K610,M610,O610,Q610,S610,AH610,Z610,AB610) -> 0.28652818 | AK610: =Q610-AJ610 -> 0
A611: ='WALES GE2029'!A12 -> Cardiff North | B611: ='WALES GE2029'!#REF! -> #REF! | C611: ='WALES GE2029'!#REF! -> #REF! | D611: ='WALES GE2029'!#REF! -> #REF! | E611: ='WALES GE2029'!AL12 -> Ref | F611: ='WALES GE2029'!AM12 -> gain from | G611: ='WALES GE2029'!AN12 -> LAB | H611: =IF(E611='WALES GE2029'!AK12,"",E611) -> Ref | I611: ='WALES GE2029'!B12 -> 0.18802921 | J611: ='WALES GE2029'!L12*100 -> -25.114674 | K611: ='WALES GE2029'!C12 -> 0.15245854 | L611: ='WALES GE2029'!M12*100 -> -5.0646387 | M611: ='WALES GE2029'!D12 -> 0.21586069 | N611: ='WALES GE2029'!N12*100 -> 8.9789031 | O611: ='WALES GE2029'!E12 -> 0.066304843 | P611: ='WALES GE2029'!O12*100 -> -0.042782581 | Q611: ='WALES GE2029'!F12 -> 0.21253901 | R611: ='WALES GE2029'!P12*100 -> 14.597486 | S611: ='WALES GE2029'!I12 -> 0.16480771 | T611: ='WALES GE2029'!S12*100 -> 6.6457072 | U611: =MAX(Z611,AB611,AH611) -> 0 | V611: =IF(Z611=U611,AA611,IF(AB611=U611,AC611,IF(AH611=U611,AI611,"="))) -> 0 | Z611: ='WALES GE2029'!G12 -> 0 | AA611: ='WALES GE2029'!Q12*100 -> 0 | AB611: ='WALES GE2029'!H12 -> 0 | AC611: ='WALES GE2029'!R12*100 -> 0 | AH611: ='WALES GE2029'!J12 -> 0 | AI611: ='WALES GE2029'!T12*100 -> 0 | AJ611: =MAX(I611,K611,M611,O611,Q611,S611,AH611,Z611,AB611) -> 0.21586069 | AK611: =Q611-AJ611 -> -0.0033216847
A612: ='WALES GE2029'!A13 -> Cardiff South and Penarth | B612: ='WALES GE2029'!#REF! -> #REF! | C612: ='WALES GE2029'!#REF! -> #REF! | D612: ='WALES GE2029'!#REF! -> #REF! | E612: ='WALES GE2029'!AL13 -> Grn | F612: ='WALES GE2029'!AM13 -> gain from | G612: ='WALES GE2029'!AN13 -> LAB | H612: =IF(E612='WALES GE2029'!AK13,"",E612) -> Grn | I612: ='WALES GE2029'!B13 -> 0.16354367 | J612: ='WALES GE2029'!L13*100 -> -28.132054 | K612: ='WALES GE2029'!C13 -> 0.089813951 | L612: ='WALES GE2029'!M13*100 -> -4.9531567 | M612: ='WALES GE2029'!D13 -> 0.16861334 | N612: ='WALES GE2029'!N13*100 -> 5.3925772 | O612: ='WALES GE2029'!E13 -> 0.0633287 | P612: ='WALES GE2029'!O13*100 -> -1.090042 | Q612: ='WALES GE2029'!F13 -> 0.39617842 | R612: ='WALES GE2029'!P13*100 -> 25.167668 | S612: ='WALES GE2029'!I13 -> 0.11852193 | T612: ='WALES GE2029'!S13*100 -> 3.615007 | U612: =MAX(Z612,AB612,AH612) -> 0 | V612: =IF(Z612=U612,AA612,IF(AB612=U612,AC612,IF(AH612=U612,AI612,"="))) -> 0 | Z612: ='WALES GE2029'!G13 -> 0 | AA612: ='WALES GE2029'!Q13*100 -> 0 | AB612: ='WALES GE2029'!H13 -> 0 | AC612: ='WALES GE2029'!R13*100 -> 0 | AH612: ='WALES GE2029'!J13 -> 0 | AI612: ='WALES GE2029'!T13*100 -> 0 | AJ612: =MAX(I612,K612,M612,O612,Q612,S612,AH612,Z612,AB612) -> 0.39617842 | AK612: =Q612-AJ612 -> 0
A613: ='WALES GE2029'!A14 -> Cardiff West | B613: ='WALES GE2029'!#REF! -> #REF! | C613: ='WALES GE2029'!#REF! -> #REF! | D613: ='WALES GE2029'!#REF! -> #REF! | E613: ='WALES GE2029'!AL14 -> PC | F613: ='WALES GE2029'!AM14 -> gain from | G613: ='WALES GE2029'!AN14 -> LAB | H613: =IF(E613='WALES GE2029'!AK14,"",E613) -> PC | I613: ='WALES GE2029'!B14 -> 0.13722346 | J613: ='WALES GE2029'!L14*100 -> -23.013807 | K613: ='WALES GE2029'!C14 -> 0.10001308 | L613: ='WALES GE2029'!M14*100 -> -5.2700467 | M613: ='WALES GE2029'!D14 -> 0.18777717 | N613: ='WALES GE2029'!N14*100 -> 6.207616 | O613: ='WALES GE2029'!E14 -> 0.037206695 | P613: ='WALES GE2029'!O14*100 -> -0.57139658 | Q613: ='WALES GE2029'!F14 -> 0.19649875 | R613: ='WALES GE2029'!P14*100 -> 12.59623 | S613: ='WALES GE2029'!I14 -> 0.30780558 | T613: ='WALES GE2029'!S14*100 -> 9.7268686 | U613: =MAX(Z613,AB613,AH613) -> 0.027869517 | V613: =IF(Z613=U613,AA613,IF(AB613=U613,AC613,IF(AH613=U613,AI613,"="))) -> 0.30242412 | Z613: ='WALES GE2029'!G14 -> 0.005605747 | AA613: ='WALES GE2029'!Q14*100 -> 0.022111443 | AB613: ='WALES GE2029'!H14 -> 0 | AC613: ='WALES GE2029'!R14*100 -> 0 | AH613: ='WALES GE2029'!J14 -> 0.027869517 | AI613: ='WALES GE2029'!T14*100 -> 0.30242412 | AJ613: =MAX(I613,K613,M613,O613,Q613,S613,AH613,Z613,AB613) -> 0.30780558 | AK613: =Q613-AJ613 -> -0.11130683
... A633: ='WALES GE2029'!A34 -> Ynys Môn | B633: ='WALES GE2029'!#REF! -> #REF! | C633: ='WALES GE2029'!#REF! -> #REF! | D633: ='WALES GE2029'!#REF! -> #REF! | E633: ='WALES GE2029'!AL34 -> PC | F633: ='WALES GE2029'!AM34 -> HOLD | G633: ='WALES GE2029'!AN34 | H633: =IF(E633='WALES GE2029'!AK34,"",E633) | I633: ='WALES GE2029'!B34 -> 0.089078914 | J633: ='WALES GE2029'!L34*100 -> -14.443218 | K633: ='WALES GE2029'!C34 -> 0.20402128 | L633: ='WALES GE2029'!M34*100 -> -10.102347 | M633: ='WALES GE2029'!D34 -> 0.15069768 | N633: ='WALES GE2029'!N34*100 -> 5.1917491 | O633: ='WALES GE2029'!E34 -> 0.011911363 | P633: ='WALES GE2029'!O34*100 -> -0.15433387 | Q633: ='WALES GE2029'!F34 -> 0.052665396 | R633: ='WALES GE2029'!P34*100 -> 3.4153688 | S633: ='WALES GE2029'!I34 -> 0.48460341 | T633: ='WALES GE2029'!S34*100 -> 16.003556 | U633: =MAX(Z633,AB633,AH633) -> 0.0070219519 | V633: =IF(Z633=U633,AA633,IF(AB633=U633,AC633,IF(AH633=U633,AI633,"="))) -> 0.089224739 | Z633: ='WALES GE2029'!G34 -> 0 | AA633: ='WALES GE2029'!Q34*100 -> 0 | AB633: ='WALES GE2029'!H34 -> 0 | AC633: ='WALES GE2029'!R34*100 -> 0 | AH633: ='WALES GE2029'!J34 -> 0.0070219519 | AI633: ='WALES GE2029'!T34*100 -> 0.089224739 | AJ633: =MAX(I633,K633,M633,O633,Q633,S633,AH633,Z633,AB633) -> 0.48460341 | AK633: =Q633-AJ633 -> -0.43193802

Sheet Cabinet
A1: Portfolio | B1: Minister | C1: Seat | D1: County | E1: Region | F1: Nation | G1: Winner | H1: Swing | I1: from | J1: Changes | K1: Lab | L1: Lab +/- | M1: Con | N1: Con +/- | O1: Ref | P1: Ref +/- | Q1: LD | R1: LD +/- | S1: Grn | T1: Grn +/- | U1: Nat | V1: Nat +/- | W1: Oth | X1: Oth +/- | AB1: Ind | AC1: Ind +/- | AD1: WPB | AE1: WPB +/- | AF1: Oth | AG1: Oth +/- | AH1: 1st | AI1: GRN from 1st
A2: Secretary of State | B2: Shabana Mahmood | C2: ='ENGLAND GE2029'!A465 -> Birmingham Ladywood | D2: ='ENGLAND GE2029'!B465 -> WMD | E2: ='ENGLAND GE2029'!C465 -> WM | F2: ='ENGLAND GE2029'!D465 -> England | G2: ='ENGLAND GE2029'!AP465 -> Grn | H2: ='ENGLAND GE2029'!AQ465 -> gain from | I2: ='ENGLAND GE2029'!AR465 -> LAB | J2: =IF(G2='ENGLAND GE2029'!AO465,"",G2) -> Grn | K2: ='ENGLAND GE2029'!E465 -> 0.25348954 | L2: ='ENGLAND GE2029'!P465*100 -> -17.183646 | M2: ='ENGLAND GE2029'!F465 -> 0.051393415 | N2: ='ENGLAND GE2029'!Q465*100 -> -0.92424694 | O2: ='ENGLAND GE2029'!G465 -> 0.078855131 | P2: ='ENGLAND GE2029'!R465*100 -> 3.8476771 | Q2: ='ENGLAND GE2029'!H465 -> 0.049324462 | R2: ='ENGLAND GE2029'!S465*100 -> 0.25489896 | S2: ='ENGLAND GE2029'!I465 -> 0.27532545 | T2: ='ENGLAND GE2029'!T465*100 -> 18.024357 | V2: 0 | W2: =MAX(AB2,AD2,AF2) -> 0.2634764 | X2: =IF(AB2=W2,AC2,IF(AD2=W2,AE2,IF(AF2=W2,AG2,"="))) -> -6.8325997 | AB2: ='ENGLAND GE2029'!J465 -> 0.2634764 | AC2: ='ENGLAND GE2029'!U465*100 -> -6.8325997 | AD2: ='ENGLAND GE2029'!K465 -> 0 | AE2: ='ENGLAND GE2029'!V465*100 -> 0 | AF2: ='ENGLAND GE2029'!N465 -> 0 | AG2: ='ENGLAND GE2029'!Y465*100 -> 0 | AH2: =MAX(K2,M2,O2,Q2,S2,U2,AF2,AB2,AD2) -> 0.27532545 | AI2: =S2-AH2 -> 0
A3: Chief Secretary to the PM | B3: Darren Jones | C3: ='ENGLAND GE2029'!A381 -> Bristol North West | D3: ='ENGLAND GE2029'!B381 -> AVN | E3: ='ENGLAND GE2029'!C381 -> SW | F3: ='ENGLAND GE2029'!D381 -> England | G3: ='ENGLAND GE2029'!AP381 -> Grn | H3: ='ENGLAND GE2029'!AQ381 -> gain from | I3: ='ENGLAND GE2029'!AR381 -> LAB | J3: =IF(G3='ENGLAND GE2029'!AO381,"",G3) -> Grn | K3: ='ENGLAND GE2029'!E381 -> 0.25759918 | L3: ='ENGLAND GE2029'!P381*100 -> -23.881052 | M3: ='ENGLAND GE2029'!F381 -> 0.10313491 | N3: ='ENGLAND GE2029'!Q381*100 -> -3.6618311 | O3: ='ENGLAND GE2029'!G381 -> 0.17380674 | P3: ='ENGLAND GE2029'!R381*100 -> 7.3464221 | Q3: ='ENGLAND GE2029'!H381 -> 0.078791605 | R3: ='ENGLAND GE2029'!S381*100 -> -0.70246713 | S3: ='ENGLAND GE2029'!I381 -> 0.35772449 | T3: ='ENGLAND GE2029'!T381*100 -> 18.462693 | V3: 0 | W3: =MAX(AB3,AD3,AF3) -> 0.0032981641 | X3: =IF(AB3=W3,AC3,IF(AD3=W3,AE3,IF(AF3=W3,AG3,"="))) -> -0.12825556 | AB3: ='ENGLAND GE2029'!J381 -> 0 | AC3: ='ENGLAND GE2029'!U381*100 -> 0 | AD3: ='ENGLAND GE2029'!K381 -> 0 | AE3: ='ENGLAND GE2029'!V381*100 -> 0 | AF3: ='ENGLAND GE2029'!N381 -> 0.0032981641 | AG3: ='ENGLAND GE2029'!Y381*100 -> -0.12825556 | AH3: =MAX(K3,M3,O3,Q3,S3,U3,AF3,AB3,AD3) -> 0.35772449 | AI3: =S3-AH3 -> 0
A4: Secretary of State for Wales | B4: Jo Stevens | C4: ='WALES GE2029'!A11 -> Cardiff East | D4: ='WALES GE2029'!#REF! -> #REF! | E4: ='WALES GE2029'!#REF! -> #REF! | F4: ='WALES GE2029'!#REF! -> #REF! | G4: ='WALES GE2029'!AL11 -> Grn | H4: ='WALES GE2029'!AM11 -> gain from | I4: ='WALES GE2029'!AN11 -> LAB | J4: =IF(G4='WALES GE2029'!AK11,"",G4) -> Grn | K4: ='WALES GE2029'!B11 -> 0.15533753 | L4: ='WALES GE2029'!L11*100 -> -24.936048 | M4: ='WALES GE2029'!C11 -> 0.067308134 | N4: ='WALES GE2029'!M11*100 -> -3.2709758 | O4: ='WALES GE2029'!D11 -> 0.19539428 | P4: ='WALES GE2029'!N11*100 -> 6.8103426 | Q4: ='WALES GE2029'!E11 -> 0.15336817 | R4: ='WALES GE2029'!O11*100 -> -1.8806762 | S4: ='WALES GE2029'!F11 -> 0.28652818 | T4: ='WALES GE2029'!P11*100 -> 18.64336 | U4: ='WALES GE2029'!I11 -> 0.13631859 | V4: ='WALES GE2029'!S11*100 -> 4.5579132 | W4: =MAX(AB4,AD4,AF4) -> 0.0057451147 | X4: =IF(AB4=W4,AC4,IF(AD4=W4,AE4,IF(AF4=W4,AG4,"="))) -> 0.076083438 | AB4: ='WALES GE2029'!G11 -> 0 | AC4: ='WALES GE2029'!Q11*100 -> 0 | AD4: ='WALES GE2029'!H11 -> 0 | AE4: ='WALES GE2029'!R11*100 -> 0 | AF4: ='WALES GE2029'!J11 -> 0.0057451147 | AG4: ='WALES GE2029'!T11*100 -> 0.076083438 | AH4: =MAX(K4,M4,O4,Q4,S4,U4,AF4,AB4,AD4) -> 0.28652818 | AI4: =S4-AH4 -> 0
A5: Secretary of State for Energy Security and Net Zero | B5: Ed Miliband | C5: ='ENGLAND GE2029'!A514 -> Doncaster North | D5: ='ENGLAND GE2029'!B514 -> SYK | E5: ='ENGLAND GE2029'!C514 -> YH | F5: ='ENGLAND GE2029'!D514 -> England | G5: ='ENGLAND GE2029'!AP514 -> Ref | H5: ='ENGLAND GE2029'!AQ514 -> gain from | I5: ='ENGLAND GE2029'!AR514 -> LAB | J5: =IF(G5='ENGLAND GE2029'!AO514,"",G5) -> Ref | K5: ='ENGLAND GE2029'!E514 -> 0.25273263 | L5: ='ENGLAND GE2029'!P514*100 -> -27.081424 | M5: ='ENGLAND GE2029'!F514 -> 0.042969908 | N5: ='ENGLAND GE2029'!Q514*100 -> -18.620885 | O5: ='ENGLAND GE2029'!G514 -> 0.39260775 | P5: ='ENGLAND GE2029'!R514*100 -> 39.260775 | Q5: ='ENGLAND GE2029'!H514 -> 0.026455048 | R5: ='ENGLAND GE2029'!S514*100 -> -0.72524551 | S5: ='ENGLAND GE2029'!I514 -> 0.12597093 | T5: ='ENGLAND GE2029'!T514*100 -> 6.8619788 | V5: 0 | W5: =MAX(AB5,AD5,AF5) -> 0.1099557 | X5: =IF(AB5=W5,AC5,IF(AD5=W5,AE5,IF(AF5=W5,AG5,"="))) -> -4.6260031 | AB5: ='ENGLAND GE2029'!J514 -> 0 | AC5: ='ENGLAND GE2029'!U514*100 -> 0 | AD5: ='ENGLAND GE2029'!K514 -> 0 | AE5: ='ENGLAND GE2029'!V514*100 -> 0 | AF5: ='ENGLAND GE2029'!N514 -> 0.1099557 | AG5: ='ENGLAND GE2029'!Y514*100 -> -4.6260031 | AH5: =MAX(K5,M5,O5,Q5,S5,U5,AF5,AB5,AD5) -> 0.39260775 | AI5: =S5-AH5 -> -0.26663682
A6: Chief Secretary to the Treasury | B6: James Murray | C6: ='ENGLAND GE2029'!A133 -> Ealing North | D6: ='ENGLAND GE2029'!B133 -> LND | E6: ='ENGLAND GE2029'!C133 -> London | F6: ='ENGLAND GE2029'!D133 -> England | G6: ='ENGLAND GE2029'!AP133 -> Lab | H6: ='ENGLAND GE2029'!AQ133 -> HOLD | I6: ='ENGLAND GE2029'!AR133 | J6: =IF(G6='ENGLAND GE2029'!AO133,"",G6) | K6: ='ENGLAND GE2029'!E133 -> 0.25196207 | L6: ='ENGLAND GE2029'!P133*100 -> -22.599407 | M6: ='ENGLAND GE2029'!F133 -> 0.14122748 | N6: ='ENGLAND GE2029'!Q133*100 -> -4.71515 | O6: ='ENGLAND GE2029'!G133 -> 0.24795578 | P6: ='ENGLAND GE2029'!R133*100 -> 15.663453 | Q6: ='ENGLAND GE2029'!H133 -> 0.054864852 | R6: ='ENGLAND GE2029'!S133*100 -> -0.39573165 | S6: ='ENGLAND GE2029'!I133 -> 0.20256064 | T6: ='ENGLAND GE2029'!T133*100 -> 10.874125 | V6: 0 | W6: =MAX(AB6,AD6,AF6) -> 0.054467415 | X6: =IF(AB6=W6,AC6,IF(AD6=W6,AE6,IF(AF6=W6,AG6,"="))) -> -1.8140838 | AB6: ='ENGLAND GE2029'!J133 -> 0 | AC6: ='ENGLAND GE2029'!U133*100 -> -1.1542376 | AD6: ='ENGLAND GE2029'!K133 -> 0.054467415 | AE6: ='ENGLAND GE2029'!V133*100 -> -1.8140838 | AF6: ='ENGLAND GE2029'!N133 -> 0 | AG6: ='ENGLAND GE2029'!Y133*100 -> -0.55514434 | AH6: =MAX(K6,M6,O6,Q6,S6,U6,AF6,AB6,AD6) -> 0.25196207 | AI6: =S6-AH6 -> -0.049401429
A7: Prime Minister | B7: Sir Keir Starmer | C7: ='ENGLAND GE2029'!A151 -> Holborn and St Pancras | D7: ='ENGLAND GE2029'!B151 -> LND | E7: ='ENGLAND GE2029'!C151 -> London | F7: ='ENGLAND GE2029'!D151 -> England | G7: ='ENGLAND GE2029'!AP151 -> Lab | H7: ='ENGLAND GE2029'!AQ151 -> HOLD | I7: ='ENGLAND GE2029'!AR151 | J7: =IF(G7='ENGLAND GE2029'!AO151,"",G7) | K7: ='ENGLAND GE2029'!E151 -> 0.28076746 | L7: ='ENGLAND GE2029'!P151*100 -> -20.842999 | M7: ='ENGLAND GE2029'!F151 -> 0.058696457 | N7: ='ENGLAND GE2029'!Q151*100 -> -1.3216916 | O7: ='ENGLAND GE2029'!G151 -> 0.18156813 | P7: ='ENGLAND GE2029'!R151*100 -> 12.014644 | Q7: ='ENGLAND GE2029'!H151 -> 0.058820761 | R7: ='ENGLAND GE2029'!S151*100 -> 0.089630091 | S7: ='ENGLAND GE2029'!I151 -> 0.2453992 | T7: ='ENGLAND GE2029'!T151*100 -> 14.100047 | V7: 0 | W7: =MAX(AB7,AD7,AF7) -> 0.13451652 | X7: =IF(AB7=W7,AC7,IF(AD7=W7,AE7,IF(AF7=W7,AG7,"="))) -> -5.4903721 | AB7: ='ENGLAND GE2029'!J151 -> 0.13451652 | AC7: ='ENGLAND GE2029'!U151*100 -> -5.4903721 | AD7: ='ENGLAND GE2029'!K151 -> 0 | AE7: ='ENGLAND GE2029'!V151*100 -> 0 | AF7: ='ENGLAND GE2029'!N151 -> 0 | AG7: ='ENGLAND GE2029'!Y151*100 -> -2.5724056 | AH7: =MAX(K7,M7,O7,Q7,S7,U7,AF7,AB7,AD7) -> 0.28076746 | AI7: =S7-AH7 -> -0.035368254
A8: Secretary of State for Education | B8: Bridget Phillipson | C8: ='ENGLAND GE2029'!A204 -> Houghton and Sunderland South | D8: ='ENGLAND GE2029'!B204 -> TWR | E8: ='ENGLAND GE2029'!C204 -> NE | F8: ='ENGLAND GE2029'!D204 -> England | G8: ='ENGLAND GE2029'!AP204 -> Ref | H8: ='ENGLAND GE2029'!AQ204 -> gain from | I8: ='ENGLAND GE2029'!AR204 -> LAB | J8: =IF(G8='ENGLAND GE2029'!AO204,"",G8) -> Ref | K8: ='ENGLAND GE2029'!E204 -> 0.22951858 | L8: ='ENGLAND GE2029'!P204*100 -> -24.11622 | M8: ='ENGLAND GE2029'!F204 -> 0.095495308 | N8: ='ENGLAND GE2029'!Q204*100 -> -4.2210101 | O8: ='ENGLAND GE2029'!G204 -> 0.46070185 | P8: ='ENGLAND GE2029'!R204*100 -> 16.930782 | Q8: ='ENGLAND GE2029'!H204 -> 0.049342048 | R8: ='ENGLAND GE2029'!S204*100 -> -0.78479029 | S8: ='ENGLAND GE2029'!I204 -> 0.11252918 | T8: ='ENGLAND GE2029'!T204*100 -> 6.9499364 | V8: 0 | W8: =MAX(AB8,AD8,AF8) -> 0 | X8: =IF(AB8=W8,AC8,IF(AD8=W8,AE8,IF(AF8=W8,AG8,"="))) -> 0 | AB8: ='ENGLAND GE2029'!J204 -> 0 | AC8: ='ENGLAND GE2029'!U204*100 -> 0 | AD8: ='ENGLAND GE2029'!K204 -> 0 | AE8: ='ENGLAND GE2029'!V204*100 -> 0 | AF8: ='ENGLAND GE2029'!N204 -> 0 | AG8: ='ENGLAND GE2029'!Y204*100 -> 0 | AH8: =MAX(K8,M8,O8,Q8,S8,U8,AF8,AB8,AD8) -> 0.46070185 | AI8: =S8-AH8 -> -0.34817267
A9: Secretary of State for Business and Trade, | B9: Peter Kyle | C9: ='ENGLAND GE2029'!A365 -> Hove and Portslade | D9: ='ENGLAND GE2029'!B365 -> SXE | E9: ='ENGLAND GE2029'!C365 -> SE | F9: ='ENGLAND GE2029'!D365 -> England | G9: ='ENGLAND GE2029'!AP365 -> Grn | H9: ='ENGLAND GE2029'!AQ365 -> gain from | I9: ='ENGLAND GE2029'!AR365 -> LAB | J9: =IF(G9='ENGLAND GE2029'!AO365,"",G9) -> Grn | K9: ='ENGLAND GE2029'!E365 -> 0.28387407 | L9: ='ENGLAND GE2029'!P365*100 -> -24.029322 | M9: ='ENGLAND GE2029'!F365 -> 0.098370827 | N9: ='ENGLAND GE2029'!Q365*100 -> -2.9352689 | O9: ='ENGLAND GE2029'!G365 -> 0.16055836 | P9: ='ENGLAND GE2029'!R365*100 -> 7.2750855 | Q9: ='ENGLAND GE2029'!H365 -> 0.056227543 | R9: ='ENGLAND GE2029'!S365*100 -> -0.24520693 | S9: ='ENGLAND GE2029'!I365 -> 0.32806112 | T9: ='ENGLAND GE2029'!T365*100 -> 18.515719 | V9: 0 | W9: =MAX(AB9,AD9,AF9) -> 0.046957791 | X9: =IF(AB9=W9,AC9,IF(AD9=W9,AE9,IF(AF9=W9,AG9,"="))) -> -1.1760351 | AB9: ='ENGLAND GE2029'!J365 -> 0.046957791 | AC9: ='ENGLAND GE2029'!U365*100 -> -1.1760351 | AD9: ='ENGLAND GE2029'!K365 -> 0 | AE9: ='ENGLAND GE2029'!V365*100 -> 0 | AF9: ='ENGLAND GE2029'!N365 -> 0 | AG9: ='ENGLAND GE2029'!Y365*100 -> 0 | AH9: =MAX(K9,M9,O9,Q9,S9,U9,AF9,AB9,AD9) -> 0.32806112 | AI9: =S9-AH9 -> 0
A10: Secretary of State for Health and Social Care | B10: Wes Streeting | C10: ='ENGLAND GE2029'!A154 -> Ilford North | D10: ='ENGLAND GE2029'!B154 -> LND | E10: ='ENGLAND GE2029'!C154 -> London | F10: ='ENGLAND GE2029'!D154 -> England | G10: ='ENGLAND GE2029'!AP154 -> YP | H10: ='ENGLAND GE2029'!AQ154 -> gain from | I10: ='ENGLAND GE2029'!AR154 -> LAB | J10: =IF(G10='ENGLAND GE2029'!AO154,"",G10) -> YP | K10: ='ENGLAND GE2029'!E154 -> 0.19251959 | L10: ='ENGLAND GE2029'!P154*100 -> -14.119053 | M10: ='ENGLAND GE2029'!F154 -> 0.16831135 | N10: ='ENGLAND GE2029'!Q154*100 -> -3.6837085 | O10: ='ENGLAND GE2029'!G154 -> 0.22947092 | P10: ='ENGLAND GE2029'!R154*100 -> 15.224434 | Q10: ='ENGLAND GE2029'!H154 -> 0.023685295 | R10: ='ENGLAND GE2029'!S154*100 -> 0.048106368 | S10: ='ENGLAND GE2029'!I154 -> 0.090402742 | T10: ='ENGLAND GE2029'!T154*100 -> 5.2141353 | V10: 0 | W10: =MAX(AB10,AD10,AF10) -> 0 | X10: =IF(AB10=W10,AC10,IF(AD10=W10,AE10,IF(AF10=W10,AG10,"="))) -> -32.244924 | AB10: ='ENGLAND GE2029'!J154 -> 0 | AC10: ='ENGLAND GE2029'!U154*100 -> -32.244924 | AD10: ='ENGLAND GE2029'!K154 -> 0 | AE10: ='ENGLAND GE2029'!V154*100 -> 0 | AF10: ='ENGLAND GE2029'!N154 -> 0 | AG10: ='ENGLAND GE2029'!Y154*100 -> 0 | AH10: =MAX(K10,M10,O10,Q10,S10,U10,AF10,AB10,AD10) -> 0.22947092 | AI10: =S10-AH10 -> -0.13906818
A11: Secretary of State for Northern Ireland | B11: Hilary Benn | C11: ='ENGLAND GE2029'!A536 -> Leeds South | D11: ='ENGLAND GE2029'!B536 -> WYK | E11: ='ENGLAND GE2029'!C536 -> YH | F11: ='ENGLAND GE2029'!D536 -> England | G11: ='ENGLAND GE2029'!AP536 -> Grn | H11: ='ENGLAND GE2029'!AQ536 -> gain from | I11: ='ENGLAND GE2029'!AR536 -> LAB | J11: =IF(G11='ENGLAND GE2029'!AO536,"",G11) -> Grn | K11: ='ENGLAND GE2029'!E536 -> 0.23425725 | L11: ='ENGLAND GE2029'!P536*100 -> -30.608621 | M11: ='ENGLAND GE2029'!F536 -> 0.058975933 | N11: ='ENGLAND GE2029'!Q536*100 -> -7.27243 | O11: ='ENGLAND GE2029'!G536 -> 0.2141498 | P11: ='ENGLAND GE2029'!R536*100 -> 21.41498 | Q11: ='ENGLAND GE2029'!H536 -> 0.032788676 | R11: ='ENGLAND GE2029'!S536*100 -> -0.95119744 | S11: ='ENGLAND GE2029'!I536 -> 0.38008922 | T11: ='ENGLAND GE2029'!T536*100 -> 19.579728 | V11: 0 | W11: =MAX(AB11,AD11,AF11) -> 0.038170006 | X11: =IF(AB11=W11,AC11,IF(AD11=W11,AE11,IF(AF11=W11,AG11,"="))) -> -3.1752337 | AB11: ='ENGLAND GE2029'!J536 -> 0 | AC11: ='ENGLAND GE2029'!U536*100 -> -0.87442389 | AD11: ='ENGLAND GE2029'!K536 -> 0.0089672856 | AE11: ='ENGLAND GE2029'!V536*100 -> -1.3729854 | AF11: ='ENGLAND GE2029'!N536 -> 0.038170006 | AG11: ='ENGLAND GE2029'!Y536*100 -> -3.1752337 | AH11: =MAX(K11,M11,O11,Q11,S11,U11,AF11,AB11,AD11) -> 0.38008922 | AI11: =S11-AH11 -> 0
A12: Chancellor of the Exchequer | B12: Rachel Reeves | C12: ='ENGLAND GE2029'!A538 -> Leeds West and Pudsey | D12: ='ENGLAND GE2029'!B538 -> WYK | E12: ='ENGLAND GE2029'!C538 -> YH | F12: ='ENGLAND GE2029'!D538 -> England | G12: ='ENGLAND GE2029'!AP538 -> Ref | H12: ='ENGLAND GE2029'!AQ538 -> gain from | I12: ='ENGLAND GE2029'!AR538 -> LAB | J12: =IF(G12='ENGLAND GE2029'!AO538,"",G12) -> Ref | K12: ='ENGLAND GE2029'!E538 -> 0.2518612 | L12: ='ENGLAND GE2029'!P538*100 -> -24.109874 | M12: ='ENGLAND GE2029'!F538 -> 0.12427566 | N12: ='ENGLAND GE2029'!Q538*100 -> -4.6763984 | O12: ='ENGLAND GE2029'!G538 -> 0.29145883 | P12: ='ENGLAND GE2029'!R538*100 -> 12.829054 | Q12: ='ENGLAND GE2029'!H538 -> 0.040931726 | R12: ='ENGLAND GE2029'!S538*100 -> -0.43480583 | S12: ='ENGLAND GE2029'!I538 -> 0.23461829 | T12: ='ENGLAND GE2029'!T538*100 -> 13.605748 | V12: 0 | W12: =MAX(AB12,AD12,AF12) -> 0.012566168 | X12: =IF(AB12=W12,AC12,IF(AD12=W12,AE12,IF(AF12=W12,AG12,"="))) -> -0.38779533 | AB12: ='ENGLAND GE2029'!J538 -> 0 | AC12: ='ENGLAND GE2029'!U538*100 -> 0 | AD12: ='ENGLAND GE2029'!K538 -> 0.012566168 | AE12: ='ENGLAND GE2029'!V538*100 -> -0.38779533 | AF12: ='ENGLAND GE2029'!N538 -> 0.0049640274 | AG12: ='ENGLAND GE2029'!Y538*100 -> -0.75833826 | AH12: =MAX(K12,M12,O12,Q12,S12,U12,AF12,AB12,AD12) -> 0.29145883 | AI12: =S12-AH12 -> -0.056840537
A13: Secretary of State for Science, Innovation and Technology | B13: Liz Kendall | C13: ='ENGLAND GE2029'!A18 -> Leicester West | D13: ='ENGLAND GE2029'!B18 -> LEI | E13: ='ENGLAND GE2029'!C18 -> East M | F13: ='ENGLAND GE2029'!D18 -> England | G13: ='ENGLAND GE2029'!AP18 -> Grn | H13: ='ENGLAND GE2029'!AQ18 -> gain from | I13: ='ENGLAND GE2029'!AR18 -> LAB | J13: =IF(G13='ENGLAND GE2029'!AO18,"",G13) -> Grn | K13: ='ENGLAND GE2029'!E18 -> 0.22035101 | L13: ='ENGLAND GE2029'!P18*100 -> -22.5958 | M13: ='ENGLAND GE2029'!F18 -> 0.13926807 | N13: ='ENGLAND GE2029'!Q18*100 -> -5.9082071 | O13: ='ENGLAND GE2029'!G18 -> 0.25487722 | P13: ='ENGLAND GE2029'!R18*100 -> 9.4807161 | Q13: ='ENGLAND GE2029'!H18 -> 0.053774482 | R13: ='ENGLAND GE2029'!S18*100 -> -0.77844073 | S13: ='ENGLAND GE2029'!I18 -> 0.28619004 | T13: ='ENGLAND GE2029'!T18*100 -> 17.067178 | V13: 0 | W13: =MAX(AB13,AD13,AF13) -> 0.013178343 | X13: =IF(AB13=W13,AC13,IF(AD13=W13,AE13,IF(AF13=W13,AG13,"="))) -> -0.50152897 | AB13: ='ENGLAND GE2029'!J18 -> 0 | AC13: ='ENGLAND GE2029'!U18*100 -> 0 | AD13: ='ENGLAND GE2029'!K18 -> 0 | AE13: ='ENGLAND GE2029'!V18*100 -> 0 | AF13: ='ENGLAND GE2029'!N18 -> 0.013178343 | AG13: ='ENGLAND GE2029'!Y18*100 -> -0.50152897 | AH13: =MAX(K13,M13,O13,Q13,S13,U13,AF13,AB13,AD13) -> 0.28619004 | AI13: =S13-AH13 -> 0
A14: Secretary of State for Scotland | B14: Douglas Alexander | C14: ='SCOTLAND GE2029'!A44 -> Lothian East | D14: ='SCOTLAND GE2029'!#REF! -> #REF! | E14: ='SCOTLAND GE2029'!#REF! -> #REF! | F14: ='SCOTLAND GE2029'!#REF! -> #REF! | G14: ='SCOTLAND GE2029'!AL44 -> SNP | H14: ='SCOTLAND GE2029'!AM44 -> gain from | I14: ='SCOTLAND GE2029'!AN44 -> LAB | J14: =IF(G14='SCOTLAND GE2029'!AK44,"",G14) -> SNP | K14: ='SCOTLAND GE2029'!B44 -> 0.2454199 | L14: ='SCOTLAND GE2029'!L44*100 -> -24.631322 | M14: ='SCOTLAND GE2029'!C44 -> 0.10002071 | N14: ='SCOTLAND GE2029'!M44*100 -> -1.1352514 | O14: ='SCOTLAND GE2029'!D44 -> 0.18677594 | P14: ='SCOTLAND GE2029'!N44*100 -> 12.333391 | Q14: ='SCOTLAND GE2029'!E44 -> 0.059017393 | R14: ='SCOTLAND GE2029'!O44*100 -> 0.37169875 | S14: ='SCOTLAND GE2029'!F44 -> 0.14199964 | T14: ='SCOTLAND GE2029'!P44*100 -> 9.0289895 | U14: ='SCOTLAND GE2029'!I44 -> 0.25408538 | V14: ='SCOTLAND GE2029'!S44*100 -> 3.9271805 | W14: =MAX(AB14,AD14,AF14) -> 0.012681039 | X14: =IF(AB14=W14,AC14,IF(AD14=W14,AE14,IF(AF14=W14,AG14,"="))) -> 0.1053132 | AB14: ='SCOTLAND GE2029'!G44 -> 0 | AC14: ='SCOTLAND GE2029'!Q44*100 -> 0 | AD14: ='SCOTLAND GE2029'!H44 -> 0 | AE14: ='SCOTLAND GE2029'!R44*100 -> 0 | AF14: ='SCOTLAND GE2029'!J44 -> 0.012681039 | AG14: ='SCOTLAND GE2029'!T44*100 -> 0.1053132 | AH14: =MAX(K14,M14,O14,Q14,S14,U14,AF14,AB14,AD14) -> 0.25408538 | AI14: =S14-AH14 -> -0.11208575
A15: Secretary of State for Foreign, Commonwealth and Development Affairs | B15: Yvette Cooper | C15: ='ENGLAND GE2029'!A541 -> Pontefract, Castleford and Knottingley | D15: ='ENGLAND GE2029'!B541 -> WYK | E15: ='ENGLAND GE2029'!C541 -> YH | F15: ='ENGLAND GE2029'!D541 -> England | G15: ='ENGLAND GE2029'!AP541 -> Ref | H15: ='ENGLAND GE2029'!AQ541 -> gain from | I15: ='ENGLAND GE2029'!AR541 -> LAB | J15: =IF(G15='ENGLAND GE2029'!AO541,"",G15) -> Ref | K15: ='ENGLAND GE2029'!E541 -> 0.22512114 | L15: ='ENGLAND GE2029'!P541*100 -> -25.014098 | M15: ='ENGLAND GE2029'!F541 -> 0.10127805 | N15: ='ENGLAND GE2029'!Q541*100 -> -4.9068198 | O15: ='ENGLAND GE2029'!G541 -> 0.48170551 | P15: ='ENGLAND GE2029'!R541*100 -> 19.08303 | Q15: ='ENGLAND GE2029'!H541 -> 0.028272649 | R15: ='ENGLAND GE2029'!S541*100 -> -0.54620899 | S15: ='ENGLAND GE2029'!I541 -> 0.10133387 | T15: ='ENGLAND GE2029'!T541*100 -> 5.5417919 | V15: 0 | W15: =MAX(AB15,AD15,AF15) -> 0.0025938736 | X15: =IF(AB15=W15,AC15,IF(AD15=W15,AE15,IF(AF15=W15,AG15,"="))) -> -0.12718549 | AB15: ='ENGLAND GE2029'!J541 -> 0 | AC15: ='ENGLAND GE2029'!U541*100 -> 0 | AD15: ='ENGLAND GE2029'!K541 -> 0 | AE15: ='ENGLAND GE2029'!V541*100 -> 0 | AF15: ='ENGLAND GE2029'!N541 -> 0.0025938736 | AG15: ='ENGLAND GE2029'!Y541*100 -> -0.12718549 | AH15: =MAX(K15,M15,O15,Q15,S15,U15,AF15,AB15,AD15) -> 0.48170551 | AI15: =S15-AH15 -> -0.38037164
A16: Secretary of State for Defence | B16: John Healey | C16: ='ENGLAND GE2029'!A516 -> Rawmarsh and Conisbrough | D16: ='ENGLAND GE2029'!B516 -> SYK | E16: ='ENGLAND GE2029'!C516 -> YH | F16: ='ENGLAND GE2029'!D516 -> England | G16: ='ENGLAND GE2029'!AP516 -> Ref | H16: ='ENGLAND GE2029'!AQ516 -> gain from | I16: ='ENGLAND GE2029'!AR516 -> LAB | J16: =IF(G16='ENGLAND GE2029'!AO516,"",G16) -> Ref | K16: ='ENGLAND GE2029'!E516 -> 0.23237792 | L16: ='ENGLAND GE2029'!P516*100 -> -25.759377 | M16: ='ENGLAND GE2029'!F516 -> 0.08944146 | N16: ='ENGLAND GE2029'!Q516*100 -> -4.3168261 | O16: ='ENGLAND GE2029'!G516 -> 0.47458667 | P16: ='ENGLAND GE2029'!R516*100 -> 18.836676 | Q16: ='ENGLAND GE2029'!H516 -> 0.028140996 | R16: ='ENGLAND GE2029'!S516*100 -> -0.53948704 | S16: ='ENGLAND GE2029'!I516 -> 0.10995018 | T16: ='ENGLAND GE2029'!T516*100 -> 6.0192041 | V16: 0 | W16: =MAX(AB16,AD16,AF16) -> 0.0062739491 | X16: =IF(AB16=W16,AC16,IF(AD16=W16,AE16,IF(AF16=W16,AG16,"="))) -> -0.16307229 | AB16: ='ENGLAND GE2029'!J516 -> 0 | AC16: ='ENGLAND GE2029'!U516*100 -> 0 | AD16: ='ENGLAND GE2029'!K516 -> 0.0062739491 | AE16: ='ENGLAND GE2029'!V516*100 -> -0.16307229 | AF16: ='ENGLAND GE2029'!N516 -> 0 | AG16: ='ENGLAND GE2029'!Y516*100 -> 0 | AH16: =MAX(K16,M16,O16,Q16,S16,U16,AF16,AB16,AD16) -> 0.47458667 | AI16: =S16-AH16 -> -0.36463649
A17: Chair of the Labour Party | B17: Anna Turley | C17: ='ENGLAND GE2029'!A189 -> Redcar | D17: ='ENGLAND GE2029'!B189 -> CLV | E17: ='ENGLAND GE2029'!C189 -> NE | F17: ='ENGLAND GE2029'!D189 -> England | G17: ='ENGLAND GE2029'!AP189 -> Ref | H17: ='ENGLAND GE2029'!AQ189 -> gain from | I17: ='ENGLAND GE2029'!AR189 -> LAB | J17: =IF(G17='ENGLAND GE2029'!AO189,"",G17) -> Ref | K17: ='ENGLAND GE2029'!E189 -> 0.22786755 | L17: ='ENGLAND GE2029'!P189*100 -> -18.300835 | M17: ='ENGLAND GE2029'!F189 -> 0.25476885 | N17: ='ENGLAND GE2029'!Q189*100 -> -6.8255207 | O17: ='ENGLAND GE2029'!G189 -> 0.34037054 | P17: ='ENGLAND GE2029'!R189*100 -> 15.107855 | Q17: ='ENGLAND GE2029'!H189 -> 0.039691541 | R17: ='ENGLAND GE2029'!S189*100 -> -0.075860436 | S17: ='ENGLAND GE2029'!I189 -> 0.094951618 | T17: ='ENGLAND GE2029'!T189*100 -> 6.3026957 | V17: 0 | W17: =MAX(AB17,AD17,AF17) -> 0.0034158454 | X17: =IF(AB17=W17,AC17,IF(AD17=W17,AE17,IF(AF17=W17,AG17,"="))) -> -0.10174066 | AB17: ='ENGLAND GE2029'!J189 -> 0 | AC17: ='ENGLAND GE2029'!U189*100 -> 0 | AD17: ='ENGLAND GE2029'!K189 -> 0 | AE17: ='ENGLAND GE2029'!V189*100 -> 0 | AF17: ='ENGLAND GE2029'!N189 -> 0.0034158454 | AG17: ='ENGLAND GE2029'!Y189*100 -> -0.10174066 | AH17: =MAX(K17,M17,O17,Q17,S17,U17,AF17,AB17,AD17) -> 0.34037054 | AI17: =S17-AH17 -> -0.24541892
A18: Parliamentary Secretary to the Treasury (Chief Whip) | B18: Jonathan Reynolds | C18: ='ENGLAND GE2029'!A250 -> Stalybridge and Hyde | D18: ='ENGLAND GE2029'!B250 -> GTM | E18: ='ENGLAND GE2029'!C250 -> NW | F18: ='ENGLAND GE2029'!D250 -> England | G18: ='ENGLAND GE2029'!AP250 -> Ref | H18: ='ENGLAND GE2029'!AQ250 -> gain from | I18: ='ENGLAND GE2029'!AR250 -> LAB | J18: =IF(G18='ENGLAND GE2029'!AO250,"",G18) -> Ref | K18: ='ENGLAND GE2029'!E250 -> 0.21486823 | L18: ='ENGLAND GE2029'!P250*100 -> -22.338199 | M18: ='ENGLAND GE2029'!F250 -> 0.12866927 | N18: ='ENGLAND GE2029'!Q250*100 -> -5.5868443 | O18: ='ENGLAND GE2029'!G250 -> 0.36762919 | P18: ='ENGLAND GE2029'!R250*100 -> 15.868158 | Q18: ='ENGLAND GE2029'!H250 -> 0.025158333 | R18: ='ENGLAND GE2029'!S250*100 -> -0.38435197 | S18: ='ENGLAND GE2029'!I250 -> 0.18148534 | T18: ='ENGLAND GE2029'!T250*100 -> 10.777229 | V18: 0 | W18: =MAX(AB18,AD18,AF18) -> 0.017903949 | X18: =IF(AB18=W18,AC18,IF(AD18=W18,AE18,IF(AF18=W18,AG18,"="))) -> -1.4696282 | AB18: ='ENGLAND GE2029'!J250 -> 0.017903949 | AC18: ='ENGLAND GE2029'!U250*100 -> -1.4696282 | AD18: ='ENGLAND GE2029'!K250 -> 0.013675015 | AE18: ='ENGLAND GE2029'!V250*100 -> -1.9274313 | AF18: ='ENGLAND GE2029'!N250 -> 0 | AG18: ='ENGLAND GE2029'!Y250*100 -> 0 | AH18: =MAX(K18,M18,O18,Q18,S18,U18,AF18,AB18,AD18) -> 0.36762919 | AI18: =S18-AH18 -> -0.18614385
A19: Secretary of State for Housing, Communities and Local Government | B19: Steve Reed | C19: ='ENGLAND GE2029'!A176 -> Streatham and Croydon North | D19: ='ENGLAND GE2029'!B176 -> LND | E19: ='ENGLAND GE2029'!C176 -> London | F19: ='ENGLAND GE2029'!D176 -> England | G19: ='ENGLAND GE2029'!AP176 -> Grn | H19: ='ENGLAND GE2029'!AQ176 -> gain from | I19: ='ENGLAND GE2029'!AR176 -> LAB | J19: =IF(G19='ENGLAND GE2029'!AO176,"",G19) -> Grn | K19: ='ENGLAND GE2029'!E176 -> 0.27283935 | L19: ='ENGLAND GE2029'!P176*100 -> -24.860702 | M19: ='ENGLAND GE2029'!F176 -> 0.088986529 | N19: ='ENGLAND GE2029'!Q176*100 -> -3.0601377 | O19: ='ENGLAND GE2029'!G176 -> 0.12061487 | P19: ='ENGLAND GE2029'!R176*100 -> 7.5859186 | Q19: ='ENGLAND GE2029'!H176 -> 0.10453959 | R19: ='ENGLAND GE2029'!S176*100 -> -0.83821008 | S19: ='ENGLAND GE2029'!I176 -> 0.366947 | T19: ='ENGLAND GE2029'!T176*100 -> 19.571274 | V19: 0 | W19: =MAX(AB19,AD19,AF19) -> 0.014220471 | X19: =IF(AB19=W19,AC19,IF(AD19=W19,AE19,IF(AF19=W19,AG19,"="))) -> -0.62046406 | AB19: ='ENGLAND GE2029'!J176 -> 0 | AC19: ='ENGLAND GE2029'!U176*100 -> 0 | AD19: ='ENGLAND GE2029'!K176 -> 0.014220471 | AE19: ='ENGLAND GE2029'!V176*100 -> -0.62046406 | AF19: ='ENGLAND GE2029'!N176 -> 0.005813014 | AG19: ='ENGLAND GE2029'!Y176*100 -> -0.38159672 | AH19: =MAX(K19,M19,O19,Q19,S19,U19,AF19,AB19,AD19) -> 0.366947 | AI19: =S19-AH19 -> 0
A20: Secretary of State for Transport | B20: Heidi Alexander | C20: ='ENGLAND GE2029'!A434 -> Swindon South | D20: ='ENGLAND GE2029'!B434 -> WIL | E20: ='ENGLAND GE2029'!C434 -> SW | F20: ='ENGLAND GE2029'!D434 -> England | G20: ='ENGLAND GE2029'!AP434 -> Lab | H20: ='ENGLAND GE2029'!AQ434 -> HOLD | I20: ='ENGLAND GE2029'!AR434 | J20: =IF(G20='ENGLAND GE2029'!AO434,"",G20) | K20: ='ENGLAND GE2029'!E434 -> 0.28493789 | L20: ='ENGLAND GE2029'!P434*100 -> -19.896621 | M20: ='ENGLAND GE2029'!F434 -> 0.22564098 | N20: ='ENGLAND GE2029'!Q434*100 -> -4.3814751 | O20: ='ENGLAND GE2029'!G434 -> 0.27178135 | P20: ='ENGLAND GE2029'!R434*100 -> 13.35039 | Q20: ='ENGLAND GE2029'!H434 -> 0.042864963 | R20: ='ENGLAND GE2029'!S434*100 -> 0.17210601 | S20: ='ENGLAND GE2029'!I434 -> 0.13291906 | T20: ='ENGLAND GE2029'!T434*100 -> 7.6237366 | V20: 0 | W20: =MAX(AB20,AD20,AF20) -> 0.008325874 | X20: =IF(AB20=W20,AC20,IF(AD20=W20,AE20,IF(AF20=W20,AG20,"="))) -> -0.22112515 | AB20: ='ENGLAND GE2029'!J434 -> 0.008325874 | AC20: ='ENGLAND GE2029'!U434*100 -> -0.22112515 | AD20: ='ENGLAND GE2029'!K434 -> 0 | AE20: ='ENGLAND GE2029'!V434*100 -> 0 | AF20: ='ENGLAND GE2029'!N434 -> 0 | AG20: ='ENGLAND GE2029'!Y434*100 -> 0 | AH20: =MAX(K20,M20,O20,Q20,S20,U20,AF20,AB20,AD20) -> 0.28493789 | AI20: =S20-AH20 -> -0.15201882
A21: Paymaster General | B21: Nick Thomas-Symonds | C21: ='WALES GE2029'!A31 -> Torfaen | D21: ='WALES GE2029'!#REF! -> #REF! | E21: ='WALES GE2029'!#REF! -> #REF! | F21: ='WALES GE2029'!#REF! -> #REF! | G21: ='WALES GE2029'!AL31 -> Ref | H21: ='WALES GE2029'!AM31 -> gain from | I21: ='WALES GE2029'!AN31 -> LAB | J21: =IF(G21='WALES GE2029'!AK31,"",G21) -> Ref | K21: ='WALES GE2029'!B31 -> 0.17625161 | L21: ='WALES GE2029'!L31*100 -> -24.87869 | M21: ='WALES GE2029'!C31 -> 0.11681676 | N21: ='WALES GE2029'!M31*100 -> -4.3861014 | O21: ='WALES GE2029'!D31 -> 0.36478419 | P21: ='WALES GE2029'!N31*100 -> 14.4815 | Q21: ='WALES GE2029'!E31 -> 0.044309576 | R21: ='WALES GE2029'!O31*100 -> -0.17343956 | S21: ='WALES GE2029'!F31 -> 0.14767659 | T21: ='WALES GE2029'!P31*100 -> 9.9924172 | U21: ='WALES GE2029'!I31 -> 0.11686688 | V21: ='WALES GE2029'!S31*100 -> 4.4860154 | W21: =MAX(AB21,AD21,AF21) -> 0.028516381 | X21: =IF(AB21=W21,AC21,IF(AD21=W21,AE21,IF(AF21=W21,AG21,"="))) -> 0.3841966 | AB21: ='WALES GE2029'!G31 -> 0.028516381 | AC21: ='WALES GE2029'!Q31*100 -> 0.3841966 | AD21: ='WALES GE2029'!H31 -> 0 | AE21: ='WALES GE2029'!R31*100 -> 0 | AF21: ='WALES GE2029'!J31 -> 0.0047780124 | AG21: ='WALES GE2029'!T31*100 -> 0.094101479 | AH21: =MAX(K21,M21,O21,Q21,S21,U21,AF21,AB21,AD21) -> 0.36478419 | AI21: =S21-AH21 -> -0.2171076
A22: Secretary of State for Justice / Deputy PM | B22: David Lammy | C22: ='ENGLAND GE2029'!A179 -> Tottenham | D22: ='ENGLAND GE2029'!B179 -> LND | E22: ='ENGLAND GE2029'!C179 -> London | F22: ='ENGLAND GE2029'!D179 -> England | G22: ='ENGLAND GE2029'!AP179 -> Grn | H22: ='ENGLAND GE2029'!AQ179 -> gain from | I22: ='ENGLAND GE2029'!AR179 -> LAB | J22: =IF(G22='ENGLAND GE2029'!AO179,"",G22) -> Grn | K22: ='ENGLAND GE2029'!E179 -> 0.3121022 | L22: ='ENGLAND GE2029'!P179*100 -> -26.242206 | M22: ='ENGLAND GE2029'!F179 -> 0.044642877 | N22: ='ENGLAND GE2029'!Q179*100 -> -1.3143314 | O22: ='ENGLAND GE2029'!G179 -> 0.11164579 | P22: ='ENGLAND GE2029'!R179*100 -> 7.1743428 | Q22: ='ENGLAND GE2029'!H179 -> 0.046157006 | R22: ='ENGLAND GE2029'!S179*100 -> -0.18653112 | S22: ='ENGLAND GE2029'!I179 -> 0.42293948 | T22: ='ENGLAND GE2029'!T179*100 -> 23.284284 | V22: 0 | W22: =MAX(AB22,AD22,AF22) -> 0.031870802 | X22: =IF(AB22=W22,AC22,IF(AD22=W22,AE22,IF(AF22=W22,AG22,"="))) -> -2.6612809 | AB22: ='ENGLAND GE2029'!J179 -> 0.031870802 | AC22: ='ENGLAND GE2029'!U179*100 -> -2.6612809 | AD22: ='ENGLAND GE2029'!K179 -> 0 | AE22: ='ENGLAND GE2029'!V179*100 -> -1.6414267 | AF22: ='ENGLAND GE2029'!N179 -> 0.0035493867 | AG22: ='ENGLAND GE2029'!Y179*100 -> -1.1220963 | AH22: =MAX(K22,M22,O22,Q22,S22,U22,AF22,AB22,AD22) -> 0.42293948 | AI22: =S22-AH22 -> 0
A23: Leader of the House of Commons | B23: Sir Alan Campbell | C23: ='ENGLAND GE2029'!A211 -> Tynemouth | D23: ='ENGLAND GE2029'!B211 -> TWR | E23: ='ENGLAND GE2029'!C211 -> NE | F23: ='ENGLAND GE2029'!D211 -> England | G23: ='ENGLAND GE2029'!AP211 -> Lab | H23: ='ENGLAND GE2029'!AQ211 -> HOLD | I23: ='ENGLAND GE2029'!AR211 | J23: =IF(G23='ENGLAND GE2029'!AO211,"",G23) | K23: ='ENGLAND GE2029'!E211 -> 0.27375275 | L23: ='ENGLAND GE2029'!P211*100 -> -23.207153 | M23: ='ENGLAND GE2029'!F211 -> 0.1436375 | N23: ='ENGLAND GE2029'!Q211*100 -> -4.2987305 | O23: ='ENGLAND GE2029'!G211 -> 0.2678933 | P23: ='ENGLAND GE2029'!R211*100 -> 11.522281 | Q23: ='ENGLAND GE2029'!H211 -> 0.0535756 | R23: ='ENGLAND GE2029'!S211*100 -> -0.23746659 | S23: ='ENGLAND GE2029'!I211 -> 0.21532407 | T23: ='ENGLAND GE2029'!T211*100 -> 14.113678 | V23: 0 | W23: =MAX(AB23,AD23,AF23) -> 0.0072879723 | X23: =IF(AB23=W23,AC23,IF(AD23=W23,AE23,IF(AF23=W23,AG23,"="))) -> -0.64878962 | AB23: ='ENGLAND GE2029'!J211 -> 0.0048077882 | AC23: ='ENGLAND GE2029'!U211*100 -> -0.61592076 | AD23: ='ENGLAND GE2029'!K211 -> 0 | AE23: ='ENGLAND GE2029'!V211*100 -> 0 | AF23: ='ENGLAND GE2029'!N211 -> 0.0072879723 | AG23: ='ENGLAND GE2029'!Y211*100 -> -0.64878962 | AH23: =MAX(K23,M23,O23,Q23,S23,U23,AF23,AB23,AD23) -> 0.27375275 | AI23: =S23-AH23 -> -0.058428689
A24: Secretary of State for Culture, Media and Sport | B24: Lisa Nandy | C24: ='ENGLAND GE2029'!A253 -> Wigan | D24: ='ENGLAND GE2029'!B253 -> GTM | E24: ='ENGLAND GE2029'!C253 -> NW | F24: ='ENGLAND GE2029'!D253 -> England | G24: ='ENGLAND GE2029'!AP253 -> Ref | H24: ='ENGLAND GE2029'!AQ253 -> gain from | I24: ='ENGLAND GE2029'!AR253 -> LAB | J24: =IF(G24='ENGLAND GE2029'!AO253,"",G24) -> Ref | K24: ='ENGLAND GE2029'!E253 -> 0.23668302 | L24: ='ENGLAND GE2029'!P253*100 -> -23.768066 | M24: ='ENGLAND GE2029'!F253 -> 0.074775599 | N24: ='ENGLAND GE2029'!Q253*100 -> -3.060595 | O24: ='ENGLAND GE2029'!G253 -> 0.43131038 | P24: ='ENGLAND GE2029'!R253*100 -> 19.042429 | Q24: ='ENGLAND GE2029'!H253 -> 0.036521567 | R24: ='ENGLAND GE2029'!S253*100 -> -0.48486374 | S24: ='ENGLAND GE2029'!I253 -> 0.099795559 | T24: ='ENGLAND GE2029'!T253*100 -> 5.9965734 | V24: 0 | W24: =MAX(AB24,AD24,AF24) -> 0.062762354 | X24: =IF(AB24=W24,AC24,IF(AD24=W24,AE24,IF(AF24=W24,AG24,"="))) -> -2.3352221 | AB24: ='ENGLAND GE2029'!J253 -> 0.062762354 | AC24: ='ENGLAND GE2029'!U253*100 -> -2.3352221 | AD24: ='ENGLAND GE2029'!K253 -> 0 | AE24: ='ENGLAND GE2029'!V253*100 -> 0 | AF24: ='ENGLAND GE2029'!N253 -> 0 | AG24: ='ENGLAND GE2029'!Y253*100 -> -1.2054084 | AH24: =MAX(K24,M24,O24,Q24,S24,U24,AF24,AB24,AD24) -> 0.43131038 | AI24: =S24-AH24 -> -0.33151482
A25: Secretary of State for Work and Pensions | B25: Pat McFadden | C25: ='ENGLAND GE2029'!A484 -> Wolverhampton South East | D25: ='ENGLAND GE2029'!B484 -> WMD | E25: ='ENGLAND GE2029'!C484 -> WM | F25: ='ENGLAND GE2029'!D484 -> England | G25: ='ENGLAND GE2029'!AP484 -> Ref | H25: ='ENGLAND GE2029'!AQ484 -> gain from | I25: ='ENGLAND GE2029'!AR484 -> LAB | J25: =IF(G25='ENGLAND GE2029'!AO484,"",G25) -> Ref | K25: ='ENGLAND GE2029'!E484 -> 0.2651918 | L25: ='ENGLAND GE2029'!P484*100 -> -23.823933 | M25: ='ENGLAND GE2029'!F484 -> 0.12692473 | N25: ='ENGLAND GE2029'!Q484*100 -> -4.2503814 | O25: ='ENGLAND GE2029'!G484 -> 0.39372479 | P25: ='ENGLAND GE2029'!R484*100 -> 16.562255 | Q25: ='ENGLAND GE2029'!H484 -> 0.021170254 | R25: ='ENGLAND GE2029'!S484*100 -> -0.15440787 | S25: ='ENGLAND GE2029'!I484 -> 0.12516458 | T25: ='ENGLAND GE2029'!T484*100 -> 7.6259843 | V25: 0 | W25: =MAX(AB25,AD25,AF25) -> 0.021037578 | X25: =IF(AB25=W25,AC25,IF(AD25=W25,AE25,IF(AF25=W25,AG25,"="))) -> -0.6381438 | AB25: ='ENGLAND GE2029'!J484 -> 0 | AC25: ='ENGLAND GE2029'!U484*100 -> 0 | AD25: ='ENGLAND GE2029'!K484 -> 0.021037578 | AE25: ='ENGLAND GE2029'!V484*100 -> -0.6381438 | AF25: ='ENGLAND GE2029'!N484 -> 0 | AG25: ='ENGLAND GE2029'!Y484*100 -> 0 | AH25: =MAX(K25,M25,O25,Q25,S25,U25,AF25,AB25,AD25) -> 0.39372479 | AI25: =S25-AH25 -> -0.26856021
A26: Secretary of State for Environment, Food and Rural Affairs | B26: Emma Reynolds | C26: ='ENGLAND GE2029'!A293 -> Wycombe | D26: ='ENGLAND GE2029'!B293 -> BKM | E26: ='ENGLAND GE2029'!C293 -> SE | F26: ='ENGLAND GE2029'!D293 -> England | G26: ='ENGLAND GE2029'!AP293 -> Con | H26: ='ENGLAND GE2029'!AQ293 -> gain from | I26: ='ENGLAND GE2029'!AR293 -> LAB | J26: =IF(G26='ENGLAND GE2029'!AO293,"",G26) -> Con | K26: ='ENGLAND GE2029'!E293 -> 0.21735073 | L26: ='ENGLAND GE2029'!P293*100 -> -14.18804 | M26: ='ENGLAND GE2029'!F293 -> 0.2206021 | N26: ='ENGLAND GE2029'!Q293*100 -> -3.5777139 | O26: ='ENGLAND GE2029'!G293 -> 0.21825537 | P26: ='ENGLAND GE2029'!R293*100 -> 11.141575 | Q26: ='ENGLAND GE2029'!H293 -> 0.10159075 | R26: ='ENGLAND GE2029'!S293*100 -> 0.66918967 | S26: ='ENGLAND GE2029'!I293 -> 0.12600436 | T26: ='ENGLAND GE2029'!T293*100 -> 7.6874711 | V26: 0 | W26: =MAX(AB26,AD26,AF26) -> 0.06942611 | X26: =IF(AB26=W26,AC26,IF(AD26=W26,AE26,IF(AF26=W26,AG26,"="))) -> -0.54893189 | AB26: ='ENGLAND GE2029'!J293 -> 0.014705442 | AC26: ='ENGLAND GE2029'!U293*100 -> -2.8151381 | AD26: ='ENGLAND GE2029'!K293 -> 0.06942611 | AE26: ='ENGLAND GE2029'!V293*100 -> -0.54893189 | AF26: ='ENGLAND GE2029'!N293 -> 0 | AG26: ='ENGLAND GE2029'!Y293*100 -> -1.5749266 | AH26: =MAX(K26,M26,O26,Q26,S26,U26,AF26,AB26,AD26) -> 0.2206021 | AI26: =S26-AH26 -> -0.094597741

Sheet Scotland Polls
B1: Current month:
B2: 46112
B3: Regional polling of Scotland | R3: Calculating weightings
B4: Pollster | C4: Null | D4: Date | E4: Month | F4: Latest | G4: Days elapsed | H4: Date Weight | I4: Final weight | J4: LAB | K4: SNP | L4: CON | M4: LD | N4: REF | O4: GRN | P4: OTH | R4: LAB | S4: SNP | T4: CON | U4: LD | V4: REF | W4: GRN | X4: OTH | Y4: TOTAL
B5: Norstat | C5: =IF(G5>184,"Null",B5) -> Norstat | D5: 46112 | E5: =TEXT(D5*1,"mmm-yy") -> Mar-26 | F5: =IF(ISNUMBER(MATCH(C5, $C$3:C4, 0)), "Old", "Latest") -> Latest | G5: =IF(($B$2-D5)<0,"0",($B$2-D5)) -> 0 | H5: =IF(F5="Latest",(100%-(G5*0.5%)),0) -> 1 | I5: =H5 -> 1 | J5: 0.18 | K5: 0.32 | L5: 0.11 | M5: 0.1 | N5: 0.16 | O5: 0.09 | P5: =100%-O5-N5-M5-L5-K5-J5 -> 0.04 | Q5: =100%-O5-N5-M5-L5-K5-J5 -> 0.04 | R5: =J5*$I5 -> 0.18 | S5: =K5*$I5 -> 0.32 | T5: =L5*$I5 -> 0.11 | U5: =M5*$I5 -> 0.1 | V5: =N5*$I5 -> 0.16 | W5: =O5*$I5 -> 0.09 | X5: =P5*$I5 -> 0.04 | Y5: =SUM(R5:X5) -> 1
B6: Ipsos | C6: =IF(G6>184,"Null",B6) -> Ipsos | D6: 46112 | E6: =TEXT(D6*1,"mmm-yy") -> Mar-26 | F6: =IF(ISNUMBER(MATCH(C6, $C$3:C4, 0)), "Old", "Latest") -> Latest | G6: =IF(($B$2-D6)<0,"0",($B$2-D6)) -> 0 | H6: =IF(F6="Latest",(100%-(G6*0.5%)),0) -> 1 | I6: =H6 -> 1 | J6: 0.16 | K6: 0.37 | L6: 0.11 | M6: 0.09 | N6: 0.16 | O6: 0.09 | P6: =100%-O6-N6-M6-L6-K6-J6 -> 0.02 | Q6: =100%-O6-N6-M6-L6-K6-J6 -> 0.02 | R6: =J6*$I6 -> 0.16 | S6: =K6*$I6 -> 0.37 | T6: =L6*$I6 -> 0.11 | U6: =M6*$I6 -> 0.09 | V6: =N6*$I6 -> 0.16 | W6: =O6*$I6 -> 0.09 | X6: =P6*$I6 -> 0.02 | Y6: =SUM(R6:X6) -> 1
B7: Lord Ashcroft | C7: =IF(G7>184,"Null",B7) -> Lord Ashcroft | D7: 46083 | E7: =TEXT(D7*1,"mmm-yy") -> Mar-26 | F7: =IF(ISNUMBER(MATCH(C7, $C$3:C4, 0)), "Old", "Latest") -> Latest | G7: =IF(($B$2-D7)<0,"0",($B$2-D7)) -> 29 | H7: =IF(F7="Latest",(100%-(G7*0.5%)),0) -> 0.855 | I7: =H7 -> 0.855 | J7: 0.13 | K7: 0.36 | L7: 0.1 | M7: 0.08 | N7: 0.16 | O7: 0.12 | P7: =100%-O7-N7-M7-L7-K7-J7 -> 0.05 | Q7: =100%-O7-N7-M7-L7-K7-J7 -> 0.05 | R7: =J7*$I7 -> 0.11115 | S7: =K7*$I7 -> 0.3078 | T7: =L7*$I7 -> 0.0855 | U7: =M7*$I7 -> 0.0684 | V7: =N7*$I7 -> 0.1368 | W7: =O7*$I7 -> 0.1026 | X7: =P7*$I7 -> 0.04275 | Y7: =SUM(R7:X7) -> 0.855
B8: Ipsos | C8: =IF(G8>184,"Null",B8) -> Ipsos | D8: 46079 | E8: =TEXT(D8*1,"mmm-yy") -> Feb-26 | F8: =IF(ISNUMBER(MATCH(C8, $C$3:C7, 0)), "Old", "Latest") -> Old | G8: =IF(($B$2-D8)<0,"0",($B$2-D8)) -> 33 | H8: =IF(F8="Latest",(100%-(G8*0.5%)),0) -> 0 | I8: =H8 -> 0 | J8: 0.21 | K8: 0.33 | L8: 0.1 | M8: 0.1 | N8: 0.17 | O8: 0.08 | P8: =100%-O8-N8-M8-L8-K8-J8 -> 0.01 | Q8: =100%-O8-N8-M8-L8-K8-J8 -> 0.01 | R8: =J8*$I8 -> 0 | S8: =K8*$I8 -> 0 | T8: =L8*$I8 -> 0 | U8: =M8*$I8 -> 0 | V8: =N8*$I8 -> 0 | W8: =O8*$I8 -> 0 | X8: =P8*$I8 -> 0 | Y8: =SUM(R8:X8) -> 0
B9: FindOutNow | C9: =IF(G9>184,"Null",B9) -> FindOutNow | D9: 46072 | E9: =TEXT(D9*1,"mmm-yy") -> Feb-26 | F9: =IF(ISNUMBER(MATCH(C9, $C$3:C8, 0)), "Old", "Latest") -> Latest | G9: =IF(($B$2-D9)<0,"0",($B$2-D9)) -> 40 | H9: =IF(F9="Latest",(100%-(G9*0.5%)),0) -> 0.8 | I9: =H9 -> 0.8 | J9: 0.14 | K9: 0.31 | L9: 0.08 | M9: 0.1 | N9: 0.23 | O9: 0.1 | P9: =100%-O9-N9-M9-L9-K9-J9 -> 0.04 | Q9: =100%-O9-N9-M9-L9-K9-J9 -> 0.04 | R9: =J9*$I9 -> 0.112 | S9: =K9*$I9 -> 0.248 | T9: =L9*$I9 -> 0.064 | U9: =M9*$I9 -> 0.08 | V9: =N9*$I9 -> 0.184 | W9: =O9*$I9 -> 0.08 | X9: =P9*$I9 -> 0.032 | Y9: =SUM(R9:X9) -> 0.8
B10: YouGov | C10: =IF(G10>184,"Null",B10) -> YouGov | D10: 46071 | E10: =TEXT(D10*1,"mmm-yy") -> Feb-26 | F10: =IF(ISNUMBER(MATCH(C10, $C$3:C9, 0)), "Old", "Latest") -> Latest | G10: =IF(($B$2-D10)<0,"0",($B$2-D10)) -> 41 | H10: =IF(F10="Latest",(100%-(G10*0.5%)),0) -> 0.795 | I10: =H10 -> 0.795 | J10: 0.14 | K10: 0.32 | L10: 0.11 | M10: 0.09 | N10: 0.21 | O10: 0.11 | P10: =100%-O10-N10-M10-L10-K10-J10 -> 0.02 | Q10: =100%-O10-N10-M10-L10-K10-J10 -> 0.02 | R10: =J10*$I10 -> 0.1113 | S10: =K10*$I10 -> 0.2544 | T10: =L10*$I10 -> 0.08745 | U10: =M10*$I10 -> 0.07155 | V10: =N10*$I10 -> 0.16695 | W10: =O10*$I10 -> 0.08745 | X10: =P10*$I10 -> 0.0159 | Y10: =SUM(R10:X10) -> 0.795
B11: Norstat | C11: =IF(G11>184,"Null",B11) -> Norstat | D11: 46066 | E11: =TEXT(D11*1,"mmm-yy") -> Feb-26 | F11: =IF(ISNUMBER(MATCH(C11, $C$3:C10, 0)), "Old", "Latest") -> Old | G11: =IF(($B$2-D11)<0,"0",($B$2-D11)) -> 46 | H11: =IF(F11="Latest",(100%-(G11*0.5%)),0) -> 0 | I11: =H11 -> 0 | J11: 0.17 | K11: 0.32 | L11: 0.11 | M11: 0.07 | N11: 0.23 | O11: 0.08 | P11: =100%-O11-N11-M11-L11-K11-J11 -> 0.02 | Q11: =100%-O11-N11-M11-L11-K11-J11 -> 0.02 | R11: =J11*$I11 -> 0 | S11: =K11*$I11 -> 0 | T11: =L11*$I11 -> 0 | U11: =M11*$I11 -> 0 | V11: =N11*$I11 -> 0 | W11: =O11*$I11 -> 0 | X11: =P11*$I11 -> 0 | Y11: =SUM(R11:X11) -> 0
B12: More in Common | C12: =IF(G12>184,"Null",B12) -> More in Common | D12: 46054 | E12: =TEXT(D12*1,"mmm-yy") -> Feb-26 | F12: =IF(ISNUMBER(MATCH(C12, $C$3:C11, 0)), "Old", "Latest") -> Latest | G12: =IF(($B$2-D12)<0,"0",($B$2-D12)) -> 58 | H12: =IF(F12="Latest",(100%-(G12*0.5%)),0) -> 0.71 | I12: =H12 -> 0.71 | J12: 0.2 | K12: 0.28 | L12: 0.11 | M12: 0.12 | N12: 0.23 | O12: 0.06 | P12: =100%-O12-N12-M12-L12-K12-J12 -> 0 | Q12: =100%-O12-N12-M12-L12-K12-J12 -> 0 | R12: =J12*$I12 -> 0.142 | S12: =K12*$I12 -> 0.1988 | T12: =L12*$I12 -> 0.0781 | U12: =M12*$I12 -> 0.0852 | V12: =N12*$I12 -> 0.1633 | W12: =O12*$I12 -> 0.0426 | X12: =P12*$I12 -> 0 | Y12: =SUM(R12:X12) -> 0.71
B13: Norstat | C13: =IF(G13>184,"Null",B13) -> Norstat | D13: 46038 | E13: =TEXT(D13*1,"mmm-yy") -> Jan-26 | F13: =IF(ISNUMBER(MATCH(C13, $C$3:C12, 0)), "Old", "Latest") -> Old | G13: =IF(($B$2-D13)<0,"0",($B$2-D13)) -> 74 | H13: =IF(F13="Latest",(100%-(G13*0.5%)),0) -> 0 | I13: =H13 -> 0 | J13: 0.17 | K13: 0.32 | L13: 0.11 | M13: 0.09 | N13: 0.21 | O13: 0.07 | P13: =100%-O13-N13-M13-L13-K13-J13 -> 0.03 | Q13: =100%-O13-N13-M13-L13-K13-J13 -> 0.03 | R13: =J13*$I13 -> 0 | S13: =K13*$I13 -> 0 | T13: =L13*$I13 -> 0 | U13: =M13*$I13 -> 0 | V13: =N13*$I13 -> 0 | W13: =O13*$I13 -> 0 | X13: =P13*$I13 -> 0 | Y13: =SUM(R13:X13) -> 0
B14: Survation | C14: =IF(G14>184,"Null",B14) -> Survation | D14: 46034 | E14: =TEXT(D14*1,"mmm-yy") -> Jan-26 | F14: =IF(ISNUMBER(MATCH(C14, $C$3:C13, 0)), "Old", "Latest") -> Latest | G14: =IF(($B$2-D14)<0,"0",($B$2-D14)) -> 78 | H14: =IF(F14="Latest",(100%-(G14*0.5%)),0) -> 0.61 | I14: =H14 -> 0.61 | J14: 0.17 | K14: 0.31 | L14: 0.12 | M14: 0.09 | N14: 0.21 | O14: 0.08 | P14: =100%-O14-N14-M14-L14-K14-J14 -> 0.02 | Q14: =100%-O14-N14-M14-L14-K14-J14 -> 0.02 | R14: =J14*$I14 -> 0.1037 | S14: =K14*$I14 -> 0.1891 | T14: =L14*$I14 -> 0.0732 | U14: =M14*$I14 -> 0.0549 | V14: =N14*$I14 -> 0.1281 | W14: =O14*$I14 -> 0.0488 | X14: =P14*$I14 -> 0.0122 | Y14: =SUM(R14:X14) -> 0.61
B15: FindOutNow | C15: =IF(G15>184,"Null",B15) -> FindOutNow | D15: 46010 | E15: =TEXT(D15*1,"mmm-yy") -> Dec-25 | F15: =IF(ISNUMBER(MATCH(C15, $C$3:C14, 0)), "Old", "Latest") -> Old | G15: =IF(($B$2-D15)<0,"0",($B$2-D15)) -> 102 | H15: =IF(F15="Latest",(100%-(G15*0.5%)),0) -> 0 | I15: =H15 -> 0 | J15: 0.13 | K15: 0.32 | L15: 0.1 | M15: 0.08 | N15: 0.24 | O15: 0.1 | P15: =100%-O15-N15-M15-L15-K15-J15 -> 0.03 | Q15: =100%-O15-N15-M15-L15-K15-J15 -> 0.03 | R15: =J15*$I15 -> 0 | S15: =K15*$I15 -> 0 | T15: =L15*$I15 -> 0 | U15: =M15*$I15 -> 0 | V15: =N15*$I15 -> 0 | W15: =O15*$I15 -> 0 | X15: =P15*$I15 -> 0 | Y15: =SUM(R15:X15) -> 0
B16: Ipsos | C16: =IF(G16>184,"Null",B16) -> Ipsos | D16: 45994 | E16: =TEXT(D16*1,"mmm-yy") -> Dec-25 | F16: =IF(ISNUMBER(MATCH(C16, $C$3:C15, 0)), "Old", "Latest") -> Old | G16: =IF(($B$2-D16)<0,"0",($B$2-D16)) -> 118 | H16: =IF(F16="Latest",(100%-(G16*0.5%)),0) -> 0 | I16: =H16 -> 0 | J16: 0.17 | K16: 0.33 | L16: 0.11 | M16: 0.08 | N16: 0.2 | O16: 0.11 | P16: =100%-O16-N16-M16-L16-K16-J16 -> 0 | Q16: =100%-O16-N16-M16-L16-K16-J16 -> 0 | R16: =J16*$I16 -> 0 | S16: =K16*$I16 -> 0 | T16: =L16*$I16 -> 0 | U16: =M16*$I16 -> 0 | V16: =N16*$I16 -> 0 | W16: =O16*$I16 -> 0 | X16: =P16*$I16 -> 0 | Y16: =SUM(R16:X16) -> 0
B17: Norstat | C17: =IF(G17>184,"Null",B17) -> Null | D17: 45925 | E17: =TEXT(D17*1,"mmm-yy") -> Sep-25 | F17: =IF(ISNUMBER(MATCH(C17, $C$3:C16, 0)), "Old", "Latest") -> Old | G17: =IF(($B$2-D17)<0,"0",($B$2-D17)) -> 187 | H17: =IF(F17="Latest",(100%-(G17*0.5%)),0) -> 0 | I17: =H17 -> 0 | J17: 0.18 | K17: 0.31 | L17: 0.11 | M17: 0.09 | N17: 0.23 | O17: 0.07 | P17: =100%-O17-N17-M17-L17-K17-J17 -> 0.01 | Q17: =100%-O17-N17-M17-L17-K17-J17 -> 0.01 | R17: =J17*$I17 -> 0 | S17: =K17*$I17 -> 0 | T17: =L17*$I17 -> 0 | U17: =M17*$I17 -> 0 | V17: =N17*$I17 -> 0 | W17: =O17*$I17 -> 0 | X17: =P17*$I17 -> 0 | Y17: =SUM(R17:X17) -> 0
B18: Find Out Now | C18: =IF(G18>184,"Null",B18) -> Null | D18: 45921 | E18: =TEXT(D18*1,"mmm-yy") -> Sep-25 | F18: =IF(ISNUMBER(MATCH(C18, $C$3:C17, 0)), "Old", "Latest") -> Old | G18: =IF(($B$2-D18)<0,"0",($B$2-D18)) -> 191 | H18: =IF(F18="Latest",(100%-(G18*0.5%)),0) -> 0 | I18: =H18 -> 0 | J18: 0.15 | K18: 0.3 | L18: 0.1 | M18: 0.09 | N18: 0.23 | O18: 0.06 | P18: =100%-O18-N18-M18-L18-K18-J18 -> 0.07 | Q18: =100%-O18-N18-M18-L18-K18-J18 -> 0.07 | R18: =J18*$I18 -> 0 | S18: =K18*$I18 -> 0 | T18: =L18*$I18 -> 0 | U18: =M18*$I18 -> 0 | V18: =N18*$I18 -> 0 | W18: =O18*$I18 -> 0 | X18: =P18*$I18 -> 0 | Y18: =SUM(R18:X18) -> 0
B19: Survation | C19: =IF(G19>184,"Null",B19) -> Null | D19: 45916 | E19: =TEXT(D19*1,"mmm-yy") -> Sep-25 | F19: =IF(ISNUMBER(MATCH(C19, $C$3:C18, 0)), "Old", "Latest") -> Old | G19: =IF(($B$2-D19)<0,"0",($B$2-D19)) -> 196 | H19: =IF(F19="Latest",(100%-(G19*0.5%)),0) -> 0 | I19: =H19 -> 0 | J19: 0.19 | K19: 0.35 | L19: 0.12 | M19: 0.08 | N19: 0.19 | O19: 0.04 | P19: =100%-O19-N19-M19-L19-K19-J19 -> 0.03 | Q19: =100%-O19-N19-M19-L19-K19-J19 -> 0.03 | R19: =J19*$I19 -> 0 | S19: =K19*$I19 -> 0 | T19: =L19*$I19 -> 0 | U19: =M19*$I19 -> 0 | V19: =N19*$I19 -> 0 | W19: =O19*$I19 -> 0 | X19: =P19*$I19 -> 0 | Y19: =SUM(R19:X19) -> 0
... B36: Norstat | C36: =IF(G36>184,"Null",B36) -> Null | D36: 45526 | E36: =TEXT(D36*1,"mmm-yy") -> Aug-24 | F36: =IF(ISNUMBER(MATCH(C36, $C$3:C35, 0)), "Old", "Latest") -> Old | G36: =IF(($B$2-D36)<0,"0",($B$2-D36)) -> 586 | H36: =IF(F36="Latest",(100%-(G36*0.5%)),0) -> 0 | I36: =H36 -> 0 | J36: 0.32 | K36: 0.29 | L36: 0.12 | M36: 0.08 | N36: 0.12 | O36: 0.05 | P36: =100%-O36-N36-M36-L36-K36-J36 -> 0.02 | Q36: =100%-O36-N36-M36-L36-K36-J36 -> 0.02 | R36: =J36*$I36 -> 0 | S36: =K36*$I36 -> 0 | T36: =L36*$I36 -> 0 | U36: =M36*$I36 -> 0 | V36: =N36*$I36 -> 0 | W36: =O36*$I36 -> 0 | X36: =P36*$I36 -> 0 | Y36: =SUM(R36:X36) -> 0
B37: GE2024 | C37: =IF(G37>184,"Null",B37) -> Null | D37: 45477 | E37: =TEXT(D37*1,"mmm-yy") -> Jul-24 | F37: =IF(ISNUMBER(MATCH(C37, $C$3:C36, 0)), "Old", "Latest") -> Old | G37: =IF(($B$2-D37)<0,"0",($B$2-D37)) -> 635 | H37: =IF(F37="Latest",(100%-(G37*0.5%)),0) -> 0 | I37: =H37 -> 0 | J37: 0.353 | K37: 0.3 | L37: 0.127 | M37: 0.097 | N37: 0.07 | O37: 0.038 | P37: 0.015 | R37: =J37*$I37 -> 0 | S37: =K37*$I37 -> 0 | T37: =L37*$I37 -> 0 | U37: =M37*$I37 -> 0 | V37: =N37*$I37 -> 0 | W37: =O37*$I37 -> 0 | X37: =P37*$I37 -> 0 | Y37: =SUM(R37:X37) -> 0
B38: Overall polling averages | J38: =R38/Y38 -> 0.1594714 | K38: =S38/Y38 -> 0.32722704 | L38: =T38/Y38 -> 0.10541594 | M38: =U38/Y38 -> 0.095329289 | N38: =V38/Y38 -> 0.19049393 | O38: =W38/Y38 -> 0.093838821 | P38: =X38/Y38 -> 0.02822357 | R38: =SUM(R4:$R$37) -> 0.92015 | S38: =SUM(S4:$S$37) -> 1.8881 | T38: =SUM(T4:$T$37) -> 0.60825 | U38: =SUM(U4:$U$37) -> 0.55005 | V38: =SUM(V4:$V$37) -> 1.09915 | W38: =SUM(W4:$W$37) -> 0.54145 | X38: =SUM(X4:$X$37) -> 0.16285 | Y38: =SUM(Y4:$Y$37) -> 5.77
B39: Standard Transition Model | R39: Calculating weightings
H40: Weight | J40: LAB | K40: SNP | L40: CON | M40: LD | N40: REF | O40: GRN | P40: OTH | R40: LAB | S40: SNP | T40: CON | U40: LD | V40: REF | W40: GRN | X40: OTH | Y40: TOTAL
H41: 0.5 | J41: ='Scot and Wales Transition'!B20 -> 0.18514697 | K41: ='Scot and Wales Transition'!C20 -> 0.30328237 | L41: ='Scot and Wales Transition'!D20 -> 0.094729508 | M41: ='Scot and Wales Transition'!E20 -> 0.090016 | N41: ='Scot and Wales Transition'!F20 -> 0.17093299 | O41: ='Scot and Wales Transition'!G20 -> 0.11677697 | P41: ='Scot and Wales Transition'!H20+'Scot and Wales Transition'!I20+'Scot and Wales Transition'!J20 -> 0.036851812 | R41: =J41*H41 -> 0.092573487 | S41: =K41*H41 -> 0.15164119 | T41: =L41*H41 -> 0.047364754 | U41: =M41*H41 -> 0.045008 | V41: =N41*H41 -> 0.085466496 | W41: =O41*H41 -> 0.058388484 | X41: =P41*H41 -> 0.018425906 | Y41: =SUM(R41:X41) -> 0.49886831
B42: Overall calculation
B43: Date | J43: LAB | K43: SNP | L43: CON | M43: LD | N43: REF | O43: GRN | P43: OTH
B44: GE2024 | J44: 0.353 | K44: 0.3 | L44: 0.127 | M44: 0.097 | N44: 0.07 | O44: 0.038 | P44: 0.015
B45: =B2 -> 46112 | J45: =(R41+R38)/(Y38+Y41) -> 0.16154806 | K45: =(S41+S38)/(Y38+Y41) -> 0.3253763 | L45: =(T41+T38)/(Y38+Y41) -> 0.10458263 | M45: =(U41+U38)/(Y38+Y41) -> 0.094922715 | N45: =(V41+V38)/(Y38+Y41) -> 0.18896816 | O45: =(W41+W38)/(Y38+Y41) -> 0.09568529 | P45: =(X41+X38)/(Y38+Y41) -> 0.028916847
B46: Changes | J46: =J45-J44 -> -0.19145194 | K46: =K45-K44 -> 0.025376302 | L46: =L45-L44 -> -0.022417367 | M46: =M45-M44 -> -0.0020772851 | N46: =N45-N44 -> 0.11896816 | O46: =O45-O44 -> 0.05768529 | P46: =P45-P44 -> 0.013916847
J48: =37/57 -> 0.64912281

Sheet Wales Polls
B1: Current month:
B2: ='Scotland Polls'!B2 -> 46112
B3: Regional polling of Wales | R3: Calculating weightings
B4: Pollster | C4: Null | D4: Date | E4: Month | F4: Latest | G4: Days elapsed | H4: Date Weight | I4: Final weight | J4: LAB | K4: CON | L4: REF | M4: PC | N4: LD | O4: GRN | P4: OTH | R4: LAB | S4: CON | T4: REF | U4: PC | V4: LD | W4: GRN | X4: OTH | Y4: TOTAL
B5: YouGov | C5: =IF(G5>184,"Null",B5) -> YouGov | D5: 46100 | E5: =TEXT(D5*1,"mmm-yy") -> Mar-26 | F5: =IF(ISNUMBER(MATCH(C5, $C$3:C4, 0)), "Old", "Latest") -> Latest | G5: =IF(($B$2-D5)<0,"0",($B$2-D5)) -> 12 | H5: =IF(F5="Latest",(100%-(G5*0.5%)),0) -> 0.94 | I5: =H5 -> 0.94 | J5: 0.12 | K5: 0.12 | L5: 0.24 | M5: 0.29 | N5: 0.05 | O5: 0.14 | P5: =100%-O5-N5-M5-L5-K5-J5 -> 0.04 | R5: =J5*$I5 -> 0.1128 | S5: =K5*$I5 -> 0.1128 | T5: =L5*$I5 -> 0.2256 | U5: =M5*$I5 -> 0.2726 | V5: =N5*$I5 -> 0.047 | W5: =O5*$I5 -> 0.1316 | X5: =P5*$I5 -> 0.0376 | Y5: =SUM(R5:X5) -> 0.94
B6: YouGov | C6: =IF(G6>184,"Null",B6) -> YouGov | D6: 46034 | E6: =TEXT(D6*1,"mmm-yy") -> Jan-26 | F6: =IF(ISNUMBER(MATCH(C6, $C$3:C5, 0)), "Old", "Latest") -> Old | G6: =IF(($B$2-D6)<0,"0",($B$2-D6)) -> 78 | H6: =IF(F6="Latest",(100%-(G6*0.5%)),0) -> 0 | I6: =H6 -> 0 | J6: 0.13 | K6: 0.12 | L6: 0.25 | M6: 0.29 | N6: 0.06 | O6: 0.12 | P6: =100%-O6-N6-M6-L6-K6-J6 -> 0.03 | R6: =J6*$I6 -> 0 | S6: =K6*$I6 -> 0 | T6: =L6*$I6 -> 0 | U6: =M6*$I6 -> 0 | V6: =N6*$I6 -> 0 | W6: =O6*$I6 -> 0 | X6: =P6*$I6 -> 0 | Y6: =SUM(R6:X6) -> 0
B7: YouGov (non-MRP) | C7: =IF(G7>184,"Null",B7) -> YouGov (non-MRP) | D7: 46001 | E7: =TEXT(D7*1,"mmm-yy") -> Dec-25 | F7: =IF(ISNUMBER(MATCH(C7, $C$3:C6, 0)), "Old", "Latest") -> Latest | G7: =IF(($B$2-D7)<0,"0",($B$2-D7)) -> 111 | H7: =IF(F7="Latest",(100%-(G7*0.5%)),0) -> 0.445 | I7: =H7 -> 0.445 | J7: 0.15 | K7: 0.13 | L7: 0.31 | M7: 0.19 | N7: 0.08 | O7: 0.14 | P7: =100%-O7-N7-M7-L7-K7-J7 -> 0 | R7: =J7*$I7 -> 0.06675 | S7: =K7*$I7 -> 0.05785 | T7: =L7*$I7 -> 0.13795 | U7: =M7*$I7 -> 0.08455 | V7: =N7*$I7 -> 0.0356 | W7: =O7*$I7 -> 0.0623 | X7: =P7*$I7 -> 0 | Y7: =SUM(R7:X7) -> 0.445
B8: YouGov | C8: =IF(G8>184,"Null",B8) -> Null | D8: 45910 | E8: =TEXT(D8*1,"mmm-yy") -> Sep-25 | F8: =IF(ISNUMBER(MATCH(C8, $C$3:C7, 0)), "Old", "Latest") -> Old | G8: =IF(($B$2-D8)<0,"0",($B$2-D8)) -> 202 | H8: =IF(F8="Latest",(100%-(G8*0.5%)),0) -> 0 | I8: =H8 -> 0 | J8: 0.18 | K8: 0.11 | L8: 0.29 | M8: 0.23 | N8: 0.09 | O8: 0.07 | P8: =100%-O8-N8-M8-L8-K8-J8 -> 0.03 | R8: =J8*$I8 -> 0 | S8: =K8*$I8 -> 0 | T8: =L8*$I8 -> 0 | U8: =M8*$I8 -> 0 | V8: =N8*$I8 -> 0 | W8: =O8*$I8 -> 0 | X8: =P8*$I8 -> 0 | Y8: =SUM(R8:X8) -> 0
B9: YouGov | C9: =IF(G9>184,"Null",B9) -> Null | D9: 45777 | E9: =TEXT(D9*1,"mmm-yy") -> Apr-25 | F9: =IF(ISNUMBER(MATCH(C9, $C$3:C8, 0)), "Old", "Latest") -> Old | G9: =IF(($B$2-D9)<0,"0",($B$2-D9)) -> 335 | H9: =IF(F9="Latest",(100%-(G9*0.5%)),0) -> 0 | I9: =H9 -> 0 | J9: 0.2 | K9: 0.13 | L9: 0.24 | M9: 0.24 | N9: 0.09 | O9: 0.07 | P9: =100%-O9-N9-M9-L9-K9-J9 -> 0.03 | R9: =J9*$I9 -> 0 | S9: =K9*$I9 -> 0 | T9: =L9*$I9 -> 0 | U9: =M9*$I9 -> 0 | V9: =N9*$I9 -> 0 | W9: =O9*$I9 -> 0 | X9: =P9*$I9 -> 0 | Y9: =SUM(R9:X9) -> 0
B10: Survation | C10: =IF(G10>184,"Null",B10) -> Null | D10: 45750 | E10: =TEXT(D10*1,"mmm-yy") -> Apr-25 | F10: =IF(ISNUMBER(MATCH(C10, $C$3:C9, 0)), "Old", "Latest") -> Old | G10: =IF(($B$2-D10)<0,"0",($B$2-D10)) -> 362 | H10: =IF(F10="Latest",(100%-(G10*0.5%)),0) -> 0 | I10: =H10 -> 0 | J10: 0.29 | K10: 0.15 | L10: 0.25 | M10: 0.18 | N10: 0.06 | O10: 0.06 | P10: =100%-O10-N10-M10-L10-K10-J10 -> 0.01 | R10: =J10*$I10 -> 0 | S10: =K10*$I10 -> 0 | T10: =L10*$I10 -> 0 | U10: =M10*$I10 -> 0 | V10: =N10*$I10 -> 0 | W10: =O10*$I10 -> 0 | X10: =P10*$I10 -> 0 | Y10: =SUM(R10:X10) -> 0
B11: GE2024 | C11: =IF(G11>184,"Null",B11) -> Null | D11: 45477 | E11: =TEXT(D11*1,"mmm-yy") -> Jul-24 | F11: =IF(ISNUMBER(MATCH(C11, $C$3:C10, 0)), "Old", "Latest") -> Old | G11: =IF(($B$2-D11)<0,"0",($B$2-D11)) -> 635 | H11: =IF(F11="Latest",(100%-(G11*0.5%)),0) -> 0 | I11: =H11 -> 0 | J11: 0.37 | K11: 0.182 | L11: 0.169 | M11: 0.148 | N11: 0.065 | O11: 0.047 | P11: 0.019 | R11: =J11*$I11 -> 0 | S11: =K11*$I11 -> 0 | T11: =L11*$I11 -> 0 | U11: =M11*$I11 -> 0 | V11: =N11*$I11 -> 0 | W11: =O11*$I11 -> 0 | X11: =P11*$I11 -> 0 | Y11: =SUM(R11:X11) -> 0
B12: Overall polling averages | J12: =R12/Y12 -> 0.12963899 | K12: =S12/Y12 -> 0.123213 | L12: =T12/Y12 -> 0.26249097 | M12: =U12/Y12 -> 0.25787004 | N12: =V12/Y12 -> 0.059638989 | O12: =W12/Y12 -> 0.14 | P12: =X12/Y12 -> 0.027148014 | R12: =SUM(R4:R11) -> 0.17955 | S12: =SUM(S4:S11) -> 0.17065 | T12: =SUM(T4:T11) -> 0.36355 | U12: =SUM(U4:U11) -> 0.35715 | V12: =SUM(V4:V11) -> 0.0826 | W12: =SUM(W4:W11) -> 0.1939 | X12: =SUM(X4:X11) -> 0.0376 | Y12: =SUM(Y4:Y11) -> 1.385
B13: Standard Transition Model | R13: Calculating weightings
H14: Weight | J14: LAB | K14: CON | L14: REF | M14: PC | N14: LD | O14: GRN | P14: OTH | R14: LAB | S14: CON | T14: REF | U14: PC | V14: LD | W14: GRN | X14: OTH | Y14: TOTAL
H15: 0.5 | J15: ='Scot and Wales Transition'!B32 -> 0.1940634 | K15: ='Scot and Wales Transition'!C32 -> 0.1357541 | L15: ='Scot and Wales Transition'!D32 -> 0.28333351 | M15: ='Scot and Wales Transition'!E32 -> 0.15171816 | N15: ='Scot and Wales Transition'!F32 -> 0.06032 | O15: ='Scot and Wales Transition'!G32 -> 0.13623591 | P15: ='Scot and Wales Transition'!H32 -> 0.0061323939 | Q15: =100%-O15-N15-M15-L15-K15-J15 -> 0.038574914 | R15: =J15*H15 -> 0.0970317 | S15: =K15*H15 -> 0.067877049 | T15: =L15*H15 -> 0.14166676 | U15: =M15*H15 -> 0.075859081 | V15: =N15*H15 -> 0.03016 | W15: =O15*H15 -> 0.068117956 | X15: =P15*H15 -> 0.0030661969 | Y15: =SUM(R15:X15) -> 0.48377874
B16: Overall calculation
B17: Date | J17: LAB | K17: CON | L17: REF | M17: PC | N17: LD | O17: GRN | P17: OTH
B18: GE2024 | J18: 0.37 | K18: 0.182 | L18: 0.169 | M18: 0.148 | N18: 0.065 | O18: 0.047 | P18: =100%-O18-N18-M18-L18-K18-J18 -> 0.019
B19: =B2 -> 46112 | J19: =(R15+R12)/(Y12+Y15) -> 0.14800131 | K19: =(S15+S12)/(Y12+Y15) -> 0.12763793 | L19: =(T15+T12)/(Y12+Y15) -> 0.27034595 | M19: =(U15+U12)/(Y12+Y15) -> 0.23170698 | N19: =(V15+V12)/(Y12+Y15) -> 0.060338871 | O19: =(W15+W12)/(Y12+Y15) -> 0.14020812 | P19: =(X15+X12)/(Y12+Y15) -> 0.021760841
B20: Changes | J20: =J19-J18 -> -0.22199869 | K20: =K19-K18 -> -0.05436207 | L20: =L19-L18 -> 0.10134595 | M20: =M19-M18 -> 0.083706982 | N20: =N19-N18 -> -0.0046611286 | O20: =O19-O18 -> 0.093208121 | P20: =P19-P18 -> 0.0027608409

Sheet GE2024 results
A1: Constituency | B1: County | C1: Region | D1: Nation | E1: LAB | F1: CON | G1: REF | H1: LD | I1: GRN | J1: SNP | K1: IND | L1: WPB | M1: PC | N1: OTH | Q1: LAB | R1: CON | S1: REF | T1: LD | U1: GRN | V1: SNP | W1: IND | X1: WPB | Y1: PC | Z1: OTH
A2: Amber Valley | B2: DBY | C2: East M | D2: England | E2: 15746 | F2: 10725 | G2: 12192 | H2: 1590 | I2: 2278 | N2: 0 | O2: =SUM(E2:N2) -> 42531 | Q2: =E2/O2 -> 0.37022407 | R2: =F2/O2 -> 0.25216901 | S2: =G2/O2 -> 0.28666149 | T2: =H2/O2 -> 0.037384496 | U2: =I2/O2 -> 0.053560932 | V2: =J2/O2 -> 0 | W2: =K2/O2 -> 0 | X2: =L2/O2 -> 0 | Y2: =M2/O2 -> 0 | Z2: =N2/O2 -> 0
A3: Bolsover | B3: DBY | C3: East M | D3: England | E3: 17197 | F3: 10874 | G3: 9131 | H3: 1478 | I3: 3754 | N3: 0 | O3: =SUM(E3:N3) -> 42434 | Q3: =E3/O3 -> 0.40526465 | R3: =F3/O3 -> 0.25625678 | S3: =G3/O3 -> 0.21518122 | T3: =H3/O3 -> 0.03483056 | U3: =I3/O3 -> 0.088466795 | V3: =J3/O3 -> 0 | W3: =K3/O3 -> 0 | X3: =L3/O3 -> 0 | Y3: =M3/O3 -> 0 | Z3: =N3/O3 -> 0
A4: Chesterfield | B4: DBY | C4: East M | D4: England | E4: 19316 | F4: 8496 | G4: 7897 | H4: 2553 | I4: 2682 | L4: 248 | N4: 363 | O4: =SUM(E4:N4) -> 41555 | Q4: =E4/O4 -> 0.46482974 | R4: =F4/O4 -> 0.20445193 | S4: =G4/O4 -> 0.1900373 | T4: =H4/O4 -> 0.06143665 | U4: =I4/O4 -> 0.06454097 | V4: =J4/O4 -> 0 | W4: =K4/O4 -> 0 | X4: =L4/O4 -> 0.0059679942 | Y4: =M4/O4 -> 0 | Z4: =N4/O4 -> 0.0087354109
A5: Derby North | B5: DBY | C5: East M | D5: England | E5: 18619 | F5: 9704 | G5: 7488 | H5: 1822 | I5: 3286 | N5: 0 | O5: =SUM(E5:N5) -> 40919 | Q5: =E5/O5 -> 0.45502089 | R5: =F5/O5 -> 0.23715145 | S5: =G5/O5 -> 0.18299567 | T5: =H5/O5 -> 0.044526992 | U5: =I5/O5 -> 0.080304993 | V5: =J5/O5 -> 0 | W5: =K5/O5 -> 0 | X5: =L5/O5 -> 0 | Y5: =M5/O5 -> 0 | Z5: =N5/O5 -> 0
A6: Derby South | B6: DBY | C6: East M | D6: England | E6: 14503 | F6: 5192 | G6: 8501 | H6: 1807 | I6: 1899 | K6: 292 | L6: 5205 | N6: 0 | O6: =SUM(E6:N6) -> 37399 | Q6: =E6/O6 -> 0.38779112 | R6: =F6/O6 -> 0.13882724 | S6: =G6/O6 -> 0.22730554 | T6: =H6/O6 -> 0.0483168 | U6: =I6/O6 -> 0.050776759 | V6: =J6/O6 -> 0 | W6: =K6/O6 -> 0.0078076954 | X6: =L6/O6 -> 0.13917484 | Y6: =M6/O6 -> 0 | Z6: =N6/O6 -> 0
A7: Derbyshire Dales | B7: DBY | C7: East M | D7: England | E7: 17759 | F7: 17409 | G7: 7728 | H7: 4860 | I7: 2830 | K7: 369 | N7: 317 | O7: =SUM(E7:N7) -> 51272 | Q7: =E7/O7 -> 0.34636839 | R7: =F7/O7 -> 0.33954205 | S7: =G7/O7 -> 0.15072554 | T7: =H7/O7 -> 0.094788579 | U7: =I7/O7 -> 0.055195818 | V7: =J7/O7 -> 0 | W7: =K7/O7 -> 0.0071969106 | X7: =L7/O7 -> 0 | Y7: =M7/O7 -> 0 | Z7: =N7/O7 -> 0.0061827118
A8: Erewash | B8: DBY | C8: East M | D8: England | E8: 17224 | F8: 11365 | G8: 9162 | H8: 2426 | I8: 2478 | K8: 351 | N8: 0 | O8: =SUM(E8:N8) -> 43006 | Q8: =E8/O8 -> 0.40050226 | R8: =F8/O8 -> 0.26426545 | S8: =G8/O8 -> 0.21304004 | T8: =H8/O8 -> 0.056410733 | U8: =I8/O8 -> 0.057619867 | V8: =J8/O8 -> 0 | W8: =K8/O8 -> 0.0081616519 | X8: =L8/O8 -> 0 | Y8: =M8/O8 -> 0 | Z8: =N8/O8 -> 0
A9: High Peak | B9: DBY | C9: East M | D9: England | E9: 22533 | F9: 14625 | G9: 6959 | H9: 1707 | I9: 3382 | N9: 0 | O9: =SUM(E9:N9) -> 49206 | Q9: =E9/O9 -> 0.45793196 | R9: =F9/O9 -> 0.29721985 | S9: =G9/O9 -> 0.14142584 | T9: =H9/O9 -> 0.034690891 | U9: =I9/O9 -> 0.068731456 | V9: =J9/O9 -> 0 | W9: =K9/O9 -> 0 | X9: =L9/O9 -> 0 | Y9: =M9/O9 -> 0 | Z9: =N9/O9 -> 0
A10: Mid Derbyshire | B10: DBY | C10: East M | D10: England | E10: 17346 | F10: 15468 | G10: 8356 | H10: 2361 | I10: 3547 | K10: 315 | L10: 150 | N10: 0 | O10: =SUM(E10:N10) -> 47543 | Q10: =E10/O10 -> 0.36484866 | R10: =F10/O10 -> 0.32534758 | S10: =G10/O10 -> 0.17575668 | T10: =H10/O10 -> 0.049660308 | U10: =I10/O10 -> 0.074606146 | V10: =J10/O10 -> 0 | W10: =K10/O10 -> 0.0066255811 | X10: =L10/O10 -> 0.0031550386 | Y10: =M10/O10 -> 0 | Z10: =N10/O10 -> 0
A11: North East Derbyshire | B11: DBY | C11: East M | D11: England | E11: 17591 | F11: 15838 | G11: 7899 | H11: 2159 | I11: 2271 | N11: 108 | O11: =SUM(E11:N11) -> 45866 | Q11: =E11/O11 -> 0.38353028 | R11: =F11/O11 -> 0.34531025 | S11: =G11/O11 -> 0.17221907 | T11: =H11/O11 -> 0.047071905 | U11: =I11/O11 -> 0.049513801 | V11: =J11/O11 -> 0 | W11: =K11/O11 -> 0 | X11: =L11/O11 -> 0 | Y11: =M11/O11 -> 0 | Z11: =N11/O11 -> 0.0023546854
A12: South Derbyshire | B12: DBY | C12: East M | D12: England | E12: 17734 | F12: 13566 | G12: 8979 | H12: 2134 | I12: 1941 | K12: 1200 | N12: 183 | O12: =SUM(E12:N12) -> 45737 | Q12: =E12/O12 -> 0.38773859 | R12: =F12/O12 -> 0.29660887 | S12: =G12/O12 -> 0.19631808 | T12: =H12/O12 -> 0.046658067 | U12: =I12/O12 -> 0.042438288 | V12: =J12/O12 -> 0 | W12: =K12/O12 -> 0.026236964 | X12: =L12/O12 -> 0 | Y12: =M12/O12 -> 0 | Z12: =N12/O12 -> 0.0040011369
A13: Harborough, Oadby and Wigston | B13: LEI | C13: East M | D13: England | E13: 16236 | F13: 18614 | G13: 6332 | H13: 4732 | I13: 4269 | N13: 203 | O13: =SUM(E13:N13) -> 50386 | Q13: =E13/O13 -> 0.32223237 | R13: =F13/O13 -> 0.36942802 | S13: =G13/O13 -> 0.12566983 | T13: =H13/O13 -> 0.093914976 | U13: =I13/O13 -> 0.084725916 | V13: =J13/O13 -> 0 | W13: =K13/O13 -> 0 | X13: =L13/O13 -> 0 | Y13: =M13/O13 -> 0 | Z13: =N13/O13 -> 0.0040288969
A14: Hinckley and Bosworth | B14: LEI | C14: East M | D14: England | E14: 8601 | F14: 17032 | G14: 8817 | H14: 11624 | I14: 1514 | K14: 211 | N14: 0 | O14: =SUM(E14:N14) -> 47799 | Q14: =E14/O14 -> 0.179941 | R14: =F14/O14 -> 0.35632545 | S14: =G14/O14 -> 0.18445993 | T14: =H14/O14 -> 0.243185 | U14: =I14/O14 -> 0.031674303 | V14: =J14/O14 -> 0 | W14: =K14/O14 -> 0.0044143183 | X14: =L14/O14 -> 0 | Y14: =M14/O14 -> 0 | Z14: =N14/O14 -> 0
A15: Leicester East | B15: LEI | C15: East M | D15: England | E15: 10100 | F15: 14526 | G15: 2611 | H15: 6329 | I15: 2143 | K15: 5532 | N15: 5473 | O15: =SUM(E15:N15) -> 46714 | Q15: =E15/O15 -> 0.21620927 | R15: =F15/O15 -> 0.31095603 | S15: =G15/O15 -> 0.055893308 | T15: =H15/O15 -> 0.13548401 | U15: =I15/O15 -> 0.045874898 | V15: =J15/O15 -> 0 | W15: =K15/O15 -> 0.11842274 | X15: =L15/O15 -> 0 | Y15: =M15/O15 -> 0 | Z15: =N15/O15 -> 0.11715974
A16: Leicester South | B16: LEI | C16: East M | D16: England | E16: 13760 | F16: 4820 | G16: 2470 | H16: 1425 | I16: 3826 | K16: 14739 | N16: 807 | O16: =SUM(E16:N16) -> 41847 | Q16: =E16/O16 -> 0.32881688 | R16: =F16/O16 -> 0.11518149 | S16: =G16/O16 -> 0.059024542 | T16: =H16/O16 -> 0.03405262 | U16: =I16/O16 -> 0.091428298 | V16: =J16/O16 -> 0 | W16: =K16/O16 -> 0.35221163 | X16: =L16/O16 -> 0 | Y16: =M16/O16 -> 0 | Z16: =N16/O16 -> 0.019284537
A17: Leicester West | B17: LEI | C17: East M | D17: England | E17: 15798 | F17: 7021 | G17: 5666 | H17: 2179 | I17: 4089 | N17: 644 | O17: =SUM(E17:N17) -> 35397 | Q17: =E17/O17 -> 0.44630901 | R17: =F17/O17 -> 0.19835014 | S17: =G17/O17 -> 0.16007006 | T17: =H17/O17 -> 0.061558889 | U17: =I17/O17 -> 0.11551826 | V17: =J17/O17 -> 0 | W17: =K17/O17 -> 0 | X17: =L17/O17 -> 0 | Y17: =M17/O17 -> 0 | Z17: =N17/O17 -> 0.018193632
A18: Loughborough | B18: LEI | C18: East M | D18: England | E18: 17249 | F18: 12289 | G18: 7204 | H18: 2561 | I18: 2956 | N18: 0 | O18: =SUM(E18:N18) -> 42259 | Q18: =E18/O18 -> 0.40817341 | R18: =F18/O18 -> 0.29080196 | S18: =G18/O18 -> 0.17047256 | T18: =H18/O18 -> 0.060602475 | U18: =I18/O18 -> 0.069949597 | V18: =J18/O18 -> 0 | W18: =K18/O18 -> 0 | X18: =L18/O18 -> 0 | Y18: =M18/O18 -> 0 | Z18: =N18/O18 -> 0
A19: Melton and Syston | B19: LEI | C19: East M | D19: England | E19: 12130 | F19: 17526 | G19: 8945 | H19: 2547 | I19: 3685 | K19: 517 | N19: 636 | O19: =SUM(E19:N19) -> 45986 | Q19: =E19/O19 -> 0.26377593 | R19: =F19/O19 -> 0.38111599 | S19: =G19/O19 -> 0.19451572 | T19: =H19/O19 -> 0.055386422 | U19: =I19/O19 -> 0.080133084 | V19: =J19/O19 -> 0 | W19: =K19/O19 -> 0.011242552 | X19: =L19/O19 -> 0 | Y19: =M19/O19 -> 0 | Z19: =N19/O19 -> 0.013830296
A20: Mid Leicestershire | B20: LEI | C20: East M | D20: England | E20: 15534 | F20: 17735 | G20: 8923 | H20: 2444 | I20: 3414 | N20: 0 | O20: =SUM(E20:N20) -> 48050 | Q20: =E20/O20 -> 0.32328824 | R20: =F20/O20 -> 0.36909469 | S20: =G20/O20 -> 0.18570239 | T20: =H20/O20 -> 0.050863684 | U20: =I20/O20 -> 0.071050989 | V20: =J20/O20 -> 0 | W20: =K20/O20 -> 0 | X20: =L20/O20 -> 0 | Y20: =M20/O20 -> 0 | Z20: =N20/O20 -> 0
A21: North West Leicestershire | B21: LEI | C21: East M | D21: England | E21: 16871 | F21: 15859 | G21: 9678 | H21: 1629 | I21: 2831 | K21: 1568 | N21: 136 | O21: =SUM(E21:N21) -> 48572 | Q21: =E21/O21 -> 0.34734003 | R21: =F21/O21 -> 0.32650498 | S21: =G21/O21 -> 0.1992506 | T21: =H21/O21 -> 0.033537841 | U21: =I21/O21 -> 0.058284608 | V21: =J21/O21 -> 0 | W21: =K21/O21 -> 0.032281973 | X21: =L21/O21 -> 0 | Y21: =M21/O21 -> 0 | Z21: =N21/O21 -> 0.0027999671
A22: South Leicestershire | B22: LEI | C22: East M | D22: England | E22: 12758 | F22: 18264 | G22: 10235 | H22: 7621 | I22: 2481 | N22: 0 | O22: =SUM(E22:N22) -> 51359 | Q22: =E22/O22 -> 0.24840826 | R22: =F22/O22 -> 0.3556144 | S22: =G22/O22 -> 0.19928348 | T22: =H22/O22 -> 0.14838685 | U22: =I22/O22 -> 0.048307015 | V22: =J22/O22 -> 0 | W22: =K22/O22 -> 0 | X22: =L22/O22 -> 0 | Y22: =M22/O22 -> 0 | Z22: =N22/O22 -> 0
A23: Boston and Skegness | B23: LIN | C23: East M | D23: England | E23: 7629 | F23: 13510 | G23: 15520 | H23: 1375 | I23: 1506 | N23: 915 | O23: =SUM(E23:N23) -> 40455 | Q23: =E23/O23 -> 0.1885799 | R23: =F23/O23 -> 0.3339513 | S23: =G23/O23 -> 0.38363614 | T23: =H23/O23 -> 0.033988382 | U23: =I23/O23 -> 0.037226548 | V23: =J23/O23 -> 0 | W23: =K23/O23 -> 0 | X23: =L23/O23 -> 0 | Y23: =M23/O23 -> 0 | Z23: =N23/O23 -> 0.022617723
A24: Gainsborough | B24: LIN | C24: East M | D24: England | E24: 13104 | F24: 16636 | G24: 9916 | H24: 5001 | I24: 1832 | N24: 196 | O24: =SUM(E24:N24) -> 46685 | Q24: =E24/O24 -> 0.28068973 | R24: =F24/O24 -> 0.35634572 | S24: =G24/O24 -> 0.21240227 | T24: =H24/O24 -> 0.1071222 | U24: =I24/O24 -> 0.039241726 | V24: =J24/O24 -> 0 | W24: =K24/O24 -> 0 | X24: =L24/O24 -> 0 | Y24: =M24/O24 -> 0 | Z24: =N24/O24 -> 0.0041983506
A25: Grantham and Bourne | B25: LIN | C25: East M | D25: England | E25: 12274 | F25: 16770 | G25: 9393 | H25: 2027 | I25: 2570 | K25: 1642 | N25: 1449 | O25: =SUM(E25:N25) -> 46125 | Q25: =E25/O25 -> 0.26610298 | R25: =F25/O25 -> 0.36357724 | S25: =G25/O25 -> 0.20364228 | T25: =H25/O25 -> 0.043945799 | U25: =I25/O25 -> 0.055718157 | V25: =J25/O25 -> 0 | W25: =K25/O25 -> 0.035598916 | X25: =L25/O25 -> 0 | Y25: =M25/O25 -> 0 | Z25: =N25/O25 -> 0.031414634
A26: Lincoln | B26: LIN | C26: East M | D26: England | E26: 18470 | F26: 9677 | G26: 7602 | H26: 2580 | I26: 2751 | L26: 479 | N26: 601 | O26: =SUM(E26:N26) -> 42160 | Q26: =E26/O26 -> 0.43809298 | R26: =F26/O26 -> 0.22953036 | S26: =G26/O26 -> 0.18031309 | T26: =H26/O26 -> 0.061195446 | U26: =I26/O26 -> 0.065251423 | V26: =J26/O26 -> 0 | W26: =K26/O26 -> 0 | X26: =L26/O26 -> 0.01136148 | Y26: =M26/O26 -> 0 | Z26: =N26/O26 -> 0.014255218
A27: Louth and Horncastle | B27: LIN | C27: East M | D27: England | E27: 10475 | F27: 17441 | G27: 11935 | H27: 2364 | I27: 2504 | K27: 1359 | N27: 401 | O27: =SUM(E27:N27) -> 46479 | Q27: =E27/O27 -> 0.2253706 | R27: =F27/O27 -> 0.37524473 | S27: =G27/O27 -> 0.25678263 | T27: =H27/O27 -> 0.050861679 | U27: =I27/O27 -> 0.053873792 | V27: =J27/O27 -> 0 | W27: =K27/O27 -> 0.029239011 | X27: =L27/O27 -> 0 | Y27: =M27/O27 -> 0 | Z27: =N27/O27 -> 0.0086275522
A28: Rutland and Stamford | B28: LIN | C28: East M | D28: England | E28: 10854 | F28: 21248 | G28: 7008 | H28: 6252 | I28: 2806 | N28: 409 | O28: =SUM(E28:N28) -> 48577 | Q28: =E28/O28 -> 0.22343908 | R28: =F28/O28 -> 0.43740865 | S28: =G28/O28 -> 0.1442658 | T28: =H28/O28 -> 0.12870288 | U28: =I28/O28 -> 0.057763962 | V28: =J28/O28 -> 0 | W28: =K28/O28 -> 0 | X28: =L28/O28 -> 0 | Y28: =M28/O28 -> 0 | Z28: =N28/O28 -> 0.0084196225
A29: Sleaford and North Hykeham | B29: LIN | C29: East M | D29: England | E29: 13002 | F29: 17348 | G29: 10484 | H29: 2264 | I29: 2435 | K29: 3032 | N29: 0 | O29: =SUM(E29:N29) -> 48565 | Q29: =E29/O29 -> 0.26772367 | R29: =F29/O29 -> 0.35721198 | S29: =G29/O29 -> 0.21587563 | T29: =H29/O29 -> 0.046617935 | U29: =I29/O29 -> 0.050138989 | V29: =J29/O29 -> 0 | W29: =K29/O29 -> 0.062431792 | X29: =L29/O29 -> 0 | Y29: =M29/O29 -> 0 | Z29: =N29/O29 -> 0
A30: South Holland and the Deepings | B30: LIN | C30: East M | D30: England | E30: 9086 | F30: 17462 | G30: 10606 | H30: 1945 | I30: 1800 | K30: 5031 | N30: 0 | O30: =SUM(E30:N30) -> 45930 | Q30: =E30/O30 -> 0.19782277 | R30: =F30/O30 -> 0.38018724 | S30: =G30/O30 -> 0.23091661 | T30: =H30/O30 -> 0.04234705 | U30: =I30/O30 -> 0.039190072 | V30: =J30/O30 -> 0 | W30: =K30/O30 -> 0.10953625 | X30: =L30/O30 -> 0 | Y30: =M30/O30 -> 0 | Z30: =N30/O30 -> 0
A31: Corby and East Northamptonshire | B31: NTH | C31: East M | D31: England | E31: 21020 | F31: 14689 | G31: 8760 | H31: 2191 | I31: 2507 | K31: 422 | N31: 0 | O31: =SUM(E31:N31) -> 49589 | Q31: =E31/O31 -> 0.42388433 | R31: =F31/O31 -> 0.29621489 | S31: =G31/O31 -> 0.17665208 | T31: =H31/O31 -> 0.044183186 | U31: =I31/O31 -> 0.050555567 | V31: =J31/O31 -> 0 | W31: =K31/O31 -> 0.0085099518 | X31: =L31/O31 -> 0 | Y31: =M31/O31 -> 0 | Z31: =N31/O31 -> 0
A32: Daventry | B32: NTH | C32: East M | D32: England | E32: 14860 | F32: 17872 | G32: 10636 | H32: 6755 | I32: 2959 | N32: 0 | O32: =SUM(E32:N32) -> 53082 | Q32: =E32/O32 -> 0.27994424 | R32: =F32/O32 -> 0.33668664 | S32: =G32/O32 -> 0.20036924 | T32: =H32/O32 -> 0.12725594 | U32: =I32/O32 -> 0.055743943 | V32: =J32/O32 -> 0 | W32: =K32/O32 -> 0 | X32: =L32/O32 -> 0 | Y32: =M32/O32 -> 0 | Z32: =N32/O32 -> 0
A33: Kettering | B33: NTH | C33: East M | D33: England | E33: 18009 | F33: 14189 | G33: 8468 | H33: 1357 | I33: 7004 | K33: 1057 | N33: 147 | O33: =SUM(E33:N33) -> 50231 | Q33: =E33/O33 -> 0.35852362 | R33: =F33/O33 -> 0.28247497 | S33: =G33/O33 -> 0.16858116 | T33: =H33/O33 -> 0.02701519 | U33: =I33/O33 -> 0.13943581 | V33: =J33/O33 -> 0 | W33: =K33/O33 -> 0.021042782 | X33: =L33/O33 -> 0 | Y33: =M33/O33 -> 0 | Z33: =N33/O33 -> 0.0029264797
A34: Northampton North | B34: NTH | C34: East M | D34: England | E34: 18209 | F34: 9195 | G34: 7010 | H34: 2251 | I34: 2558 | K34: 1059 | L34: 1531 | N34: 0 | O34: =SUM(E34:N34) -> 41813 | Q34: =E34/O34 -> 0.43548657 | R34: =F34/O34 -> 0.21990768 | S34: =G34/O34 -> 0.16765121 | T34: =H34/O34 -> 0.053834932 | U34: =I34/O34 -> 0.061177146 | V34: =J34/O34 -> 0 | W34: =K34/O34 -> 0.025327051 | X34: =L34/O34 -> 0.036615407 | Y34: =M34/O34 -> 0 | Z34: =N34/O34 -> 0
A35: Northampton South | B35: NTH | C35: East M | D35: England | E35: 16890 | F35: 12819 | G35: 8210 | H35: 3193 | I35: 2398 | N35: 394 | O35: =SUM(E35:N35) -> 43904 | Q35: =E35/O35 -> 0.38470299 | R35: =F35/O35 -> 0.29197795 | S35: =G35/O35 -> 0.18699891 | T35: =H35/O35 -> 0.072726859 | U35: =I35/O35 -> 0.054619169 | V35: =J35/O35 -> 0 | W35: =K35/O35 -> 0 | X35: =L35/O35 -> 0 | Y35: =M35/O35 -> 0 | Z35: =N35/O35 -> 0.0089741254
A36: South Northamptonshire | B36: NTH | C36: East M | D36: England | E36: 15504 | F36: 19191 | G36: 8962 | H36: 4989 | I36: 3040 | K36: 1556 | L36: 246 | N36: 209 | O36: =SUM(E36:N36) -> 53697 | Q36: =E36/O36 -> 0.28873121 | R36: =F36/O36 -> 0.35739427 | S36: =G36/O36 -> 0.16689945 | T36: =H36/O36 -> 0.092910218 | U36: =I36/O36 -> 0.056613964 | V36: =J36/O36 -> 0 | W36: =K36/O36 -> 0.02897741 | X36: =L36/O36 -> 0.0045812615 | Y36: =M36/O36 -> 0 | Z36: =N36/O36 -> 0.00389221
A37: Wellingborough and Rushden | B37: NTH | C37: East M | D37: England | E37: 17734 | F37: 12248 | G37: 9456 | H37: 1570 | I37: 2704 | N37: 273 | O37: =SUM(E37:N37) -> 43985 | Q37: =E37/O37 -> 0.4031829 | R37: =F37/O37 -> 0.27845857 | S37: =G37/O37 -> 0.21498238 | T37: =H37/O37 -> 0.035693987 | U37: =I37/O37 -> 0.061475503 | V37: =J37/O37 -> 0 | W37: =K37/O37 -> 0 | X37: =L37/O37 -> 0 | Y37: =M37/O37 -> 0 | Z37: =N37/O37 -> 0.0062066614
A38: Ashfield | B38: NTT | C38: East M | D38: England | E38: 11553 | F38: 3271 | G38: 17062 | H38: 619 | I38: 1100 | K38: 6276 | N38: 0 | O38: =SUM(E38:N38) -> 39881 | Q38: =E38/O38 -> 0.28968682 | R38: =F38/O38 -> 0.082019007 | S38: =G38/O38 -> 0.42782277 | T38: =H38/O38 -> 0.015521175 | U38: =I38/O38 -> 0.027582057 | V38: =J38/O38 -> 0 | W38: =K38/O38 -> 0.15736817 | X38: =L38/O38 -> 0 | Y38: =M38/O38 -> 0 | Z38: =N38/O38 -> 0
A39: Bassetlaw | B39: NTT | C39: East M | D39: England | E39: 18476 | F39: 12708 | G39: 9751 | H39: 1996 | I39: 1947 | N39: 0 | O39: =SUM(E39:N39) -> 44878 | Q39: =E39/O39 -> 0.41169393 | R39: =F39/O39 -> 0.2831677 | S39: =G39/O39 -> 0.21727795 | T39: =H39/O39 -> 0.044476135 | U39: =I39/O39 -> 0.043384286 | V39: =J39/O39 -> 0 | W39: =K39/O39 -> 0 | X39: =L39/O39 -> 0 | Y39: =M39/O39 -> 0 | Z39: =N39/O39 -> 0
A40: Broxtowe | B40: NTT | C40: East M | D40: England | E40: 19561 | F40: 11158 | G40: 8402 | H40: 3807 | I40: 3488 | K40: 1034 | L40: 388 | N40: 0 | O40: =SUM(E40:N40) -> 47838 | Q40: =E40/O40 -> 0.40890087 | R40: =F40/O40 -> 0.23324554 | S40: =G40/O40 -> 0.17563443 | T40: =H40/O40 -> 0.079581086 | U40: =I40/O40 -> 0.072912747 | V40: =J40/O40 -> 0 | W40: =K40/O40 -> 0.021614616 | X40: =L40/O40 -> 0.008110707 | Y40: =M40/O40 -> 0 | Z40: =N40/O40 -> 0
A41: Gedling | B41: NTT | C41: East M | D41: England | E41: 23278 | F41: 11397 | G41: 8211 | H41: 2473 | I41: 3122 | K41: 241 | N41: 0 | O41: =SUM(E41:N41) -> 48722 | Q41: =E41/O41 -> 0.47777185 | R41: =F41/O41 -> 0.23391897 | S41: =G41/O41 -> 0.16852756 | T41: =H41/O41 -> 0.050757358 | U41: =I41/O41 -> 0.064077829 | V41: =J41/O41 -> 0 | W41: =K41/O41 -> 0.0049464308 | X41: =L41/O41 -> 0 | Y41: =M41/O41 -> 0 | Z41: =N41/O41 -> 0
A42: Mansfield | B42: NTT | C42: East M | D42: England | E42: 16048 | F42: 12563 | G42: 9385 | H42: 799 | I42: 1326 | K42: 335 | N42: 631 | O42: =SUM(E42:N42) -> 41087 | Q42: =E42/O42 -> 0.39058583 | R42: =F42/O42 -> 0.30576581 | S42: =G42/O42 -> 0.22841775 | T42: =H42/O42 -> 0.01944654 | U42: =I42/O42 -> 0.032272982 | V42: =J42/O42 -> 0 | W42: =K42/O42 -> 0.0081534305 | X42: =L42/O42 -> 0 | Y42: =M42/O42 -> 0 | Z42: =N42/O42 -> 0.015357656
A43: Newark | B43: NTT | C43: East M | D43: England | E43: 17396 | F43: 20968 | G43: 8280 | H43: 3026 | I43: 2345 | K43: 329 | L43: 150 | N43: 965 | O43: =SUM(E43:N43) -> 53459 | Q43: =E43/O43 -> 0.32540826 | R43: =F43/O43 -> 0.39222582 | S43: =G43/O43 -> 0.15488505 | T43: =H43/O43 -> 0.056604127 | U43: =I43/O43 -> 0.043865392 | V43: =J43/O43 -> 0 | W43: =K43/O43 -> 0.0061542491 | X43: =L43/O43 -> 0.0028058886 | Y43: =M43/O43 -> 0 | Z43: =N43/O43 -> 0.018051217
A44: Nottingham East | B44: NTT | C44: East M | D44: England | E44: 19494 | F44: 3925 | G44: 3578 | H44: 1741 | I44: 4332 | K44: 494 | L44: 2465 | N44: 372 | O44: =SUM(E44:N44) -> 36401 | Q44: =E44/O44 -> 0.53553474 | R44: =F44/O44 -> 0.10782671 | S44: =G44/O44 -> 0.098294003 | T44: =H44/O44 -> 0.047828356 | U44: =I44/O44 -> 0.11900772 | V44: =J44/O44 -> 0 | W44: =K44/O44 -> 0.013571056 | X44: =L44/O44 -> 0.06771792 | Y44: =M44/O44 -> 0 | Z44: =N44/O44 -> 0.010219499
A45: Nottingham North and Kimberley | B45: NTT | C45: East M | D45: England | E45: 16480 | F45: 6787 | G45: 7053 | H45: 1336 | I45: 3351 | N45: 0 | O45: =SUM(E45:N45) -> 35007 | Q45: =E45/O45 -> 0.47076299 | R45: =F45/O45 -> 0.19387551 | S45: =G45/O45 -> 0.20147399 | T45: =H45/O45 -> 0.038163796 | U45: =I45/O45 -> 0.095723712 | V45: =J45/O45 -> 0 | W45: =K45/O45 -> 0 | X45: =L45/O45 -> 0 | Y45: =M45/O45 -> 0 | Z45: =N45/O45 -> 0
A46: Nottingham South | B46: NTT | C46: East M | D46: England | E46: 15579 | F46: 5285 | G46: 4936 | H46: 2059 | I46: 2923 | L46: 1496 | N46: 601 | O46: =SUM(E46:N46) -> 32879 | Q46: =E46/O46 -> 0.47382828 | R46: =F46/O46 -> 0.1607409 | S46: =G46/O46 -> 0.15012622 | T46: =H46/O46 -> 0.062623559 | U46: =I46/O46 -> 0.088901731 | V46: =J46/O46 -> 0 | W46: =K46/O46 -> 0 | X46: =L46/O46 -> 0.045500167 | Y46: =M46/O46 -> 0 | Z46: =N46/O46 -> 0.018279145
A47: Rushcliffe | B47: NTT | C47: East M | D47: England | E47: 25291 | F47: 17865 | G47: 6353 | H47: 3133 | I47: 4367 | K47: 549 | N47: 186 | O47: =SUM(E47:N47) -> 57744 | Q47: =E47/O47 -> 0.4379849 | R47: =F47/O47 -> 0.30938279 | S47: =G47/O47 -> 0.11002009 | T47: =H47/O47 -> 0.054256719 | U47: =I47/O47 -> 0.075626905 | V47: =J47/O47 -> 0 | W47: =K47/O47 -> 0.0095074813 | X47: =L47/O47 -> 0 | Y47: =M47/O47 -> 0 | Z47: =N47/O47 -> 0.0032211139
A48: Sherwood Forest | B48: NTT | C48: East M | D48: England | E48: 18841 | F48: 13398 | G48: 11320 | H48: 1838 | I48: 2216 | K48: 864 | N48: 183 | O48: =SUM(E48:N48) -> 48660 | Q48: =E48/O48 -> 0.38719688 | R48: =F48/O48 -> 0.27533909 | S48: =G48/O48 -> 0.23263461 | T48: =H48/O48 -> 0.037772298 | U48: =I48/O48 -> 0.045540485 | V48: =J48/O48 -> 0 | W48: =K48/O48 -> 0.017755857 | X48: =L48/O48 -> 0 | Y48: =M48/O48 -> 0 | Z48: =N48/O48 -> 0.0037607891
A49: Bedford | B49: BDF | C49: Eastern | D49: England | E49: 18342 | F49: 8912 | G49: 4548 | H49: 4025 | I49: 2394 | K49: 1442 | L49: 996 | N49: 0 | O49: =SUM(E49:N49) -> 40659 | Q49: =E49/O49 -> 0.45111783 | R49: =F49/O49 -> 0.21918886 | S49: =G49/O49 -> 0.11185715 | T49: =H49/O49 -> 0.098994073 | U49: =I49/O49 -> 0.058879953 | V49: =J49/O49 -> 0 | W49: =K49/O49 -> 0.035465703 | X49: =L49/O49 -> 0.024496421 | Y49: =M49/O49 -> 0 | Z49: =N49/O49 -> 0
A50: Dunstable and Leighton Buzzard | B50: BDF | C50: Eastern | D50: England | E50: 14976 | F50: 14309 | G50: 8071 | H50: 6497 | I50: 2115 | N50: 77 | O50: =SUM(E50:N50) -> 46045 | Q50: =E50/O50 -> 0.32524704 | R50: =F50/O50 -> 0.31076121 | S50: =G50/O50 -> 0.17528505 | T50: =H50/O50 -> 0.1411011 | U50: =I50/O50 -> 0.045933326 | V50: =J50/O50 -> 0 | W50: =K50/O50 -> 0 | X50: =L50/O50 -> 0 | Y50: =M50/O50 -> 0 | Z50: =N50/O50 -> 0.0016722771
A51: Luton North | B51: BDF | C51: Eastern | D51: England | E51: 14677 | F51: 7167 | G51: 4666 | H51: 1890 | I51: 1940 | K51: 4392 | L51: 3914 | N51: 98 | O51: =SUM(E51:N51) -> 38744 | Q51: =E51/O51 -> 0.37881995 | R51: =F51/O51 -> 0.18498348 | S51: =G51/O51 -> 0.12043155 | T51: =H51/O51 -> 0.048781747 | U51: =I51/O51 -> 0.050072269 | V51: =J51/O51 -> 0 | W51: =K51/O51 -> 0.11335949 | X51: =L51/O51 -> 0.10102209 | Y51: =M51/O51 -> 0 | Z51: =N51/O51 -> 0.0025294239
A52: Luton South and South Bedfordshire | B52: BDF | C52: Eastern | D52: England | E52: 13593 | F52: 6735 | G52: 4759 | H52: 2400 | I52: 2401 | K52: 5384 | L52: 3110 | N52: 0 | O52: =SUM(E52:N52) -> 38382 | Q52: =E52/O52 -> 0.35415038 | R52: =F52/O52 -> 0.17547288 | S52: =G52/O52 -> 0.12399041 | T52: =H52/O52 -> 0.062529311 | U52: =I52/O52 -> 0.062555364 | V52: =J52/O52 -> 0 | W52: =K52/O52 -> 0.14027409 | X52: =L52/O52 -> 0.081027565 | Y52: =M52/O52 -> 0 | Z52: =N52/O52 -> 0
A53: Mid Bedfordshire | B53: BDF | C53: Eastern | D53: England | E53: 15591 | F53: 16912 | G53: 8594 | H53: 4068 | I53: 2584 | K53: 1700 | N53: 1072 | O53: =SUM(E53:N53) -> 50521 | Q53: =E53/O53 -> 0.30860434 | R53: =F53/O53 -> 0.33475189 | S53: =G53/O53 -> 0.17010748 | T53: =H53/O53 -> 0.080520971 | U53: =I53/O53 -> 0.051147048 | V53: =J53/O53 -> 0 | W53: =K53/O53 -> 0.033649374 | X53: =L53/O53 -> 0 | Y53: =M53/O53 -> 0 | Z53: =N53/O53 -> 0.021218899
A54: North Bedfordshire | B54: BDF | C54: Eastern | D54: England | E54: 14567 | F54: 19981 | G54: 8433 | H54: 5553 | I54: 3027 | N54: 0 | O54: =SUM(E54:N54) -> 51561 | Q54: =E54/O54 -> 0.28251973 | R54: =F54/O54 -> 0.38752158 | S54: =G54/O54 -> 0.16355385 | T54: =H54/O54 -> 0.10769768 | U54: =I54/O54 -> 0.058707162 | V54: =J54/O54 -> 0 | W54: =K54/O54 -> 0 | X54: =L54/O54 -> 0 | Y54: =M54/O54 -> 0 | Z54: =N54/O54 -> 0
A55: Cambridge | B55: CAM | C55: Eastern | D55: England | E55: 19614 | F55: 5073 | H55: 8536 | I55: 6842 | K55: 819 | L55: 951 | N55: 265 | O55: =SUM(E55:N55) -> 42100 | Q55: =E55/O55 -> 0.46589074 | R55: =F55/O55 -> 0.12049881 | S55: =G55/O55 -> 0 | T55: =H55/O55 -> 0.20275534 | U55: =I55/O55 -> 0.16251781 | V55: =J55/O55 -> 0 | W55: =K55/O55 -> 0.019453682 | X55: =L55/O55 -> 0.022589074 | Y55: =M55/O55 -> 0 | Z55: =N55/O55 -> 0.0062945368
A56: Ely and East Cambridgeshire | B56: CAM | C56: Eastern | D56: England | E56: 9160 | F56: 16632 | G56: 6443 | H56: 17127 | I56: 2359 | K56: 103 | N56: 545 | O56: =SUM(E56:N56) -> 52369 | Q56: =E56/O56 -> 0.17491264 | R56: =F56/O56 -> 0.31759247 | S56: =G56/O56 -> 0.1230308 | T56: =H56/O56 -> 0.32704463 | U56: =I56/O56 -> 0.045045733 | V56: =J56/O56 -> 0 | W56: =K56/O56 -> 0.0019668124 | X56: =L56/O56 -> 0 | Y56: =M56/O56 -> 0 | Z56: =N56/O56 -> 0.01040692
A57: Huntingdon | B57: CAM | C57: Eastern | D57: England | E57: 16758 | F57: 18257 | G57: 8039 | H57: 4821 | I57: 3042 | N57: 1123 | O57: =SUM(E57:N57) -> 52040 | Q57: =E57/O57 -> 0.32202152 | R57: =F57/O57 -> 0.35082629 | S57: =G57/O57 -> 0.15447733 | T57: =H57/O57 -> 0.092640277 | U57: =I57/O57 -> 0.058455035 | V57: =J57/O57 -> 0 | W57: =K57/O57 -> 0 | X57: =L57/O57 -> 0 | Y57: =M57/O57 -> 0 | Z57: =N57/O57 -> 0.021579554
A58: North East Cambridgeshire | B58: CAM | C58: Eastern | D58: England | E58: 8008 | F58: 16246 | G58: 9057 | H58: 2716 | I58: 2001 | K58: 958 | L58: 190 | N58: 0 | O58: =SUM(E58:N58) -> 39176 | Q58: =E58/O58 -> 0.20441086 | R58: =F58/O58 -> 0.41469267 | S58: =G58/O58 -> 0.23118746 | T58: =H58/O58 -> 0.06932816 | U58: =I58/O58 -> 0.05107719 | V58: =J58/O58 -> 0 | W58: =K58/O58 -> 0.024453747 | X58: =L58/O58 -> 0.0048499081 | Y58: =M58/O58 -> 0 | Z58: =N58/O58 -> 0
A59: North West Cambridgeshire | B59: CAM | C59: Eastern | D59: England | E59: 14785 | F59: 14746 | G59: 8741 | H59: 3192 | I59: 2960 | N59: 0 | O59: =SUM(E59:N59) -> 44424 | Q59: =E59/O59 -> 0.3328156 | R59: =F59/O59 -> 0.33193769 | S59: =G59/O59 -> 0.19676301 | T59: =H59/O59 -> 0.071853052 | U59: =I59/O59 -> 0.06663065 | V59: =J59/O59 -> 0 | W59: =K59/O59 -> 0 | X59: =L59/O59 -> 0 | Y59: =M59/O59 -> 0 | Z59: =N59/O59 -> 0
A60: Peterborough | B60: CAM | C60: Eastern | D60: England | E60: 13418 | F60: 13300 | G60: 5379 | H60: 1746 | I60: 2542 | K60: 211 | L60: 5051 | N60: 225 | O60: =SUM(E60:N60) -> 41872 | Q60: =E60/O60 -> 0.32045281 | R60: =F60/O60 -> 0.3176347 | S60: =G60/O60 -> 0.12846293 | T60: =H60/O60 -> 0.04169851 | U60: =I60/O60 -> 0.060708827 | V60: =J60/O60 -> 0 | W60: =K60/O60 -> 0.005039167 | X60: =L60/O60 -> 0.12062954 | Y60: =M60/O60 -> 0 | Z60: =N60/O60 -> 0.0053735193
A61: South Cambridgeshire | B61: CAM | C61: Eastern | D61: England | E61: 6106 | F61: 15063 | G61: 4897 | H61: 25704 | I61: 2656 | K61: 459 | N61: 0 | O61: =SUM(E61:N61) -> 54885 | Q61: =E61/O61 -> 0.1112508 | R61: =F61/O61 -> 0.27444657 | S61: =G61/O61 -> 0.089222921 | T61: =H61/O61 -> 0.46832468 | U61: =I61/O61 -> 0.048392093 | V61: =J61/O61 -> 0 | W61: =K61/O61 -> 0.0083629407 | X61: =L61/O61 -> 0 | Y61: =M61/O61 -> 0 | Z61: =N61/O61 -> 0
A62: St Neots and Mid Cambridgeshire | B62: CAM | C62: Eastern | D62: England | E62: 6918 | F62: 14896 | G62: 5673 | H62: 19517 | I62: 2663 | K62: 2941 | N62: 274 | O62: =SUM(E62:N62) -> 52882 | Q62: =E62/O62 -> 0.13081956 | R62: =F62/O62 -> 0.28168375 | S62: =G62/O62 -> 0.10727658 | T62: =H62/O62 -> 0.36906698 | U62: =I62/O62 -> 0.050357399 | V62: =J62/O62 -> 0 | W62: =K62/O62 -> 0.055614387 | X62: =L62/O62 -> 0 | Y62: =M62/O62 -> 0 | Z62: =N62/O62 -> 0.0051813472
A63: Basildon and Billericay | B63: ESS | C63: Eastern | D63: England | E63: 12885 | F63: 12905 | G63: 11354 | H63: 2292 | I63: 2123 | N63: 565 | O63: =SUM(E63:N63) -> 42124 | Q63: =E63/O63 -> 0.30588263 | R63: =F63/O63 -> 0.30635742 | S63: =G63/O63 -> 0.26953756 | T63: =H63/O63 -> 0.054410787 | U63: =I63/O63 -> 0.050398823 | V63: =J63/O63 -> 0 | W63: =K63/O63 -> 0 | X63: =L63/O63 -> 0 | Y63: =M63/O63 -> 0 | Z63: =N63/O63 -> 0.013412781
A64: Braintree | B64: ESS | C64: Eastern | D64: England | E64: 13744 | F64: 17414 | G64: 11346 | H64: 2879 | I64: 2878 | K64: 767 | N64: 0 | O64: =SUM(E64:N64) -> 49028 | Q64: =E64/O64 -> 0.28032961 | R64: =F64/O64 -> 0.35518479 | S64: =G64/O64 -> 0.23141878 | T64: =H64/O64 -> 0.058721547 | U64: =I64/O64 -> 0.05870115 | V64: =J64/O64 -> 0 | W64: =K64/O64 -> 0.015644122 | X64: =L64/O64 -> 0 | Y64: =M64/O64 -> 0 | Z64: =N64/O64 -> 0
A65: Brentwood and Ongar | B65: ESS | C65: Eastern | D65: England | E65: 11082 | F65: 17731 | G65: 11751 | H65: 5809 | I65: 1770 | N65: 189 | O65: =SUM(E65:N65) -> 48332 | Q65: =E65/O65 -> 0.22928908 | R65: =F65/O65 -> 0.3668584 | S65: =G65/O65 -> 0.24313084 | T65: =H65/O65 -> 0.12018952 | U65: =I65/O65 -> 0.0366217 | V65: =J65/O65 -> 0 | W65: =K65/O65 -> 0 | X65: =L65/O65 -> 0 | Y65: =M65/O65 -> 0 | Z65: =N65/O65 -> 0.0039104527
A66: Castle Point | B66: ESS | C66: Eastern | D66: England | E66: 9455 | F66: 15485 | G66: 12234 | H66: 1341 | I66: 2118 | N66: 0 | O66: =SUM(E66:N66) -> 40633 | Q66: =E66/O66 -> 0.23269264 | R66: =F66/O66 -> 0.38109418 | S66: =G66/O66 -> 0.30108532 | T66: =H66/O66 -> 0.033002732 | U66: =I66/O66 -> 0.05212512 | V66: =J66/O66 -> 0 | W66: =K66/O66 -> 0 | X66: =L66/O66 -> 0 | Y66: =M66/O66 -> 0 | Z66: =N66/O66 -> 0
A67: Chelmsford | B67: ESS | C67: Eastern | D67: England | E67: 6108 | F67: 15461 | G67: 6754 | H67: 20214 | I67: 1588 | K67: 69 | L67: 105 | N67: 417 | O67: =SUM(E67:N67) -> 50716 | Q67: =E67/O67 -> 0.12043537 | R67: =F67/O67 -> 0.30485448 | S67: =G67/O67 -> 0.13317296 | T67: =H67/O67 -> 0.39857244 | U67: =I67/O67 -> 0.031311618 | V67: =J67/O67 -> 0 | W67: =K67/O67 -> 0.0013605174 | X67: =L67/O67 -> 0.0020703526 | Y67: =M67/O67 -> 0 | Z67: =N67/O67 -> 0.0082222573
A68: Clacton | B68: ESS | C68: Eastern | D68: England | E68: 7448 | F68: 12820 | G68: 21225 | H68: 2016 | I68: 1935 | K68: 317 | N68: 197 | O68: =SUM(E68:N68) -> 45958 | Q68: =E68/O68 -> 0.16206101 | R68: =F68/O68 -> 0.27895035 | S68: =G68/O68 -> 0.46183472 | T68: =H68/O68 -> 0.043866139 | U68: =I68/O68 -> 0.04210366 | V68: =J68/O68 -> 0 | W68: =K68/O68 -> 0.0068976022 | X68: =L68/O68 -> 0 | Y68: =M68/O68 -> 0 | Z68: =N68/O68 -> 0.0042865225
A69: Colchester | B69: ESS | C69: Eastern | D69: England | E69: 18804 | F69: 10554 | G69: 6664 | H69: 6393 | I69: 2414 | N69: 74 | O69: =SUM(E69:N69) -> 44903 | Q69: =E69/O69 -> 0.41876935 | R69: =F69/O69 -> 0.23503998 | S69: =G69/O69 -> 0.14840879 | T69: =H69/O69 -> 0.14237356 | U69: =I69/O69 -> 0.053760328 | V69: =J69/O69 -> 0 | W69: =K69/O69 -> 0 | X69: =L69/O69 -> 0 | Y69: =M69/O69 -> 0 | Z69: =N69/O69 -> 0.0016479968
A70: Epping Forest | B70: ESS | C70: Eastern | D70: England | E70: 12356 | F70: 18038 | H70: 5268 | I70: 2486 | K70: 3037 | N70: 568 | O70: =SUM(E70:N70) -> 41753 | Q70: =E70/O70 -> 0.29593083 | R70: =F70/O70 -> 0.43201686 | S70: =G70/O70 -> 0 | T70: =H70/O70 -> 0.12617057 | U70: =I70/O70 -> 0.059540632 | V70: =J70/O70 -> 0 | W70: =K70/O70 -> 0.072737288 | X70: =L70/O70 -> 0 | Y70: =M70/O70 -> 0 | Z70: =N70/O70 -> 0.013603813
A71: Harlow | B71: ESS | C71: Eastern | D71: England | E71: 16313 | F71: 13809 | G71: 9461 | H71: 1350 | I71: 2267 | N71: 157 | O71: =SUM(E71:N71) -> 43357 | Q71: =E71/O71 -> 0.37624836 | R71: =F71/O71 -> 0.31849528 | S71: =G71/O71 -> 0.21821159 | T71: =H71/O71 -> 0.031136841 | U71: =I71/O71 -> 0.052286828 | V71: =J71/O71 -> 0 | W71: =K71/O71 -> 0 | X71: =L71/O71 -> 0 | Y71: =M71/O71 -> 0 | Z71: =N71/O71 -> 0.0036210992
A72: Harwich and North Essex | B72: ESS | C72: Eastern | D72: England | E72: 15360 | F72: 16522 | G72: 9806 | H72: 3561 | I72: 2794 | N72: 0 | O72: =SUM(E72:N72) -> 48043 | Q72: =E72/O72 -> 0.31971359 | R72: =F72/O72 -> 0.34390026 | S72: =G72/O72 -> 0.20410882 | T72: =H72/O72 -> 0.0741211 | U72: =I72/O72 -> 0.058156235 | V72: =J72/O72 -> 0 | W72: =K72/O72 -> 0 | X72: =L72/O72 -> 0 | Y72: =M72/O72 -> 0 | Z72: =N72/O72 -> 0
A73: Maldon | B73: ESS | C73: Eastern | D73: England | E73: 9817 | F73: 19374 | G73: 12468 | H73: 5882 | I73: 2300 | N73: 0 | O73: =SUM(E73:N73) -> 49841 | Q73: =E73/O73 -> 0.19696635 | R73: =F73/O73 -> 0.38871612 | S73: =G73/O73 -> 0.25015549 | T73: =H73/O73 -> 0.11801529 | U73: =I73/O73 -> 0.046146747 | V73: =J73/O73 -> 0 | W73: =K73/O73 -> 0 | X73: =L73/O73 -> 0 | Y73: =M73/O73 -> 0 | Z73: =N73/O73 -> 0
A74: North West Essex | B74: ESS | C74: Eastern | D74: England | E74: 16750 | F74: 19360 | G74: 7668 | H74: 6055 | I74: 2846 | K74: 852 | N74: 855 | O74: =SUM(E74:N74) -> 54386 | Q74: =E74/O74 -> 0.30798367 | R74: =F74/O74 -> 0.35597396 | S74: =G74/O74 -> 0.14099217 | T74: =H74/O74 -> 0.1113338 | U74: =I74/O74 -> 0.052329644 | V74: =J74/O74 -> 0 | W74: =K74/O74 -> 0.015665796 | X74: =L74/O74 -> 0 | Y74: =M74/O74 -> 0 | Z74: =N74/O74 -> 0.015720958
A75: Rayleigh and Wickford | B75: ESS | C75: Eastern | D75: England | E75: 11823 | F75: 17756 | G75: 12135 | H75: 4068 | I75: 2196 | N75: 0 | O75: =SUM(E75:N75) -> 47978 | Q75: =E75/O75 -> 0.24642544 | R75: =F75/O75 -> 0.37008629 | S75: =G75/O75 -> 0.25292843 | T75: =H75/O75 -> 0.084788862 | U75: =I75/O75 -> 0.045770978 | V75: =J75/O75 -> 0 | W75: =K75/O75 -> 0 | X75: =L75/O75 -> 0 | Y75: =M75/O75 -> 0 | Z75: =N75/O75 -> 0
A76: South Basildon and East Thurrock | B76: ESS | C76: Eastern | D76: England | E76: 12080 | F76: 10159 | G76: 12178 | H76: 1071 | I76: 1718 | K76: 1928 | N76: 415 | O76: =SUM(E76:N76) -> 39549 | Q76: =E76/O76 -> 0.30544388 | R76: =F76/O76 -> 0.25687122 | S76: =G76/O76 -> 0.30792182 | T76: =H76/O76 -> 0.027080331 | U76: =I76/O76 -> 0.043439784 | V76: =J76/O76 -> 0 | W76: =K76/O76 -> 0.048749652 | X76: =L76/O76 -> 0 | Y76: =M76/O76 -> 0 | Z76: =N76/O76 -> 0.010493312
A77: Southend East and Rochford | B77: ESS | C77: Eastern | D77: England | E77: 15395 | F77: 11316 | G77: 7214 | H77: 2269 | I77: 2716 | N77: 694 | O77: =SUM(E77:N77) -> 39604 | Q77: =E77/O77 -> 0.38872336 | R77: =F77/O77 -> 0.28572871 | S77: =G77/O77 -> 0.18215332 | T77: =H77/O77 -> 0.057292193 | U77: =I77/O77 -> 0.068578931 | V77: =J77/O77 -> 0 | W77: =K77/O77 -> 0 | X77: =L77/O77 -> 0 | Y77: =M77/O77 -> 0 | Z77: =N77/O77 -> 0.017523482
A78: Southend West and Leigh | B78: ESS | C78: Eastern | D78: England | E78: 16739 | F78: 14790 | G78: 8273 | H78: 3174 | I78: 3262 | K78: 172 | N78: 558 | O78: =SUM(E78:N78) -> 46968 | Q78: =E78/O78 -> 0.35639159 | R78: =F78/O78 -> 0.31489525 | S78: =G78/O78 -> 0.1761412 | T78: =H78/O78 -> 0.067577925 | U78: =I78/O78 -> 0.069451541 | V78: =J78/O78 -> 0 | W78: =K78/O78 -> 0.0036620678 | X78: =L78/O78 -> 0 | Y78: =M78/O78 -> 0 | Z78: =N78/O78 -> 0.011880429
A79: Thurrock | B79: ESS | C79: Eastern | D79: England | E79: 16050 | F79: 8009 | G79: 9576 | H79: 1157 | I79: 1632 | K79: 443 | L79: 691 | N79: 0 | O79: =SUM(E79:N79) -> 37558 | Q79: =E79/O79 -> 0.42733905 | R79: =F79/O79 -> 0.21324352 | S79: =G79/O79 -> 0.25496565 | T79: =H79/O79 -> 0.030805687 | U79: =I79/O79 -> 0.043452793 | V79: =J79/O79 -> 0 | W79: =K79/O79 -> 0.01179509 | X79: =L79/O79 -> 0.018398211 | Y79: =M79/O79 -> 0 | Z79: =N79/O79 -> 0
A80: Witham | B80: ESS | C80: Eastern | D80: England | E80: 13682 | F80: 18827 | G80: 9870 | H80: 3439 | I80: 3539 | K80: 1246 | N80: 0 | O80: =SUM(E80:N80) -> 50603 | Q80: =E80/O80 -> 0.27037923 | R80: =F80/O80 -> 0.37205304 | S80: =G80/O80 -> 0.19504772 | T80: =H80/O80 -> 0.067960398 | U80: =I80/O80 -> 0.069936565 | V80: =J80/O80 -> 0 | W80: =K80/O80 -> 0.024623046 | X80: =L80/O80 -> 0 | Y80: =M80/O80 -> 0 | Z80: =N80/O80 -> 0
A81: Broxbourne | B81: HRT | C81: Eastern | D81: England | E81: 12952 | F81: 15810 | G81: 8782 | H81: 2688 | I81: 2461 | N81: 259 | O81: =SUM(E81:N81) -> 42952 | Q81: =E81/O81 -> 0.30154591 | R81: =F81/O81 -> 0.3680853 | S81: =G81/O81 -> 0.20446079 | T81: =H81/O81 -> 0.062581486 | U81: =I81/O81 -> 0.057296517 | V81: =J81/O81 -> 0 | W81: =K81/O81 -> 0 | X81: =L81/O81 -> 0 | Y81: =M81/O81 -> 0 | Z81: =N81/O81 -> 0.006029987
A82: Harpenden and Berkhamsted | B82: HRT | C82: Eastern | D82: England | E82: 4061 | F82: 16574 | G82: 4245 | H82: 27282 | I82: 1951 | N82: 223 | O82: =SUM(E82:N82) -> 54336 | Q82: =E82/O82 -> 0.074738663 | R82: =F82/O82 -> 0.30502797 | S82: =G82/O82 -> 0.078125 | T82: =H82/O82 -> 0.50209806 | U82: =I82/O82 -> 0.035906213 | V82: =J82/O82 -> 0 | W82: =K82/O82 -> 0 | X82: =L82/O82 -> 0 | Y82: =M82/O82 -> 0 | Z82: =N82/O82 -> 0.0041040931
A83: Hemel Hempstead | B83: HRT | C83: Eastern | D83: England | E83: 16844 | F83: 11987 | G83: 7689 | H83: 5096 | I83: 2492 | N83: 0 | O83: =SUM(E83:N83) -> 44108 | Q83: =E83/O83 -> 0.38188084 | R83: =F83/O83 -> 0.27176476 | S83: =G83/O83 -> 0.17432212 | T83: =H83/O83 -> 0.1155346 | U83: =I83/O83 -> 0.056497687 | V83: =J83/O83 -> 0 | W83: =K83/O83 -> 0 | X83: =L83/O83 -> 0 | Y83: =M83/O83 -> 0 | Z83: =N83/O83 -> 0
A84: Hertford and Stortford | B84: HRT | C84: Eastern | D84: England | E84: 20808 | F84: 16060 | G84: 8325 | H84: 4167 | I84: 4373 | N84: 276 | O84: =SUM(E84:N84) -> 54009 | Q84: =E84/O84 -> 0.38526912 | R84: =F84/O84 -> 0.29735785 | S84: =G84/O84 -> 0.15414098 | T84: =H84/O84 -> 0.077153808 | U84: =I84/O84 -> 0.080967987 | V84: =J84/O84 -> 0 | W84: =K84/O84 -> 0 | X84: =L84/O84 -> 0 | Y84: =M84/O84 -> 0 | Z84: =N84/O84 -> 0.0051102594
A85: Hertsmere | B85: HRT | C85: Eastern | D85: England | E85: 13459 | F85: 21451 | G85: 6584 | H85: 3710 | I85: 2267 | K85: 536 | N85: 0 | O85: =SUM(E85:N85) -> 48007 | Q85: =E85/O85 -> 0.28035495 | R85: =F85/O85 -> 0.44683067 | S85: =G85/O85 -> 0.13714667 | T85: =H85/O85 -> 0.077280397 | U85: =I85/O85 -> 0.04722228 | V85: =J85/O85 -> 0 | W85: =K85/O85 -> 0.011165038 | X85: =L85/O85 -> 0 | Y85: =M85/O85 -> 0 | Z85: =N85/O85 -> 0
A86: Hitchin | B86: HRT | C86: Eastern | D86: England | E86: 23067 | F86: 14958 | G86: 6760 | H86: 4913 | I86: 2631 | N86: 181 | O86: =SUM(E86:N86) -> 52510 | Q86: =E86/O86 -> 0.43928775 | R86: =F86/O86 -> 0.28486003 | S86: =G86/O86 -> 0.12873738 | T86: =H86/O86 -> 0.093563131 | U86: =I86/O86 -> 0.050104742 | V86: =J86/O86 -> 0 | W86: =K86/O86 -> 0 | X86: =L86/O86 -> 0 | Y86: =M86/O86 -> 0 | Z86: =N86/O86 -> 0.0034469625
A87: North East Hertfordshire | B87: HRT | C87: Eastern | D87: England | E87: 18358 | F87: 16435 | G87: 8463 | H87: 5462 | I87: 3802 | N87: 0 | O87: =SUM(E87:N87) -> 52520 | Q87: =E87/O87 -> 0.34954303 | R87: =F87/O87 -> 0.31292841 | S87: =G87/O87 -> 0.16113861 | T87: =H87/O87 -> 0.10399848 | U87: =I87/O87 -> 0.07239147 | V87: =J87/O87 -> 0 | W87: =K87/O87 -> 0 | X87: =L87/O87 -> 0 | Y87: =M87/O87 -> 0 | Z87: =N87/O87 -> 0
A88: South West Hertfordshire | B88: HRT | C88: Eastern | D88: England | E88: 9637 | F88: 16458 | G88: 6790 | H88: 12002 | I88: 2532 | N88: 835 | O88: =SUM(E88:N88) -> 48254 | Q88: =E88/O88 -> 0.19971401 | R88: =F88/O88 -> 0.34107017 | S88: =G88/O88 -> 0.14071372 | T88: =H88/O88 -> 0.24872549 | U88: =I88/O88 -> 0.052472334 | V88: =J88/O88 -> 0 | W88: =K88/O88 -> 0 | X88: =L88/O88 -> 0 | Y88: =M88/O88 -> 0 | Z88: =N88/O88 -> 0.017304265
A89: St Albans | B89: HRT | C89: Eastern | D89: England | E89: 5189 | F89: 9388 | G89: 4336 | H89: 29222 | I89: 3273 | N89: 207 | O89: =SUM(E89:N89) -> 51615 | Q89: =E89/O89 -> 0.10053279 | R89: =F89/O89 -> 0.18188511 | S89: =G89/O89 -> 0.084006587 | T89: =H89/O89 -> 0.56615325 | U89: =I89/O89 -> 0.063411799 | V89: =J89/O89 -> 0 | W89: =K89/O89 -> 0 | X89: =L89/O89 -> 0 | Y89: =M89/O89 -> 0 | Z89: =N89/O89 -> 0.0040104621
A90: Stevenage | B90: HRT | C90: Eastern | D90: England | E90: 17698 | F90: 11080 | G90: 7667 | H90: 3467 | I90: 2655 | N90: 148 | O90: =SUM(E90:N90) -> 42715 | Q90: =E90/O90 -> 0.41432752 | R90: =F90/O90 -> 0.25939366 | S90: =G90/O90 -> 0.17949198 | T90: =H90/O90 -> 0.081165867 | U90: =I90/O90 -> 0.062156151 | V90: =J90/O90 -> 0 | W90: =K90/O90 -> 0 | X90: =L90/O90 -> 0 | Y90: =M90/O90 -> 0 | Z90: =N90/O90 -> 0.003464825
A91: Watford | B91: HRT | C91: Eastern | D91: England | E91: 15708 | F91: 10985 | G91: 4930 | H91: 7577 | I91: 2428 | L91: 2659 | N91: 168 | O91: =SUM(E91:N91) -> 44455 | Q91: =E91/O91 -> 0.35334608 | R91: =F91/O91 -> 0.24710381 | S91: =G91/O91 -> 0.11089866 | T91: =H91/O91 -> 0.17044202 | U91: =I91/O91 -> 0.054617028 | V91: =J91/O91 -> 0 | W91: =K91/O91 -> 0 | X91: =L91/O91 -> 0.059813294 | Y91: =M91/O91 -> 0 | Z91: =N91/O91 -> 0.0037791025
A92: Welwyn Hatfield | B92: HRT | C92: Eastern | D92: England | E92: 19877 | F92: 16078 | G92: 6397 | H92: 3117 | I92: 2986 | N92: 0 | O92: =SUM(E92:N92) -> 48455 | Q92: =E92/O92 -> 0.41021566 | R92: =F92/O92 -> 0.33181302 | S92: =G92/O92 -> 0.1320194 | T92: =H92/O92 -> 0.064327727 | U92: =I92/O92 -> 0.061624187 | V92: =J92/O92 -> 0 | W92: =K92/O92 -> 0 | X92: =L92/O92 -> 0 | Y92: =M92/O92 -> 0 | Z92: =N92/O92 -> 0
A93: Broadland and Fakenham | B93: NFK | C93: Eastern | D93: England | E93: 15603 | F93: 16322 | G93: 8859 | H93: 5526 | I93: 3202 | N93: 0 | O93: =SUM(E93:N93) -> 49512 | Q93: =E93/O93 -> 0.31513572 | R93: =F93/O93 -> 0.32965746 | S93: =G93/O93 -> 0.17892632 | T93: =H93/O93 -> 0.11160931 | U93: =I93/O93 -> 0.064671191 | V93: =J93/O93 -> 0 | W93: =K93/O93 -> 0 | X93: =L93/O93 -> 0 | Y93: =M93/O93 -> 0 | Z93: =N93/O93 -> 0
A94: Great Yarmouth | B94: NFK | C94: Eastern | D94: England | E94: 12959 | F94: 10034 | G94: 14385 | H94: 1102 | I94: 1736 | K94: 230 | N94: 302 | O94: =SUM(E94:N94) -> 40748 | Q94: =E94/O94 -> 0.31802788 | R94: =F94/O94 -> 0.24624521 | S94: =G94/O94 -> 0.35302346 | T94: =H94/O94 -> 0.027044272 | U94: =I94/O94 -> 0.042603318 | V94: =J94/O94 -> 0 | W94: =K94/O94 -> 0.0056444488 | X94: =L94/O94 -> 0 | Y94: =M94/O94 -> 0 | Z94: =N94/O94 -> 0.0074114067
A95: Mid Norfolk | B95: NFK | C95: Eastern | D95: England | E95: 13716 | F95: 16770 | G95: 9427 | H95: 3126 | I95: 2858 | N95: 0 | O95: =SUM(E95:N95) -> 45897 | Q95: =E95/O95 -> 0.29884306 | R95: =F95/O95 -> 0.36538336 | S95: =G95/O95 -> 0.20539469 | T95: =H95/O95 -> 0.068109027 | U95: =I95/O95 -> 0.062269865 | V95: =J95/O95 -> 0 | W95: =K95/O95 -> 0 | X95: =L95/O95 -> 0 | Y95: =M95/O95 -> 0 | Z95: =N95/O95 -> 0
A96: North Norfolk | B96: NFK | C96: Eastern | D96: England | E96: 2878 | F96: 16903 | G96: 6368 | H96: 19488 | I96: 1406 | N96: 0 | O96: =SUM(E96:N96) -> 47043 | Q96: =E96/O96 -> 0.061178071 | R96: =F96/O96 -> 0.35930957 | S96: =G96/O96 -> 0.13536552 | T96: =H96/O96 -> 0.41425929 | U96: =I96/O96 -> 0.02988755 | V96: =J96/O96 -> 0 | W96: =K96/O96 -> 0 | X96: =L96/O96 -> 0 | Y96: =M96/O96 -> 0 | Z96: =N96/O96 -> 0
A97: North West Norfolk | B97: NFK | C97: Eastern | D97: England | E97: 11143 | F97: 16097 | G97: 8697 | H97: 6492 | I97: 2137 | N97: 0 | O97: =SUM(E97:N97) -> 44566 | Q97: =E97/O97 -> 0.25003366 | R97: =F97/O97 -> 0.36119463 | S97: =G97/O97 -> 0.19514877 | T97: =H97/O97 -> 0.14567159 | U97: =I97/O97 -> 0.047951353 | V97: =J97/O97 -> 0 | W97: =K97/O97 -> 0 | X97: =L97/O97 -> 0 | Y97: =M97/O97 -> 0 | Z97: =N97/O97 -> 0
A98: Norwich North | B98: NFK | C98: Eastern | D98: England | E98: 20794 | F98: 9944 | G98: 8229 | H98: 2073 | I98: 4372 | K98: 353 | N98: 0 | O98: =SUM(E98:N98) -> 45765 | Q98: =E98/O98 -> 0.45436469 | R98: =F98/O98 -> 0.21728395 | S98: =G98/O98 -> 0.1798099 | T98: =H98/O98 -> 0.045296624 | U98: =I98/O98 -> 0.09553152 | V98: =J98/O98 -> 0 | W98: =K98/O98 -> 0.007713318 | X98: =L98/O98 -> 0 | Y98: =M98/O98 -> 0 | Z98: =N98/O98 -> 0
A99: Norwich South | B99: NFK | C99: Eastern | D99: England | E99: 21484 | F99: 5806 | G99: 5227 | H99: 3577 | I99: 8245 | K99: 301 | N99: 455 | O99: =SUM(E99:N99) -> 45095 | Q99: =E99/O99 -> 0.47641645 | R99: =F99/O99 -> 0.12875042 | S99: =G99/O99 -> 0.11591085 | T99: =H99/O99 -> 0.079321433 | U99: =I99/O99 -> 0.18283623 | V99: =J99/O99 -> 0 | W99: =K99/O99 -> 0.0066747976 | X99: =L99/O99 -> 0 | Y99: =M99/O99 -> 0 | Z99: =N99/O99 -> 0.01008981
A100: South Norfolk | B100: NFK | C100: Eastern | D100: England | E100: 17353 | F100: 14527 | G100: 7583 | H100: 5746 | I100: 3987 | K100: 254 | N100: 129 | O100: =SUM(E100:N100) -> 49579 | Q100: =E100/O100 -> 0.35000706 | R100: =F100/O100 -> 0.29300712 | S100: =G100/O100 -> 0.15294782 | T100: =H100/O100 -> 0.11589584 | U100: =I100/O100 -> 0.080417112 | V100: =J100/O100 -> 0 | W100: =K100/O100 -> 0.0051231368 | X100: =L100/O100 -> 0 | Y100: =M100/O100 -> 0 | Z100: =N100/O100 -> 0.0026019081
...

Sheet Regional Transition
B1: Headline figures - Great Britain
B2: Lab | C2: Con | D2: Ref | E2: Lib | F2: Grn | G2: SNP | H2: PC | I2: Ind | J2: WPB | K2: Res | L2: YP | M2: Oth | N2: Total
A3: GE2024 | B3: 0.347 | C3: 0.244 | D3: 0.147 | E3: 0.125 | F3: 0.069 | G3: 0.032 | I3: =HEADLINE!M14 -> 0.020047799 | J3: =HEADLINE!M15 -> 0.0066296949 | K3: 0 | L3: 0 | M3: =100%-H3-G3-F3-E3-D3-C3-B3-J3-I3 -> 0.009322506 | N3: 1
A4: 2024 seats | B4: 411 | C4: 121 | D4: 5 | E4: 72 | F4: 4 | G4: 9 | H4: 4 | I4: 5 | J4: 0 | K4: 0 | L4: 0 | M4: 1 | N4: =SUM(B4:M4) -> 632
A5: Poll figures ---> | B5: =HEADLINE!D5 -> 0.182 | C5: =HEADLINE!D6 -> 0.182 | D5: =HEADLINE!D7 -> 0.27 | E5: =HEADLINE!D8 -> 0.116 | F5: =HEADLINE!D9 -> 0.165 | G5: =HEADLINE!D10 -> 0.036 | I5: =HEADLINE!D14 -> 0.009457 | J5: =HEADLINE!D15 -> 0.000833 | K5: =HEADLINE!D12 -> 0.032666667 | L5: =HEADLINE!D13 -> 0.0032666667 | M5: =100%-H5-G5-F5-E5-D5-C5-B5-J5-I5-L5-K5 -> 0.0027766667
A6: +/- | B6: =B5-B3 -> -0.165 | C6: =C5-C3 -> -0.062 | D6: =D5-D3 -> 0.123 | E6: =E5-E3 -> -0.009 | F6: =F5-F3 -> 0.096 | G6: =G5-G3 -> 0.004 | I6: =I5-I3 -> -0.010590799 | J6: =J5-J3 -> -0.0057966949 | K6: =K5 -> 0.032666667 | L6: =L5 -> 0.0032666667 | M6: =M5-M3 -> -0.0065458394
A7: Parties gaining votes | B7: =IF(B6>0%,B6,0%) -> 0 | C7: =IF(C6>0%,C6,0%) -> 0 | D7: =IF(D6>0%,D6,0%) -> 0.123 | E7: =IF(E6>0%,E6,0%) -> 0 | F7: =IF(F6>0%,F6,0%) -> 0.096 | G7: =IF(G6>0%,G6,0%) -> 0.004 | I7: =IF(I6>0%,I6,0%) -> 0 | J7: =IF(J6>0%,J6,0%) -> 0 | K7: =IF(K6>0%,K6,0%) -> 0.032666667 | L7: =IF(L6>0%,L6,0%) -> 0.0032666667 | M7: =IF(M6>0%,M6,0%) -> 0 | N7: =G7+B7+F7+E7+D7+C7+I7+J7+H7+M7+K7+L7 -> 0.25893333
A8: Share of gain | B8: =-B7/N9 -> 0 | C8: =-C7/N9 -> 0 | D8: =-D7/N9 -> 0.47502575 | E8: =-E7/N9 -> 0 | F8: =-F7/N9 -> 0.3707518 | G8: =-G7/N9 -> 0.015447992 | I8: =-I7/N9 -> 0 | J8: =-J7/N9 -> 0 | K8: =-K7/N9 -> 0.1261586 | L8: =-L7/N9 -> 0.01261586 | M8: =-M7/N9 -> 0
A9: Parties losing votes | B9: =IF(B6<0%,B6,0%) -> -0.165 | C9: =IF(C6<0%,C6,0%) -> -0.062 | D9: =IF(D6<0%,D6,0%) -> 0 | E9: =IF(E6<0%,E6,0%) -> -0.009 | F9: =IF(F6<0%,F6,0%) -> 0 | G9: =IF(G6<0%,G6,0%) -> 0 | I9: =IF(I6<0%,I6,0%) -> -0.010590799 | J9: =IF(J6<0%,J6,0%) -> -0.0057966949 | K9: =IF(K6<0%,K6,0%) -> 0 | L9: =IF(L6<0%,L6,0%) -> 0 | M9: =IF(M6<0%,M6,0%) -> -0.0065458394 | N9: =G9+B9+F9+E9+D9+C9+I9+J9+H9+M9 -> -0.25893333
A10: Ratio lost | B10: =IF(B6<0%,(B6/B3),0%) -> -0.47550432 | C10: =IF(C6<0%,(C6/C3),0%) -> -0.25409836 | D10: =IF(D6<0%,(D6/D3),0%) -> 0 | E10: =IF(E6<0%,(E6/E3),0%) -> -0.072 | F10: =IF(F6<0%,(F6/F3),0%) -> 0 | G10: =IF(G6<0%,(G6/G3),0%) -> 0 | I10: =IF(I6<0%,(I6/I3),0%) -> -0.5282774 | J10: =IF(J6<0%,(J6/J3),0%) -> -0.87435319 | K10: =IF(K6<0%,(K6/K3),0%) -> 0 | L10: =IF(L6<0%,(L6/L3),0%) -> 0 | M10: =IF(M6<0%,(M6/M3),0%) -> -0.70215448
A12: Seats won | B12: ='ENGLAND GE2029'!E1+'SCOTLAND GE2029'!B1+'WALES GE2029'!B1 -> 47 | C12: ='ENGLAND GE2029'!F1+'SCOTLAND GE2029'!C1+'WALES GE2029'!C1 -> 48 | D12: ='ENGLAND GE2029'!G1+'SCOTLAND GE2029'!D1+'WALES GE2029'!D1 -> 331 | E12: ='ENGLAND GE2029'!H1+'SCOTLAND GE2029'!E1+'WALES GE2029'!E1 -> 78 | F12: ='ENGLAND GE2029'!I1+'SCOTLAND GE2029'!F1+'WALES GE2029'!F1 -> 67 | G12: ='SCOTLAND GE2029'!I1 -> 47 | H12: ='WALES GE2029'!I1 -> 7 | I12: ='ENGLAND GE2029'!J1+'SCOTLAND GE2029'!G1+'WALES GE2029'!G1 -> 2 | J12: ='ENGLAND GE2029'!K1+'SCOTLAND GE2029'!H1+'WALES GE2029'!H1 -> 0 | K12: ='ENGLAND GE2029'!L1 -> 0 | L12: ='ENGLAND GE2029'!M1 -> 4 | M12: ='ENGLAND GE2029'!N1+'SCOTLAND GE2029'!J1+'WALES GE2029'!J1 -> 1
A13: % of seats | B13: =B12/650 -> 0.072307692 | C13: =C12/650 -> 0.073846154 | D13: =D12/650 -> 0.50923077 | E13: =E12/650 -> 0.12 | F13: =F12/650 -> 0.10307692 | G13: =G12/650 -> 0.072307692 | H13: =H12/650 -> 0.010769231 | I13: =I12/650 -> 0.0030769231 | ... M13: =M12/650 -> 0.0015384615
A14: +/- | B14: =B12-B4 -> -364 | C14: =C12-C4 -> -73 | D14: =D12-D4 -> 326 | E14: =E12-E4 -> 6 | F14: =F12-F4 -> 63 | G14: =G12-G4 -> 38 | H14: =H12-H4 -> 3 | I14: =I12-I4 -> -3 | ... M14: =M12-M4 -> 0
B17: ENGLAND | P17: =B17 -> ENGLAND
B18: Lab | C18: Con | D18: Ref | E18: Lib | F18: Grn | G18: Ind | H18: WPB | I18: Res | J18: YP | K18: Oth | L18: Total | P18: Lab | Q18: Con | R18: Ref | S18: Lib | T18: Grn | U18: Ind | V18: WPB | W18: Res | X18: YP | Y18: Oth
A19: Great Britain +/- | B19: =B6 -> -0.165 | C19: =C6 -> -0.062 | D19: =D6 -> 0.123 | E19: =E6 -> -0.009 | F19: =F6 -> 0.096 | G19: =I6 -> -0.010590799 | H19: =J6 -> -0.0057966949 | I19: =K6 -> 0.032666667 | J19: =L6 -> 0.0032666667 | K19: =G6+M6 -> -0.0025458394 | L19: 24272432 | P19: =B21*L21 -> 8325444.2 | Q19: =C21*L21 -> 6286559.9 | R19: =D21*L21 -> 3713682.1 | S19: =E21*L21 -> 3203961 | T19: =F21*L21 -> 1771887.5 | U19: =G21*L21 -> 509721.07 | V19: =H21*L21 -> 218451.89 | W19: 0 | X19: 0 | Y19: =K21*L21 -> 242724.32
A20: GE2024 result (votes) | B20: 8325444.2 | C20: 6286559.9 | D20: 3713682.1 | E20: 3203961 | F20: 1771887.5 | G20: 509721.07 | H20: 218451.89 | I20: 0 | J20: 0 | K20: 242724.32
A21: GE2024 result (%) | B21: 0.343 | C21: 0.259 | D21: 0.153 | E21: 0.132 | F21: 0.073 | G21: 0.021 | H21: 0.009 | I21: 0 | J21: 0 | K21: =100%-I21-H21-G21-F21-E21-C21-D21-B21-J21 -> 0.01 | L21: 24272432
A22: Ratio lost | B22: =B10 -> -0.47550432 | C22: =C10 -> -0.25409836 | D22: =D10 -> 0 | E22: =E10 -> -0.072 | F22: =F10 -> 0 | G22: =I10 -> -0.5282774 | H22: =J10 -> -0.87435319 | I22: =K10 -> 0 | J22: =L10 -> 0 | K22: =M10 -> -0.70215448
A23: Vote totals lost | B23: =B22*B20 -> -3958784.7 | C23: =C22*C20 -> -1597404.6 | D23: =D22*D20 -> 0 | E23: =E22*E20 -> -230685.19 | F23: =F22*F20 -> 0 | G23: =G22*G20 -> -269274.12 | H23: =H22*H20 -> -191004.11 | I23: =I22*I20 -> 0 | ... K23: =K22*K20 -> -170429.97 | L23: =SUM(B23:K23) -> -6417582.6
A24: Parties gaining votes | B24: =-B8*L23 -> 0 | C24: =-C8*L23 -> 0 | D24: =-D8*L23 -> 3048517 | E24: =-E8*L23 -> 0 | F24: =-F8*L23 -> 2379330.3 | G24: =-I8*L23 -> 0 | H24: =-J8*L23 -> 0 | I24: =-K8*L23 -> 809633.24 | J24: =-L8*L23 -> 80963.324 | K24: =-M8*L23 -> 0 | L24: =SUM(B24:K24) -> 6318443.9
A25: Share of gain | B25: =B24/L24 -> 0 | C25: =C24/L24 -> 0 | D25: =D24/L24 -> 0.48247908 | E25: =E24/L24 -> 0 | F25: =F24/L24 -> 0.37656904 | G25: =G24/L24 -> 0 | H25: =H24/L24 -> 0 | I25: =I24/L24 -> 0.12813808 | J25: =J24/L24 -> 0.012813808 | K25: =K24/L24 -> 0 | P25: =B27*L27 -> 4366659.5 | Q25: =C27*L27 -> 4689155.3 | R25: =D27*L27 -> 6762199.1 | S25: =E27*L27 -> 2973275.8 | T25: =F27*L27 -> 4151217.9 | U25: =G27*L27 -> 240446.95 | V25: =H27*L27 -> 27447.782 | W25: =I27*L27 -> 809633.24 | X25: =J27*L27 -> 80963.324 | Y25: =K27*L27 -> 72294.352
A26: Estimate 2024 | B26: =B20+B23+B24 -> 4366659.5 | C26: =C20+C23+C24 -> 4689155.3 | D26: =D20+D23+D24 -> 6762199.1 | E26: =E20+E23+E24 -> 2973275.8 | F26: =F20+F23+F24 -> 4151217.9 | G26: =G20+G23+G24 -> 240446.95 | H26: =H20+H23+H24 -> 27447.782 | I26: =I20+I23+I24 -> 809633.24 | ... K26: =K20+K23+K24 -> 72294.352 | L26: =SUM(B26:K26) -> 24173293 | P26: =P25-P19 -> -3958784.7 | Q26: =Q25-Q19 -> -1597404.6 | R26: =R25-R19 -> 3048517 | S26: =S25-S19 -> -230685.19 | T26: =T25-T19 -> 2379330.3 | U26: =U25-U19 -> -269274.12 | V26: =V25-V19 -> -191004.11 | W26: =W25-W19 -> 809633.24 | ... Y26: =Y25-Y19 -> -170429.97
A27: Estimate 2024 | B27: =B26/L27 -> 0.17990202 | C27: =C26/L27 -> 0.19318852 | D27: =D26/L27 -> 0.27859586 | E27: =E26/L27 -> 0.122496 | F27: =F26/L27 -> 0.17102604 | G27: =G26/L27 -> 0.0099061747 | H27: =H26/L27 -> 0.0011308213 | I27: =I26/L27 -> 0.033356082 | J27: =J26/L27 -> 0.0033356082 | K27: =K26/L27 -> 0.0029784552 | L27: 24272432
A28: +/- | B28: =B27-B21 -> -0.16309798 | C28: =C27-C21 -> -0.065811475 | D28: =D27-D21 -> 0.12559586 | E28: =E27-E21 -> -0.009504 | F28: =F27-F21 -> 0.098026038 | G28: =G27-G21 -> -0.011093825 | H28: =H27-H21 -> -0.0078691787 | I28: =I27-I21 -> 0.033356082 | ... K28: =K27-K21 -> -0.0070215448
B30: East Midlands | P30: =B30 -> East Midlands
B31: Lab | C31: Con | D31: Ref | E31: Lib | F31: Grn | G31: Ind | H31: WPB | I31: Res | J31: YP | K31: Oth | L31: Total | P31: Lab | Q31: Con | R31: Ref | S31: Lib | T31: Grn | U31: Ind | V31: WPB | W31: Res | X31: YP | Y31: Oth
A32: GE2024 | B32: 0.35325144 | C32: 0.29365741 | D32: 0.18909672 | E32: 0.064175341 | F32: 0.062543411 | G32: 0.01924665 | H32: 0.0057918985 | I32: 0 | J32: 0 | K32: =100%-D32-C32-B32-E32-F32-H32-G32-I32-J32 -> 0.012237131 | L32: 2133670 | P32: =B32*L32 -> 753722 | Q32: =C32*L32 -> 626568 | R32: =D32*L32 -> 403470 | S32: =E32*L32 -> 136929 | T32: =F32*L32 -> 133447 | U32: =G32*L32 -> 41066 | V32: =H32*L32 -> 12358 | W32: 0 | X32: 0 | Y32: =K32*L32 -> 26110
A33: England +/- | B33: =$B$28 -> -0.16309798 | C33: =$C$28 -> -0.065811475 | D33: =$D$28 -> 0.12559586 | E33: =$E$28 -> -0.009504 | F33: =$F$28 -> 0.098026038 | G33: =$G$28 -> -0.011093825 | H33: =$H$28 -> -0.0078691787 | I33: =$I$28 -> 0.033356082 | J33: =$J$28 -> 0.0033356082 | K33: =$K$19 -> -0.0025458394
A34: Parties gaining votes | B34: =B35*-L36 -> 0 | C34: =C35*-L36 -> 0 | D34: =D35*-L36 -> 0.1307688 | E34: =E35*-L36 -> 0 | F34: =-F35*L36 -> 0.10206345 | G34: =-G35*L36 -> 0 | H34: =-H35*L36 -> 0 | I34: =-I35*L36 -> 0.034729925 | J34: =-J35*L36 -> 0.0034729925 | K34: =-K35*L36 -> 0 | L34: =K34+F34+E34+D34+C34+B34+H34+G34+I34+J34 -> 0.27103517 | P34: =IF(P39>0,P39,0) -> 0 | Q34: =IF(Q39>0,Q39,0) -> 0 | R34: =IF(R39>0,R39,0) -> 279017.46 | S34: =IF(S39>0,S39,0) -> 0 | T34: =IF(T39>0,T39,0) -> 217769.73 | U34: =IF(U39>0,U39,0) -> 0 | V34: =IF(V39>0,V39,0) -> 0 | W34: =IF(W39>0,W39,0) -> 74102.199 | ... Y34: =IF(Y39>0,Y39,0) -> 0
A35: Share of gain | B35: =B25 -> 0 | C35: =C25 -> 0 | D35: =D25 -> 0.48247908 | E35: =E25 -> 0 | F35: =F25 -> 0.37656904 | G35: =G25 -> 0 | H35: =H25 -> 0 | I35: =I25 -> 0.12813808 | ... K35: =K25 -> 0
A36: Parties losing votes | B36: =B37*B32 -> -0.16797259 | C36: =C37*C32 -> -0.074617866 | D36: =D37*D32 -> 0 | E36: =E37*E32 -> -0.0046206246 | F36: =F37*F32 -> 0 | G36: =G37*G32 -> -0.01016757 | H36: =H37*H32 -> -0.0050641649 | I36: =I37*I32 -> 0 | ... K36: =K37*K32 -> -0.0085923566 | L36: =K36+F36+E36+D36+C36+B36+H36+G36+I36+J36 -> -0.27103517 | P36: =IF(P39<0,P39,0) -> -358398.07 | Q36: =IF(Q39<0,Q39,0) -> -159209.9 | R36: =IF(R39<0,R39,0) -> 0 | S36: =IF(S39<0,S39,0) -> -9858.888 | T36: =IF(T39<0,T39,0) -> 0 | U36: =IF(U39<0,U39,0) -> -21694.24 | V36: =IF(V39<0,V39,0) -> -10805.257 | W36: =IF(W39<0,W39,0) -> 0 | ... Y36: =IF(Y39<0,Y39,0) -> -18333.253
A37: Ratio lost | B37: =B22 -> -0.47550432 | C37: =C22 -> -0.25409836 | D37: =D22 -> 0 | E37: =E22 -> -0.072 | F37: =F22 -> 0 | G37: =G22 -> -0.5282774 | H37: =H22 -> -0.87435319 | I37: =I22 -> 0 | ... K37: =K22 -> -0.70215448
A38: Estimate 2024 | B38: =B32+B34+B36 -> 0.18527885 | C38: =C32+C34+C36 -> 0.21903954 | D38: =D32+D34+D36 -> 0.31986552 | E38: =E32+E34+E36 -> 0.059554717 | F38: =F32+F34+F36 -> 0.16460686 | G38: =G32+G34+G36 -> 0.0090790799 | H38: =H32+H34+H36 -> 0.00072773355 | I38: =I32+I34+I36 -> 0.034729925 | ... K38: =K32+K34+K36 -> 0.0036447748 | L38: =L32 -> 2133670 | P38: =B38*L38 -> 395323.93 | Q38: =C38*L38 -> 467358.1 | R38: =D38*L38 -> 682487.46 | S38: =E38*L38 -> 127070.11 | T38: =F38*L38 -> 351216.73 | U38: =G38*L38 -> 19371.76 | V38: =H38*L38 -> 1552.7433 | W38: =I38*L38 -> 74102.199 | X38: =J38*L38 -> 7410.2199 | Y38: =K38*L38 -> 7776.7466
A39: +/- | B39: =B38-B32 -> -0.16797259 | C39: =C38-C32 -> -0.074617866 | D39: =D38-D32 -> 0.1307688 | E39: =E38-E32 -> -0.0046206246 | F39: =F38-F32 -> 0.10206345 | G39: =G38-G32 -> -0.01016757 | H39: =H38-H32 -> -0.0050641649 | I39: =I38-I32 -> 0.034729925 | ... K39: =K38-K32 -> -0.0085923566 | P39: =P38-P32 -> -358398.07 | Q39: =Q38-Q32 -> -159209.9 | R39: =R38-R32 -> 279017.46 | S39: =S38-S32 -> -9858.888 | T39: =T38-T32 -> 217769.73 | U39: =U38-U32 -> -21694.24 | V39: =V38-V32 -> -10805.257 | W39: =W38-W32 -> 74102.199 | ... Y39: =Y38-Y32 -> -18333.253
B41: Eastern | P41: =B41 -> Eastern
B42: Lab | C42: Con | D42: Ref | E42: Lib | F42: Grn | G42: Ind | H42: WPB | I42: Res | J42: YP | K42: Oth | L42: Total | P42: Lab | Q42: Con | R42: Ref | S42: Lib | T42: Grn | U42: Ind | V42: WPB | W42: Res | X42: YP | Y42: Oth
A43: GE2024 | B43: 0.29396028 | C43: 0.30610711 | D43: 0.17472148 | E43: 0.13226023 | F43: 0.0688921 | G43: 0.012851362 | H43: 0.0062204111 | I43: 0 | J43: 0 | K43: =100%-D43-C43-B43-E43-F43-H43-G43-I43-J43 -> 0.0049870324 | L43: 2840166 | P43: =B43*L43 -> 834896 | Q43: =C43*L43 -> 869395 | R43: =D43*L43 -> 496238 | S43: =E43*L43 -> 375641 | T43: =F43*L43 -> 195665 | U43: =G43*L43 -> 36500 | V43: =H43*L43 -> 17667 | W43: 0 | X43: 0 | Y43: =K43*L43 -> 14164
A44: England +/- | B44: =$B$28 -> -0.16309798 | C44: =$C$28 -> -0.065811475 | D44: =$D$28 -> 0.12559586 | E44: =$E$28 -> -0.009504 | F44: =$F$28 -> 0.098026038 | G44: =$G$28 -> -0.011093825 | H44: =$H$28 -> -0.0078691787 | I44: =$I$28 -> 0.033356082 | J44: =$J$28 -> 0.0033356082 | K44: =$K$19 -> -0.0025458394
A45: Parties gaining votes | B45: =B46*-L47 -> 0 | C45: =C46*-L47 -> 0 | D45: =D46*-L47 -> 0.1171522 | E45: =E46*-L47 -> 0 | F45: =-F46*L47 -> 0.091435866 | G45: =-G46*L47 -> 0 | H45: =-H46*L47 -> 0 | I45: =-I46*L47 -> 0.031113593 | J45: =-J46*L47 -> 0.0031113593 | K45: =-K46*L47 -> 0 | L45: =K45+F45+E45+D45+C45+B45+H45+G45+I45+J45 -> 0.24281302 | P45: =IF(P50>0,P50,0) -> 0 | Q45: =IF(Q50>0,Q50,0) -> 0 | R45: =IF(R50>0,R50,0) -> 332731.71 | S45: =IF(S50>0,S50,0) -> 0 | T45: =IF(T50>0,T50,0) -> 259693.04 | U45: =IF(U50>0,U50,0) -> 0 | V45: =IF(V50>0,V50,0) -> 0 | W45: =IF(W50>0,W50,0) -> 88367.77 | ... Y45: =IF(Y50>0,Y50,0) -> 0
A46: Share of gain | B46: =B35 -> 0 | C46: =C35 -> 0 | D46: =D35 -> 0.48247908 | E46: =E35 -> 0 | F46: =F35 -> 0.37656904 | G46: =G35 -> 0 | H46: =H35 -> 0 | I46: =I35 -> 0.12813808 | ... K46: =K35 -> 0
A47: Parties losing votes | B47: =B48*B43 -> -0.13977939 | C47: =C48*C43 -> -0.077781314 | D47: =D48*D43 -> 0 | E47: =E48*E43 -> -0.0095227363 | F47: =F48*F43 -> 0 | G47: =G48*G43 -> -0.0067890838 | H47: =H48*H43 -> -0.0054388363 | I47: =I48*I43 -> 0 | ... K47: =K48*K43 -> -0.0035016672 | L47: =K47+F47+E47+D47+C47+B47+H47+G47+I47+J47 -> -0.24281302 | P47: =IF(P50<0,P50,0) -> -396996.66 | Q47: =IF(Q50<0,Q50,0) -> -220911.84 | R47: =IF(R50<0,R50,0) -> 0 | S47: =IF(S50<0,S50,0) -> -27046.152 | T47: =IF(T50<0,T50,0) -> 0 | U47: =IF(U50<0,U50,0) -> -19282.125 | V47: =IF(V50<0,V50,0) -> -15447.198 | W47: =IF(W50<0,W50,0) -> 0 | ... Y47: =IF(Y50<0,Y50,0) -> -9945.316
A48: Ratio lost | B48: =B37 -> -0.47550432 | C48: =C37 -> -0.25409836 | D48: =D37 -> 0 | E48: =E37 -> -0.072 | F48: =F37 -> 0 | G48: =G37 -> -0.5282774 | H48: =H37 -> -0.87435319 | I48: =I37 -> 0 | ... K48: =K37 -> -0.70215448
A49: Estimate 2024 | B49: =B43+B45+B47 -> 0.1541809 | C49: =C43+C45+C47 -> 0.22832579 | D49: =D43+D45+D47 -> 0.29187368 | E49: =E43+E45+E47 -> 0.12273749 | F49: =F43+F45+F47 -> 0.16032797 | G49: =G43+G45+G47 -> 0.0060622777 | H49: =H43+H45+H47 -> 0.00078157479 | I49: =I43+I45+I47 -> 0.031113593 | ... K49: =K43+K45+K47 -> 0.0014853653 | L49: =L43 -> 2840166 | P49: =B49*L49 -> 437899.34 | Q49: =C49*L49 -> 648483.16 | R49: =D49*L49 -> 828969.71 | S49: =E49*L49 -> 348594.85 | T49: =F49*L49 -> 455358.04 | U49: =G49*L49 -> 17217.875 | V49: =H49*L49 -> 2219.8022 | W49: =I49*L49 -> 88367.77 | X49: =J49*L49 -> 8836.777 | Y49: =K49*L49 -> 4218.684
A50: +/- | B50: =B49-B43 -> -0.13977939 | C50: =C49-C43 -> -0.077781314 | D50: =D49-D43 -> 0.1171522 | E50: =E49-E43 -> -0.0095227363 | F50: =F49-F43 -> 0.091435866 | G50: =G49-G43 -> -0.0067890838 | H50: =H49-H43 -> -0.0054388363 | I50: =I49-I43 -> 0.031113593 | ... K50: =K49-K43 -> -0.0035016672 | P50: =P49-P43 -> -396996.66 | Q50: =Q49-Q43 -> -220911.84 | R50: =R49-R43 -> 332731.71 | S50: =S49-S43 -> -27046.152 | T50: =T49-T43 -> 259693.04 | U50: =U49-U43 -> -19282.125 | V50: =V49-V43 -> -15447.198 | W50: =W49-W43 -> 88367.77 | ... Y50: =Y49-Y43 -> -9945.316
B52: London | P52: =B52 -> London
B53: Lab | C53: Con | D53: Ref | E53: Lib | F53: Grn | G53: Ind | H53: WPB | I53: Res | J53: YP | K53: Oth | L53: Total | P53: Lab | Q53: Con | R53: Ref | S53: Lib | T53: Grn | U53: Ind | V53: WPB | W53: Res | X53: YP | Y53: Oth
A54: GE2024 | B54: 0.43100176 | C54: 0.20393421 | D54: 0.087158562 | E54: 0.11055904 | F54: 0.10081171 | G54: 0.038924211 | H54: 0.015623233 | I54: 0 | J54: 0 | K54: =100%-D54-C54-B54-E54-F54-H54-G54-I54-J54 -> 0.01198728 | L54: 3316599 | P54: =B54*L54 -> 1429460 | Q54: =C54*L54 -> 676368 | R54: =D54*L54 -> 289070 | S54: =E54*L54 -> 366680 | T54: =F54*L54 -> 334352 | U54: =G54*L54 -> 129096 | V54: =H54*L54 -> 51816 | W54: 0 | X54: 0 | Y54: =K54*L54 -> 39757
A55: England +/- | B55: =$B$28 -> -0.16309798 | C55: =$C$28 -> -0.065811475 | D55: =$D$28 -> 0.12559586 | E55: =$E$28 -> -0.009504 | F55: =$F$28 -> 0.098026038 | G55: =$G$28 -> -0.011093825 | H55: =$H$28 -> -0.0078691787 | I55: =$I$28 -> 0.033356082 | J55: =$J$28 -> 0.0033356082 | K55: =$K$19 -> -0.0025458394
A56: Parties gaining votes | B56: =B57*-L58 -> 0 | C56: =C57*-L58 -> 0 | D56: =D57*-L58 -> 0.14829608 | E56: =E57*-L58 -> 0 | F56: =-F57*L58 -> 0.11574329 | G56: =-G57*L58 -> 0 | H56: =-H57*L58 -> 0 | I56: =-I57*L58 -> 0.039384868 | J56: =-J57*L58 -> 0.0039384868 | K56: =-K57*L58 -> 0 | L56: =K56+F56+E56+D56+C56+B56+H56+G56+I56+J56 -> 0.30736273 | P56: =IF(P61>0,P61,0) -> 0 | Q56: =IF(Q61>0,Q61,0) -> 0 | R56: =IF(R61>0,R61,0) -> 491838.65 | S56: =IF(S61>0,S61,0) -> 0 | T56: =IF(T61>0,T61,0) -> 383874.07 | U56: =IF(U61>0,U61,0) -> 0 | V56: =IF(V61>0,V61,0) -> 0 | W56: =IF(W61>0,W61,0) -> 130623.81 | ... Y56: =IF(Y61>0,Y61,0) -> 0
A57: Share of gain | B57: =B46 -> 0 | C57: =C46 -> 0 | D57: =D46 -> 0.48247908 | E57: =E46 -> 0 | F57: =F46 -> 0.37656904 | G57: =G46 -> 0 | H57: =H46 -> 0 | I57: =I46 -> 0.12813808 | ... K57: =K46 -> 0
A58: Parties losing votes | B58: =B59*B54 -> -0.2049432 | C58: =C59*C54 -> -0.051819349 | D58: =D59*D54 -> 0 | E58: =E59*E54 -> -0.0079602508 | F58: =F59*F54 -> 0 | G58: =G59*G54 -> -0.020562781 | H58: =H59*H54 -> -0.013660224 | I58: =I59*I54 -> 0 | ... K58: =K59*K54 -> -0.0084169222 | L58: =K58+F58+E58+D58+C58+B58+H58+G58+I58+J58 -> -0.30736273 | P58: =IF(P61<0,P61,0) -> -679714.41 | Q58: =IF(Q61<0,Q61,0) -> -171864 | R58: =IF(R61<0,R61,0) -> 0 | S58: =IF(S61<0,S61,0) -> -26400.96 | T58: =IF(T61<0,T61,0) -> 0 | U58: =IF(U61<0,U61,0) -> -68198.499 | V58: =IF(V61<0,V61,0) -> -45305.485 | W58: =IF(W61<0,W61,0) -> 0 | ... Y58: =IF(Y61<0,Y61,0) -> -27915.556
A59: Ratio lost | B59: =B48 -> -0.47550432 | C59: =C48 -> -0.25409836 | D59: =D48 -> 0 | E59: =E48 -> -0.072 | F59: =F48 -> 0 | G59: =G48 -> -0.5282774 | H59: =H48 -> -0.87435319 | I59: =I48 -> 0 | ... K59: =K48 -> -0.70215448
A60: Estimate 2024 | B60: =B54+B56+B58 -> 0.22605856 | C60: =C54+C56+C58 -> 0.15211486 | D60: =D54+D56+D58 -> 0.23545465 | E60: =E54+E56+E58 -> 0.10259879 | F60: =F54+F56+F58 -> 0.21655499 | G60: =G54+G56+G58 -> 0.01836143 | H60: =H54+H56+H58 -> 0.0019630094 | I60: =I54+I56+I58 -> 0.039384868 | ... K60: =K54+K56+K58 -> 0.0035703576 | L60: =L61 -> 3316599 | P60: =B60*L60 -> 749745.59 | Q60: =C60*L60 -> 504504 | R60: =D60*L60 -> 780908.65 | S60: =E60*L60 -> 340279.04 | T60: =F60*L60 -> 718226.07 | U60: =G60*L60 -> 60897.501 | V60: =H60*L60 -> 6510.515 | W60: =I60*L60 -> 130623.81 | X60: =J60*L60 -> 13062.381 | Y60: =K60*L60 -> 11841.444
A61: +/- | B61: =B60-B54 -> -0.2049432 | C61: =C60-C54 -> -0.051819349 | D61: =D60-D54 -> 0.14829608 | E61: =E60-E54 -> -0.0079602508 | F61: =F60-F54 -> 0.11574329 | G61: =G60-G54 -> -0.020562781 | H61: =H60-H54 -> -0.013660224 | I61: =I60-I54 -> 0.039384868 | ... K61: =K60-K54 -> -0.0084169222 | L61: =L54 -> 3316599 | P61: =P60-P54 -> -679714.41 | Q61: =Q60-Q54 -> -171864 | R61: =R60-R54 -> 491838.65 | S61: =S60-S54 -> -26400.96 | T61: =T60-T54 -> 383874.07 | U61: =U60-U54 -> -68198.499 | V61: =V60-V54 -> -45305.485 | W61: =W60-W54 -> 130623.81 | ... Y61: =Y60-Y54 -> -27915.556
B63: North East | P63: =B63 -> North East
B64: Lab | C64: Con | D64: Ref | E64: Lib | F64: Grn | G64: Ind | H64: WPB | I64: Res | J64: YP | K64: Oth | L64: Total | P64: Lab | Q64: Con | R64: Ref | S64: Lib | T64: Grn | U64: Ind | V64: WPB | W64: Res | X64: YP | Y64: Oth
A65: GE2024 | B65: 0.45391117 | C65: 0.20264118 | D65: 0.1986956 | E65: 0.058333521 | F65: 0.059928483 | G65: 0.012783088 | H65: 0.0034714944 | I65: 0 | J65: 0 | K65: =100%-D65-C65-B65-E65-F65-H65-G65-I65-J65 -> 0.010235466 | L65: 1111625 | P65: =B65*L65 -> 504579 | Q65: =C65*L65 -> 225261 | R65: =D65*L65 -> 220875 | S65: =E65*L65 -> 64845 | T65: =F65*L65 -> 66618 | U65: =G65*L65 -> 14210 | V65: =H65*L65 -> 3859 | W65: 0 | X65: 0 | Y65: =K65*L65 -> 11378
A66: England +/- | B66: =$B$28 -> -0.16309798 | C66: =$C$28 -> -0.065811475 | D66: =$D$28 -> 0.12559586 | E66: =$E$28 -> -0.009504 | F66: =$F$28 -> 0.098026038 | G66: =$G$28 -> -0.011093825 | H66: =$H$28 -> -0.0078691787 | I66: =$I$28 -> 0.033356082 | J66: =$J$28 -> 0.0033356082 | K66: =$K$19 -> -0.0025458394
A67: Parties gaining votes | B67: =B68*-L69 -> 0 | C67: =C68*-L69 -> 0 | D67: =D68*-L69 -> 0.13919653 | E67: =E68*-L69 -> 0 | F67: =-F68*L69 -> 0.1086412 | G67: =-G68*L69 -> 0 | H67: =-H68*L69 -> 0 | I67: =-I68*L69 -> 0.036968185 | J67: =-J68*L69 -> 0.0036968185 | K67: =-K68*L69 -> 0 | L67: =K67+F67+E67+D67+C67+B67+H67+G67+I67+J67 -> 0.28850273 | P67: =IF(P72>0,P72,0) -> 0 | Q67: =IF(Q72>0,Q72,0) -> 0 | R67: =IF(R72>0,R72,0) -> 154734.35 | S67: =IF(S72>0,S72,0) -> 0 | T67: =IF(T72>0,T72,0) -> 120768.27 | U67: =IF(U72>0,U72,0) -> 0 | V67: =IF(V72>0,V72,0) -> 0 | W67: =IF(W72>0,W72,0) -> 41094.759 | ... Y67: =IF(Y72>0,Y72,0) -> 0
A68: Share of gain | B68: =B57 -> 0 | C68: =C57 -> 0 | D68: =D57 -> 0.48247908 | E68: =E57 -> 0 | F68: =F57 -> 0.37656904 | G68: =G57 -> 0 | H68: =H57 -> 0 | I68: =I57 -> 0.12813808 | ... K68: =K57 -> 0
A69: Parties losing votes | B69: =B70*B65 -> -0.21583672 | C69: =C70*C65 -> -0.051490791 | D69: =D70*D65 -> 0 | E69: =E70*E65 -> -0.0042000135 | F69: =F70*F65 -> 0 | G69: =G70*G65 -> -0.0067530163 | H69: =H70*H65 -> -0.0030353122 | I69: =I70*I65 -> 0 | ... K69: =K70*K65 -> -0.0071868784 | L69: =K69+F69+E69+D69+C69+B69+H69+G69+I69+J69 -> -0.28850273 | P69: =IF(P72<0,P72,0) -> -239929.5 | Q69: =IF(Q72<0,Q72,0) -> -57238.451 | R69: =IF(R72<0,R72,0) -> 0 | S69: =IF(S72<0,S72,0) -> -4668.84 | T69: =IF(T72<0,T72,0) -> 0 | U69: =IF(U72<0,U72,0) -> -7506.8218 | V69: =IF(V72<0,V72,0) -> -3374.129 | W69: =IF(W72<0,W72,0) -> 0 | ... Y69: =IF(Y72<0,Y72,0) -> -7989.1137
A70: Ratio lost | B70: =B59 -> -0.47550432 | C70: =C59 -> -0.25409836 | D70: =D59 -> 0 | E70: =E59 -> -0.072 | F70: =F59 -> 0 | G70: =G59 -> -0.5282774 | H70: =H59 -> -0.87435319 | I70: =I59 -> 0 | ... K70: =K59 -> -0.70215448
A71: Estimate 2024 | B71: =B65+B67+B69 -> 0.23807444 | C71: =C65+C67+C69 -> 0.15115039 | D71: =D65+D67+D69 -> 0.33789214 | E71: =E65+E67+E69 -> 0.054133507 | F71: =F65+F67+F69 -> 0.16856968 | G71: =G65+G67+G69 -> 0.0060300715 | H71: =H65+H67+H69 -> 0.00043618219 | I71: =I65+I67+I69 -> 0.036968185 | ... K71: =K65+K67+K69 -> 0.0030485877 | L71: =L65 -> 1111625 | P71: =B71*L71 -> 264649.5 | Q71: =C71*L71 -> 168022.55 | R71: =D71*L71 -> 375609.35 | S71: =E71*L71 -> 60176.16 | T71: =F71*L71 -> 187386.27 | U71: =G71*L71 -> 6703.1782 | V71: =H71*L71 -> 484.87103 | W71: =I71*L71 -> 41094.759 | X71: =J71*L71 -> 4109.4759 | Y71: =K71*L71 -> 3388.8863
A72: +/- | B72: =B71-B65 -> -0.21583672 | C72: =C71-C65 -> -0.051490791 | D72: =D71-D65 -> 0.13919653 | E72: =E71-E65 -> -0.0042000135 | F72: =F71-F65 -> 0.1086412 | G72: =G71-G65 -> -0.0067530163 | H72: =H71-H65 -> -0.0030353122 | I72: =I71-I65 -> 0.036968185 | ... K72: =K71-K65 -> -0.0071868784 | P72: =P71-P65 -> -239929.5 | Q72: =Q71-Q65 -> -57238.451 | R72: =R71-R65 -> 154734.35 | S72: =S71-S65 -> -4668.84 | T72: =T71-T65 -> 120768.27 | U72: =U71-U65 -> -7506.8218 | V72: =V71-V65 -> -3374.129 | W72: =W71-W65 -> 41094.759 | ... Y72: =Y71-Y65 -> -7989.1137
B74: North West | P74: =B74 -> North West
B75: Lab | C75: Con | D75: Ref | E75: Lib | F75: Grn | G75: Ind | H75: WPB | I75: Res | J75: YP | K75: Oth | L75: Total | P75: Lab | Q75: Con | R75: Ref | S75: Lib | T75: Grn | U75: Ind | V75: WPB | W75: Res | X75: YP | Y75: Oth
A76: GE2024 | B76: 0.44090224 | C76: 0.18890554 | D76: 0.16518967 | E76: 0.079300576 | F76: 0.069615222 | G76: 0.0217799 | H76: 0.017928043 | I76: 0 | J76: 0 | K76: =100%-D76-C76-B76-E76-F76-H76-G76-I76-J76 -> 0.016378814 | L76: 3087342 | P76: =B76*L76 -> 1361216 | Q76: =C76*L76 -> 583216 | R76: =D76*L76 -> 509997 | S76: =E76*L76 -> 244828 | T76: =F76*L76 -> 214926 | U76: =G76*L76 -> 67242 | V76: =H76*L76 -> 55350 | W76: 0 | X76: 0 | Y76: =K76*L76 -> 50567
A77: England +/- | B77: =$B$28 -> -0.16309798 | C77: =$C$28 -> -0.065811475 | D77: =$D$28 -> 0.12559586 | E77: =$E$28 -> -0.009504 | F77: =$F$28 -> 0.098026038 | G77: =$G$28 -> -0.011093825 | H77: =$H$28 -> -0.0078691787 | I77: =$I$28 -> 0.033356082 | J77: =$J$28 -> 0.0033356082 | K77: =$K$19 -> -0.0025458394
A78: Parties gaining votes | B78: =B79*-L80 -> 0 | C78: =C79*-L80 -> 0 | D78: =D79*-L80 -> 0.14572937 | E78: =E79*-L80 -> 0 | F78: =-F79*L80 -> 0.11374 | G78: =-G79*L80 -> 0 | H78: =-H79*L80 -> 0 | I78: =-I79*L80 -> 0.038703193 | J78: =-J79*L80 -> 0.0038703193 | K78: =-K79*L80 -> 0 | L78: =K78+F78+E78+D78+C78+B78+H78+G78+I78+J78 -> 0.30204288 | P78: =IF(P83>0,P83,0) -> 0 | Q78: =IF(Q83>0,Q83,0) -> 0 | R78: =IF(R83>0,R83,0) -> 449916.4 | S78: =IF(S83>0,S83,0) -> 0 | T78: =IF(T83>0,T83,0) -> 351154.27 | U78: =IF(U83>0,U83,0) -> 0 | V78: =IF(V83>0,V83,0) -> 0 | W78: =IF(W83>0,W83,0) -> 119489.99 | ... Y78: =IF(Y83>0,Y83,0) -> 0
A79: Share of gain | B79: =B68 -> 0 | C79: =C68 -> 0 | D79: =D68 -> 0.48247908 | E79: =E68 -> 0 | F79: =F68 -> 0.37656904 | G79: =G68 -> 0 | H79: =H68 -> 0 | I79: =I68 -> 0.12813808 | ... K79: =K68 -> 0
A80: Parties losing votes | B80: =B81*B76 -> -0.20965092 | C80: =C81*C76 -> -0.048000587 | D80: =D81*D76 -> 0 | E80: =E81*E76 -> -0.0057096415 | F80: =F81*F76 -> 0 | G80: =G81*G76 -> -0.011505829 | H80: =H81*H76 -> -0.015675442 | I80: =I81*I76 -> 0 | ... K80: =K81*K76 -> -0.011500458 | L80: =K80+F80+E80+D80+C80+B80+H80+G80+I80+J80 -> -0.30204288 | P80: =IF(P83<0,P83,0) -> -647264.09 | Q80: =IF(Q83<0,Q83,0) -> -148194.23 | R80: =IF(R83<0,R83,0) -> 0 | S80: =IF(S83<0,S83,0) -> -17627.616 | T80: =IF(T83<0,T83,0) -> 0 | U80: =IF(U83<0,U83,0) -> -35522.429 | V80: =IF(V83<0,V83,0) -> -48395.449 | W80: =IF(W83<0,W83,0) -> 0 | ... Y80: =IF(Y83<0,Y83,0) -> -35505.846
A81: Ratio lost | B81: =B70 -> -0.47550432 | C81: =C70 -> -0.25409836 | D81: =D70 -> 0 | E81: =E70 -> -0.072 | F81: =F70 -> 0 | G81: =G70 -> -0.5282774 | H81: =H70 -> -0.87435319 | I81: =I70 -> 0 | ... K81: =K70 -> -0.70215448
A82: Estimate 2024 | B82: =B76+B78+B80 -> 0.23125132 | C82: =C76+C78+C80 -> 0.14090495 | D82: =D76+D78+D80 -> 0.31091904 | E82: =E76+E78+E80 -> 0.073590935 | F82: =F76+F78+F80 -> 0.18335522 | G82: =G76+G78+G80 -> 0.010274071 | H82: =H76+H78+H80 -> 0.0022526014 | I82: =I76+I78+I80 -> 0.038703193 | ... K82: =K76+K78+K80 -> 0.0048783564 | L82: =L76 -> 3087342 | P82: =B82*L82 -> 713951.91 | Q82: =C82*L82 -> 435021.77 | R82: =D82*L82 -> 959913.4 | S82: =E82*L82 -> 227200.38 | T82: =F82*L82 -> 566080.27 | U82: =G82*L82 -> 31719.571 | V82: =H82*L82 -> 6954.5508 | W82: =I82*L82 -> 119489.99 | X82: =J82*L82 -> 11948.999 | Y82: =K82*L82 -> 15061.154
A83: +/- | B83: =B82-B76 -> -0.20965092 | C83: =C82-C76 -> -0.048000587 | D83: =D82-D76 -> 0.14572937 | E83: =E82-E76 -> -0.0057096415 | F83: =F82-F76 -> 0.11374 | G83: =G82-G76 -> -0.011505829 | H83: =H82-H76 -> -0.015675442 | I83: =I82-I76 -> 0.038703193 | ... K83: =K82-K76 -> -0.011500458 | P83: =P82-P76 -> -647264.09 | Q83: =Q82-Q76 -> -148194.23 | R83: =R82-R76 -> 449916.4 | S83: =S82-S76 -> -17627.616 | T83: =T82-T76 -> 351154.27 | U83: =U82-U76 -> -35522.429 | V83: =V82-V76 -> -48395.449 | W83: =W82-W76 -> 119489.99 | ... Y83: =Y82-Y76 -> -35505.846
B85: South East | P85: =B85 -> South East
B86: Lab | C86: Con | D86: Ref | E86: Lib | F86: Grn | G86: Ind | H86: WPB | I86: Res | J86: YP | K86: Oth | L86: Total | P86: Lab | Q86: Con | R86: Ref | S86: Lib | T86: Grn | U86: Ind | V86: WPB | W86: Res | X86: YP | Y86: Oth
A87: GE2024 | B87: 0.24549753 | C87: 0.3061264 | D87: 0.14005375 | E87: 0.21865272 | F87: 0.068883169 | G87: 0.0088728758 | H87: 0.0026230152 | I87: 0 | J87: 0 | K87: =100%-D87-C87-B87-E87-F87-H87-G87-I87-J87 -> 0.0092905446 | L87: 4350337 | P87: =B87*L87 -> 1067997 | Q87: =C87*L87 -> 1331753 | R87: =D87*L87 -> 609281 | S87: =E87*L87 -> 951213 | T87: =F87*L87 -> 299665 | U87: =G87*L87 -> 38600 | V87: =H87*L87 -> 11411 | W87: 0 | X87: 0 | Y87: =K87*L87 -> 40417
A88: England +/- | B88: =$B$28 -> -0.16309798 | C88: =$C$28 -> -0.065811475 | D88: =$D$28 -> 0.12559586 | E88: =$E$28 -> -0.009504 | F88: =$F$28 -> 0.098026038 | G88: =$G$28 -> -0.011093825 | H88: =$H$28 -> -0.0078691787 | I88: =$I$28 -> 0.033356082 | J88: =$J$28 -> 0.0033356082 | K88: =$K$19 -> -0.0025458394
A89: Parties gaining votes | B89: =B90*-L91 -> 0 | C89: =C90*-L91 -> 0 | D89: =D90*-L91 -> 0.10796363 | E89: =E90*-L91 -> 0 | F89: =-F90*L91 -> 0.084264299 | G89: =-G90*L91 -> 0 | H89: =-H90*L91 -> 0 | I89: =-I90*L91 -> 0.028673269 | J89: =-J90*L91 -> 0.0028673269 | K89: =-K90*L91 -> 0 | L89: =K89+F89+E89+D89+C89+B89+H89+G89+I89+J89 -> 0.22376853 | P89: =IF(P94>0,P94,0) -> 0 | Q89: =IF(Q94>0,Q94,0) -> 0 | R89: =IF(R94>0,R94,0) -> 469678.19 | S89: =IF(S94>0,S94,0) -> 0 | T89: =IF(T94>0,T94,0) -> 366578.1 | U89: =IF(U94>0,U94,0) -> 0 | V89: =IF(V94>0,V94,0) -> 0 | W89: =IF(W94>0,W94,0) -> 124738.38 | ... Y89: =IF(Y94>0,Y94,0) -> 0
A90: Share of gain | B90: =B79 -> 0 | C90: =C79 -> 0 | D90: =D79 -> 0.48247908 | E90: =E79 -> 0 | F90: =F79 -> 0.37656904 | G90: =G79 -> 0 | H90: =H79 -> 0 | I90: =I79 -> 0.12813808 | ... K90: =K79 -> 0
A91: Parties losing votes | B91: =B92*B87 -> -0.11673514 | C91: =C92*C87 -> -0.077786216 | D91: =D92*D87 -> 0 | E91: =E92*E87 -> -0.015742996 | F91: =F92*F87 -> 0 | G91: =G92*G87 -> -0.0046873397 | H91: =H92*H87 -> -0.0022934417 | I91: =I92*I87 -> 0 | ... K91: =K92*K87 -> -0.0065233975 | L91: =K91+F91+E91+D91+C91+B91+H91+G91+I91+J91 -> -0.22376853 | P91: =IF(P94<0,P94,0) -> -507837.19 | Q91: =IF(Q94<0,Q94,0) -> -338396.25 | R91: =IF(R94<0,R94,0) -> 0 | S91: =IF(S94<0,S94,0) -> -68487.336 | T91: =IF(T94<0,T94,0) -> 0 | U91: =IF(U94<0,U94,0) -> -20391.507 | V91: =IF(V94<0,V94,0) -> -9977.2443 | W91: =IF(W94<0,W94,0) -> 0 | ... Y91: =IF(Y94<0,Y94,0) -> -28378.978
A92: Ratio lost | B92: =B81 -> -0.47550432 | C92: =C81 -> -0.25409836 | D92: =D81 -> 0 | E92: =E81 -> -0.072 | F92: =F81 -> 0 | G92: =G81 -> -0.5282774 | H92: =H81 -> -0.87435319 | I92: =I81 -> 0 | ... K92: =K81 -> -0.70215448
A93: Estimate 2024 | B93: =B87+B89+B91 -> 0.12876239 | C93: =C87+C89+C91 -> 0.22834018 | D93: =D87+D89+D91 -> 0.24801738 | E93: =E87+E89+E91 -> 0.20290972 | F93: =F87+F89+F91 -> 0.15314747 | G93: =G87+G89+G91 -> 0.0041855361 | H93: =H87+H89+H91 -> 0.00032957349 | I93: =I87+I89+I91 -> 0.028673269 | ... K93: =K87+K89+K91 -> 0.0027671471 | L93: =L87 -> 4350337 | P93: =B93*L93 -> 560159.81 | Q93: =C93*L93 -> 993356.75 | R93: =D93*L93 -> 1078959.2 | S93: =E93*L93 -> 882725.66 | T93: =F93*L93 -> 666243.1 | U93: =G93*L93 -> 18208.493 | V93: =H93*L93 -> 1433.7557 | W93: =I93*L93 -> 124738.38 | X93: =J93*L93 -> 12473.838 | Y93: =K93*L93 -> 12038.022
A94: +/- | B94: =B93-B87 -> -0.11673514 | C94: =C93-C87 -> -0.077786216 | D94: =D93-D87 -> 0.10796363 | E94: =E93-E87 -> -0.015742996 | F94: =F93-F87 -> 0.084264299 | G94: =G93-G87 -> -0.0046873397 | H94: =H93-H87 -> -0.0022934417 | I94: =I93-I87 -> 0.028673269 | ... K94: =K93-K87 -> -0.0065233975 | P94: =P93-P87 -> -507837.19 | Q94: =Q93-Q87 -> -338396.25 | R94: =R93-R87 -> 469678.19 | S94: =S93-S87 -> -68487.336 | T94: =T93-T87 -> 366578.1 | U94: =U93-U87 -> -20391.507 | V94: =V93-V87 -> -9977.2443 | W94: =W93-W87 -> 124738.38 | ... Y94: =Y93-Y87 -> -28378.978
B96: South West | P96: =B96 -> South West
B97: Lab | C97: Con | D97: Ref | E97: Lib | F97: Grn | G97: Ind | H97: WPB | I97: Res | J97: YP | K97: Oth | L97: Total | P97: Lab | Q97: Con | R97: Ref | S97: Lib | T97: Grn | U97: Ind | V97: WPB | W97: Res | X97: YP | Y97: Oth
A98: GE2024 | B98: 0.24480647 | C98: 0.28198147 | D98: 0.13790595 | E98: 0.24682997 | F98: 0.074214339 | G98: 0.0079960406 | H98: 0.00073575489 | I98: 0 | J98: 0 | K98: =100%-D98-C98-B98-E98-F98-H98-G98-I98-J98 -> 0.0055300055 | L98: 2786254 | P98: =B98*L98 -> 682093 | Q98: =C98*L98 -> 785672 | R98: =D98*L98 -> 384241 | S98: =E98*L98 -> 687731 | T98: =F98*L98 -> 206780 | U98: =G98*L98 -> 22279 | V98: =H98*L98 -> 2050 | W98: 0 | X98: 0 | Y98: =K98*L98 -> 15408
A99: England +/- | B99: =$B$28 -> -0.16309798 | C99: =$C$28 -> -0.065811475 | D99: =$D$28 -> 0.12559586 | E99: =$E$28 -> -0.009504 | F99: =$F$28 -> 0.098026038 | G99: =$G$28 -> -0.011093825 | H99: =$H$28 -> -0.0078691787 | I99: =$I$28 -> 0.033356082 | J99: =$J$28 -> 0.0033356082 | K99: =$K$19 -> -0.0025458394
A100: Parties gaining votes | B100: =B101*-L102 -> 0 | C100: =C101*-L102 -> 0 | D100: =D101*-L102 -> 0.1035302 | E100: =E101*-L102 -> 0 | F100: =-F101*L102 -> 0.080804062 | G100: =-G101*L102 -> 0 | H100: =-H101*L102 -> 0 | I100: =-I101*L102 -> 0.027495827 | J100: =-J101*L102 -> 0.0027495827 | K100: =-K101*L102 -> 0 | L100: =K100+F100+E100+D100+C100+B100+H100+G100+I100+J100 -> 0.21457968 | P100: =IF(P105>0,P105,0) -> 0 | Q100: =IF(Q105>0,Q105,0) -> 0 | R100: =IF(R105>0,R105,0) -> 288461.45 | S100: =IF(S105>0,S105,0) -> 0 | T100: =IF(T105>0,T105,0) -> 225140.64 | U100: =IF(U105>0,U105,0) -> 0 | V100: =IF(V105>0,V105,0) -> 0 | W100: =IF(W105>0,W105,0) -> 76610.357 | ... Y100: =IF(Y105>0,Y105,0) -> 0
A101: Share of gain | B101: =B90 -> 0 | C101: =C90 -> 0 | D101: =D90 -> 0.48247908 | E101: =E90 -> 0 | F101: =F90 -> 0.37656904 | G101: =G90 -> 0 | H101: =H90 -> 0 | I101: =I90 -> 0.12813808 | ... K101: =K90 -> 0
A102: Parties losing votes | B102: =B103*B98 -> -0.11640653 | C102: =C103*C98 -> -0.071651029 | D102: =D103*D98 -> 0 | E102: =E103*E98 -> -0.017771758 | F102: =F103*F98 -> 0 | G102: =G103*G98 -> -0.0042241275 | H102: =H103*H98 -> -0.00064330963 | I102: =I103*I98 -> 0 | ... K102: =K103*K98 -> -0.0038829181 | L102: =K102+F102+E102+D102+C102+B102+H102+G102+I102+J102 -> -0.21457968 | P102: =IF(P105<0,P105,0) -> -324338.17 | Q102: =IF(Q105<0,Q105,0) -> -199637.97 | R102: =IF(R105<0,R105,0) -> 0 | S102: =IF(S105<0,S105,0) -> -49516.632 | T102: =IF(T105<0,T105,0) -> 0 | U102: =IF(U105<0,U105,0) -> -11769.492 | V102: =IF(V105<0,V105,0) -> -1792.424 | W102: =IF(W105<0,W105,0) -> 0 | ... Y102: =IF(Y105<0,Y105,0) -> -10818.796
A103: Ratio lost | B103: =B92 -> -0.47550432 | C103: =C92 -> -0.25409836 | D103: =D92 -> 0 | E103: =E92 -> -0.072 | F103: =F92 -> 0 | G103: =G92 -> -0.5282774 | H103: =H92 -> -0.87435319 | I103: =I92 -> 0 | ... K103: =K92 -> -0.70215448
A104: Estimate 2024 | B104: =B98+B100+B102 -> 0.12839993 | C104: =C98+C100+C102 -> 0.21033044 | D104: =D98+D100+D102 -> 0.24143615 | E104: =E98+E100+E102 -> 0.22905822 | F104: =F98+F100+F102 -> 0.1550184 | G104: =G98+G100+G102 -> 0.0037719131 | H104: =H98+H100+H102 -> 9.2445253e-05 | I104: =I98+I100+I102 -> 0.027495827 | ... K104: =K98+K100+K102 -> 0.0016470874 | L104: =L98 -> 2786254 | P104: =B104*L104 -> 357754.83 | Q104: =C104*L104 -> 586034.03 | R104: =D104*L104 -> 672702.45 | S104: =E104*L104 -> 638214.37 | T104: =F104*L104 -> 431920.64 | U104: =G104*L104 -> 10509.508 | V104: =H104*L104 -> 257.57596 | W104: =I104*L104 -> 76610.357 | X104: =J104*L104 -> 7661.0357 | Y104: =K104*L104 -> 4589.2038
A105: +/- | B105: =B104-B98 -> -0.11640653 | C105: =C104-C98 -> -0.071651029 | D105: =D104-D98 -> 0.1035302 | E105: =E104-E98 -> -0.017771758 | F105: =F104-F98 -> 0.080804062 | G105: =G104-G98 -> -0.0042241275 | H105: =H104-H98 -> -0.00064330963 | I105: =I104-I98 -> 0.027495827 | ... K105: =K104-K98 -> -0.0038829181 | P105: =P104-P98 -> -324338.17 | Q105: =Q104-Q98 -> -199637.97 | R105: =R104-R98 -> 288461.45 | S105: =S104-S98 -> -49516.632 | T105: =T104-T98 -> 225140.64 | U105: =U104-U98 -> -11769.492 | V105: =V104-V98 -> -1792.424 | W105: =W104-W98 -> 76610.357 | ... Y105: =Y104-Y98 -> -10818.796
B107: West Midlands | P107: =B107 -> West Midlands
B108: Lab | C108: Con | D108: Ref | E108: Lib | F108: Grn | G108: Ind | H108: WPB | I108: Res | J108: YP | K108: Oth | L108: Total | P108: Lab | Q108: Con | R108: Ref | S108: Lib | T108: Grn | U108: Ind | V108: WPB | W108: Res | X108: YP | Y108: Oth
A109: GE2024 | B109: 0.34020474 | C109: 0.27586315 | D109: 0.18116856 | E109: 0.088463964 | F109: 0.06563003 | G109: 0.027747246 | H109: 0.013139286 | I109: 0 | J109: 0 | K109: =100%-D109-C109-B109-E109-F109-H109-G109-I109-J109 -> 0.0077830207 | L109: 2424637 | P109: =B109*L109 -> 824873 | Q109: =C109*L109 -> 668868 | R109: =D109*L109 -> 439268 | S109: =E109*L109 -> 214493 | T109: =F109*L109 -> 159129 | U109: =G109*L109 -> 67277 | V109: =H109*L109 -> 31858 | W109: 0 | X109: 0 | Y109: =K109*L109 -> 18871
A110: England +/- | B110: =$B$28 -> -0.16309798 | C110: =$C$28 -> -0.065811475 | D110: =$D$28 -> 0.12559586 | E110: =$E$28 -> -0.009504 | F110: =$F$28 -> 0.098026038 | G110: =$G$28 -> -0.011093825 | H110: =$H$28 -> -0.0078691787 | I110: =$I$28 -> 0.033356082 | J110: =$J$28 -> 0.0033356082 | K110: =$K$19 -> -0.0025458394
A111: Parties gaining votes | B111: =B112*-L113 -> 0 | C111: =C112*-L113 -> 0 | D111: =D112*-L113 -> 0.1301951 | E111: =E112*-L113 -> 0 | F111: =-F112*L113 -> 0.10161569 | G111: =-G112*L113 -> 0 | H111: =-H112*L113 -> 0 | I111: =-I112*L113 -> 0.034577561 | J111: =-J112*L113 -> 0.0034577561 | K111: =-K112*L113 -> 0 | L111: =K111+F111+E111+D111+C111+B111+H111+G111+I111+J111 -> 0.26984611 | P111: =IF(P116>0,P116,0) -> 0 | Q111: =IF(Q116>0,Q116,0) -> 0 | R111: =IF(R116>0,R116,0) -> 315675.86 | S111: =IF(S116>0,S116,0) -> 0 | T111: =IF(T116>0,T116,0) -> 246381.16 | U111: =IF(U116>0,U116,0) -> 0 | V111: =IF(V116>0,V116,0) -> 0 | W111: =IF(W116>0,W116,0) -> 83838.033 | ... Y111: =IF(Y116>0,Y116,0) -> 0
...

Sheet GE2024 results (adjust.)
A1: Constituency | B1: County | C1: Region | D1: Nation | E1: LAB | F1: CON | G1: REF | H1: LD | I1: GRN | J1: SNP | K1: IND | L1: WPB | M1: PC | N1: OTH | Q1: LAB | R1: CON | S1: REF | T1: LD | U1: GRN | V1: SNP | W1: IND | X1: WPB | Y1: PC | Z1: OTH | AA1: Region | AB1: IND | AC1: WPB | AD1: GRN
A2: Amber Valley | B2: DBY | C2: East M | D2: England | E2: 15746 | F2: 10725 | G2: 12192 | H2: 1590 | I2: 2278 | N2: 0 | O2: =SUM(E2:N2) -> 42531 | Q2: =E2/O2 -> 0.37022407 | R2: =F2/O2 -> 0.25216901 | S2: =G2/O2 -> 0.28666149 | T2: =H2/O2 -> 0.037384496 | U2: =I2/O2 -> 0.053560932 | V2: =J2/O2 -> 0 | W2: =K2/O2 -> 0 | X2: =L2/O2 -> 0 | Y2: =M2/O2 -> 0 | Z2: =N2/O2 -> 0 | AA2: East M | AB2: =K2 -> 0 | AC2: =L2 -> 0 | AD2: =I2 -> 2278 | AG2: =SUM(AB2:AD2) -> 2278 | AH2: ='Regional Transition'!Y32+'Regional Transition'!V32+'Regional Transition'!T32 -> 171915 | AI2: =AG2/AH2 -> 0.013250734
A3: Bolsover | B3: DBY | C3: East M | D3: England | E3: 17197 | F3: 10874 | G3: 9131 | H3: 1478 | I3: 3754 | N3: 0 | O3: =SUM(E3:N3) -> 42434 | Q3: =E3/O3 -> 0.40526465 | R3: =F3/O3 -> 0.25625678 | S3: =G3/O3 -> 0.21518122 | T3: =H3/O3 -> 0.03483056 | U3: =I3/O3 -> 0.088466795 | V3: =J3/O3 -> 0 | W3: =K3/O3 -> 0 | X3: =L3/O3 -> 0 | Y3: =M3/O3 -> 0 | Z3: =N3/O3 -> 0 | AA3: East M | AB3: =K3 -> 0 | AC3: =L3 -> 0 | AD3: =I3 -> 3754 | AG3: =SUM(AB3:AD3) -> 3754 | AH3: =AH2 -> 171915 | AI3: =AG3/AH3 -> 0.021836373 | AL3: =IF(('GE2024 results (adjust.)'!K2+'Allocation (ENG)'!U3+'Allocation (ENG)'!AG3)>0,('GE2024 results (adjust.)'!J2+'Allocation (ENG)'!U3+'Allocation (ENG)'!AG3),0) -> 0 | AM3: =IF(('GE2024 results (adjust.)'!L2+'Allocation (ENG)'!V3+'Allocation (ENG)'!AH3)>0,('GE2024 results (adjust.)'!K2+'Allocation (ENG)'!V3+'Allocation (ENG)'!AH3),0) -> 0 | AN3: =IF(('GE2024 results (adjust.)'!M2+'Allocation (ENG)'!Y3+'Allocation (ENG)'!AK3)>0,('GE2024 results (adjust.)'!L2+'Allocation (ENG)'!Y3+'Allocation (ENG)'!AK3),0) -> 0
A4: Chesterfield | B4: DBY | C4: East M | D4: England | E4: 19316 | F4: 8496 | G4: 7897 | H4: 2553 | I4: 2682 | L4: 248 | N4: 363 | O4: =SUM(E4:N4) -> 41555 | Q4: =E4/O4 -> 0.46482974 | R4: =F4/O4 -> 0.20445193 | S4: =G4/O4 -> 0.1900373 | T4: =H4/O4 -> 0.06143665 | U4: =I4/O4 -> 0.06454097 | V4: =J4/O4 -> 0 | W4: =K4/O4 -> 0 | X4: =L4/O4 -> 0.0059679942 | Y4: =M4/O4 -> 0 | Z4: =N4/O4 -> 0.0087354109 | AA4: East M | AB4: =K4 -> 0 | AC4: =L4 -> 248 | AD4: =I4 -> 2682 | AG4: =SUM(AB4:AD4) -> 2930 | AH4: =AH3 -> 171915 | AI4: =AG4/AH4 -> 0.017043306 | AL4: =IF(('GE2024 results (adjust.)'!K3+'Allocation (ENG)'!U4+'Allocation (ENG)'!AG4)>0,('GE2024 results (adjust.)'!J3+'Allocation (ENG)'!U4+'Allocation (ENG)'!AG4),0) -> 0 | AM4: =IF(('GE2024 results (adjust.)'!L3+'Allocation (ENG)'!V4+'Allocation (ENG)'!AH4)>0,('GE2024 results (adjust.)'!K3+'Allocation (ENG)'!V4+'Allocation (ENG)'!AH4),0) -> 0 | AN4: =IF(('GE2024 results (adjust.)'!M3+'Allocation (ENG)'!Y4+'Allocation (ENG)'!AK4)>0,('GE2024 results (adjust.)'!L3+'Allocation (ENG)'!Y4+'Allocation (ENG)'!AK4),0) -> 0
A5: Derby North | B5: DBY | C5: East M | D5: England | E5: 18619 | F5: 9704 | G5: 7488 | H5: 1822 | I5: 3286 | N5: 0 | O5: =SUM(E5:N5) -> 40919 | Q5: =E5/O5 -> 0.45502089 | R5: =F5/O5 -> 0.23715145 | S5: =G5/O5 -> 0.18299567 | T5: =H5/O5 -> 0.044526992 | U5: =I5/O5 -> 0.080304993 | V5: =J5/O5 -> 0 | W5: =K5/O5 -> 0 | X5: =L5/O5 -> 0 | Y5: =M5/O5 -> 0 | Z5: =N5/O5 -> 0 | AA5: East M | AB5: =K5 -> 0 | AC5: =L5 -> 0 | AD5: =I5 -> 3286 | AG5: =SUM(AB5:AD5) -> 3286 | AH5: =AH4 -> 171915 | AI5: =AG5/AH5 -> 0.019114097 | AL5: =IF(('GE2024 results (adjust.)'!K4+'Allocation (ENG)'!U5+'Allocation (ENG)'!AG5)>0,('GE2024 results (adjust.)'!J4+'Allocation (ENG)'!U5+'Allocation (ENG)'!AG5),0) -> 0 | AM5: =IF(('GE2024 results (adjust.)'!L4+'Allocation (ENG)'!V5+'Allocation (ENG)'!AH5)>0,('GE2024 results (adjust.)'!K4+'Allocation (ENG)'!V5+'Allocation (ENG)'!AH5),0) -> -83.008674 | AN5: =IF(('GE2024 results (adjust.)'!M4+'Allocation (ENG)'!Y5+'Allocation (ENG)'!AK5)>0,('GE2024 results (adjust.)'!L4+'Allocation (ENG)'!Y5+'Allocation (ENG)'!AK5),0) -> 0
