Workbook

Sheet HEADLINE
B2: Projected result of 2029 general election | P2: Great Britain | V2: Blocs
F3: Seat projection | M3: % | N3: Seats | P3: Party | R3: Seats | S3: % | T3: +/- | V3: Party | X3: Seats | Y3: % | Z3: +/- | AC3: Seats | AD3: % | AE3: +/-
B4: Party | D4: % | E4: +/- | F4: Seats | I4: Gain | J4: Loss | K4: Net | M4: 2024 | Q4: {=_xlfn._xlws.SORT(AB4:AE13,2,-1)} -> Reform | R4: 331 | S4: 0.50923077 | T4: 326 | W4: {=_xlfn._xlws.SORT(AB17:AE18,2,-1)} -> Pro-Reform | X4: 387 | Y4: 0.59538462 | Z4: 253 | AB4: Conservative | AC4: =F6 -> 48 | AD4: =AC4/650 -> 0.073846154 | AE4: =K6 -> -73
C5: Labour | D5: 0.182 | E5: =D5-34.7% -> -0.165 | F5: ='Regional Transition'!B12 -> 47 | G5: =F5/650 -> 0.072307692 | H5: =F5 -> 47 | I5: =COUNTIF('Table of seats'!$H$2:$H$633,"Lab") -> 0 | J5: =K5-I5 -> -364 | K5: =F5-411 -> -364 | M5: 0.347 | N5: 411 | Q5: Liberal Democrats | R5: 78 | S5: 0.12 | T5: 6 | W5: Anti-Reform | X5: 255 | Y5: 0.39230769 | Z5: -253 | AB5: Labour | AC5: =F5 -> 47 | AD5: =AC5/650 -> 0.072307692 | AE5: =K5 -> -364
C6: Conservative | D6: 0.182 | E6: =D6-24.4% -> -0.062 | F6: ='Regional Transition'!C12 -> 48 | G6: =F6/650 -> 0.073846154 | H6: =F6 -> 48 | I6: =COUNTIF('Table of seats'!$H$2:$H$633,"Con") -> 17 | J6: =K6-I6 -> -90 | K6: =F6-121 -> -73 | M6: 0.244 | N6: 121 | Q6: Green | R6: 67 | S6: 0.10307692 | T6: 63 | W6: Non-voting | X6: =650-X5-X4 -> 8 | Y6: =X6/650 -> 0.012307692 | Z6: 0 | AB6: Liberal Democrats | AC6: =F8 -> 78 | AD6: =AC6/650 -> 0.12 | AE6: =K8 -> 6
C7: Reform | D7: 0.27 | E7: =D7-14.7% -> 0.123 | F7: ='Regional Transition'!D12 -> 331 | G7: =F7/650 -> 0.50923077 | H7: =F7 -> 331 | I7: =COUNTIF('Table of seats'!$H$2:$H$633,"Ref") -> 326 | J7: =K7-I7 -> 0 | K7: =F7-5 -> 326 | M7: 0.147 | N7: 5 | Q7: Conservative | R7: 48 | S7: 0.073846154 | T7: -73 | V7: Total | X7: =X5+X4+X6 -> 650 | AB7: Green | AC7: =F9 -> 67 | AD7: =AC7/650 -> 0.10307692 | AE7: =K9 -> 63
C8: Liberal Democrats | D8: 0.116 | E8: =D8-12.5% -> -0.009 | F8: ='Regional Transition'!E12 -> 78 | G8: =F8/650 -> 0.12 | H8: =F8 -> 78 | I8: =COUNTIF('Table of seats'!$H$2:$H$633,"LD") -> 7 | J8: =K8-I8 -> -1 | K8: =F8-72 -> 6 | M8: 0.125 | N8: 72 | Q8: Labour | R8: 47 | S8: 0.072307692 | T8: -364 | AB8: Reform | AC8: =F7 -> 331 | AD8: =AC8/650 -> 0.50923077 | AE8: =K7 -> 326
C9: Green | D9: 0.165 | E9: =D9-6.9% -> 0.096 | F9: ='Regional Transition'!F12 -> 67 | G9: =F9/650 -> 0.10307692 | H9: =F9 -> 67 | I9: =COUNTIF('Table of seats'!$H$2:$H$633,"Grn") -> 63 | J9: =K9-I9 -> 0 | K9: =F9-4 -> 63 | M9: 0.069 | N9: 4 | Q9: Scottish National | R9: 47 | S9: 0.072307692 | T9: 38 | AB9: Scottish National | AC9: =F10 -> 47 | AD9: =AC9/650 -> 0.072307692 | AE9: =K10 -> 38
C10: Scottish National | D10: 0.036 | E10: =D10-3.2% -> 0.004 | F10: ='Regional Transition'!G12 -> 47 | G10: =F10/650 -> 0.072307692 | H10: =F10 -> 47 | I10: =COUNTIF('Table of seats'!$H$2:$H$633,"SNP") -> 39 | J10: =K10-I10 -> -1 | K10: =F10-9 -> 38 | M10: 0.032 | N10: 9 | Q10: Plaid Cymru | R10: 7 | S10: 0.010769231 | T10: 3 | AB10: Plaid Cymru | AC10: =F11 -> 7 | AD10: =AC10/650 -> 0.010769231 | AE10: =K11 -> 3
C11: Plaid Cymru | F11: ='Regional Transition'!H12 -> 7 | G11: =F11/650 -> 0.010769231 | H11: =F11 -> 7 | I11: =COUNTIF('Table of seats'!$H$2:$H$633,"PC") -> 3 | J11: =K11-I11 -> 0 | K11: =F11-4 -> 3 | N11: 4 | Q11: Your Party | R11: 4 | S11: 0.0061538462 | T11: 4 | AB11: Independents | AC11: =F14+F15 -> 2 | AD11: =AC11/650 -> 0.0030769231 | AE11: =K14+K15 -> -3
C12: Restore Britain | D12: 0.032666667 | E12: =D12 -> 0.032666667 | F12: ='Regional Transition'!K12 -> 0 | G12: =F12/650 -> 0 | H12: =F12 -> 0 | I12: =K12 -> 0 | J12: 0 | K12: =F12-0 -> 0 | M12: 0 | N12: 0 | Q12: Independents | R12: 2 | S12: 0.0030769231 | T12: -3 | AB12: Restore Britain | AC12: =F12 -> 0 | AD12: =AC12/650 -> 0 | AE12: =AC12 -> 0
C13: Your Party | D13: 0.0032666667 | E13: =D13 -> 0.0032666667 | F13: ='Regional Transition'!L12 -> 4 | G13: =F13/650 -> 0.0061538462 | H13: =F13 -> 4 | I13: =K13 -> 4 | J13: 0 | K13: =F13-0 -> 4 | M13: 0 | N13: 0 | Q13: Restore Britain | R13: 0 | S13: 0 | T13: 0 | AB13: Your Party | AC13: =F13 -> 4 | AD13: =AC13/650 -> 0.0061538462 | AE13: =AC13 -> 4
C14: Independents | D14: 0.009457 | E14: =D14-2% -> -0.010543 | F14: ='Regional Transition'!I12 -> 2 | G14: =F14/650 -> 0.0030769231 | H14: =F14 -> 2 | I14: =COUNTIF('Table of seats'!$H$2:$H$633,"Ind") -> 1 | J14: =K14-I14 -> -4 | K14: =F14-5 -> -3 | M14: 0.020047799 | N14: 5 | P14: Total | R14: =SUM(AC4:AC13)+19 -> 650
C15: Workers Party | D15: 0.000833 | E15: =D15-0.7% -> -0.006167 | F15: ='Regional Transition'!J12 -> 0 | G15: =F15/650 -> 0 | H15: =F15 -> 0 | I15: =COUNTIF('Table of seats'!$H$2:$H$633,"WPB") -> 0 | J15: =K15-I15 -> 0 | K15: =F15-0 -> 0 | M15: 0.0066296949 | N15: 0
C16: Others | D16: =100%-D15-D14-D13-D12-D10-D9-D8-D7-D6-D5 -> 0.0027766667 | E16: =D16-0.9% -> -0.0062233333 | F16: ='Regional Transition'!M12+18 -> 19 | G16: =F16/650 -> 0.029230769 | H16: =F16 -> 19 | I16: =COUNTIF('Table of seats'!$H$2:$H$633,"Oth") -> 0 | J16: =K16-I16 -> 0 | K16: =F16-19 -> 0 | L16: =100%-N5-N6-N7-N8-N9-N10-N12-N13 -> -621 | M16: =100%-M11-M10-M9-M8-M7-M6-M5-M15-M14 -> 0.009322506 | N16: 19 | O16: =100%-Q5-Q6-Q7-Q8-Q9-Q10-Q12-Q13 -> #VALUE! | U16: =100%-W5-#REF!-W7-#REF!-W9-W10-W12-W13 -> #VALUE! | AC16: Seats | AD16: % | AE16: +/-
F17: =SUM(F5:F16) -> 650 | N17: =SUM(N5:N16) -> 650 | AB17: Pro-Reform | AC17: =AC4+AC8+7+1 -> 387 | AD17: =AC17/650 -> 0.59538462 | AE17: =AE4+AE8 -> 253
AB18: Anti-Reform | AC18: =AC5+AC6+AC7+AC11+AC13+3+AC9+AC10 -> 255 | AD18: =AC18/650 -> 0.39230769 | AE18: =AE5+AE6+AE7+AE11+AE13+AE9+AE10 -> -253

Sheet Table of seats
A1: Seat | B1: County | C1: Region | D1: Nation | E1: Winner | F1: Swing | G1: from | H1: Changes | I1: Lab | J1: Lab +/- | K1: Con | L1: Con +/- | M1: Ref | N1: Ref +/- | O1: LD | P1: LD +/- | Q1: Grn | R1: Grn +/- | S1: Nat | T1: Nat +/- | U1: Oth | V1: Oth +/- | Z1: Ind | AA1: Ind +/- | AB1: WPB | AC1: WPB +/- | AD1: Res | AE1: Res +/- | AF1: YP | AG1: YP +/- | AH1: Oth | AI1: Oth +/- | AJ1: 1st | AK1: GRN from 1st
A2: ='ENGLAND GE2029'!A3 -> Amber Valley | B2: ='ENGLAND GE2029'!B3 -> DBY | C2: ='ENGLAND GE2029'!C3 -> East M | D2: ='ENGLAND GE2029'!D3 -> England | E2: ='ENGLAND GE2029'!AP3 -> Ref | F2: ='ENGLAND GE2029'!AQ3 -> gain from | G2: ='ENGLAND GE2029'!AR3 -> LAB | H2: =IF(E2='ENGLAND GE2029'!AO3,"",E2) -> Ref | I2: ='ENGLAND GE2029'!E3 -> 0.17688328 | J2: ='ENGLAND GE2029'!P3*100 -> -19.334079 | K2: ='ENGLAND GE2029'!F3 -> 0.17133792 | L2: ='ENGLAND GE2029'!Q3*100 -> -8.083109 | M2: ='ENGLAND GE2029'!G3 -> 0.4417057 | N2: ='ENGLAND GE2029'!R3*100 -> 15.50442 | O2: ='ENGLAND GE2029'!H3 -> 0.031602375 | P2: ='ENGLAND GE2029'!S3*100 -> -0.57821212 | Q2: ='ENGLAND GE2029'!I3 -> 0.12840878 | R2: ='ENGLAND GE2029'!T3*100 -> 7.4847846 | T2: 0 | U2: =MAX('ENGLAND GE2029'!J3,'ENGLAND GE2029'!K3,'ENGLAND GE2029'!L3,'ENGLAND GE2029'!M3,'ENGLAND GE2029'!N3) -> 0.047958923 | V2: =IF(Z2=U2,AA2,IF(U2=AB2,AC2,IF(U2=AD2,AE2,IF(U2=AF2,AG2,IF(U2=AH2,AI2,"="))))) -> 4.7958923 | Z2: ='ENGLAND GE2029'!J3 -> 0 | AA2: ='ENGLAND GE2029'!U3*100 -> 0 | AB2: ='ENGLAND GE2029'!K3 -> 0 | AC2: ='ENGLAND GE2029'!V3*100 -> 0 | AD2: ='ENGLAND GE2029'!L3 -> 0.047958923 | AE2: =AD2*100 -> 4.7958923 | AF2: ='ENGLAND GE2029'!M3 -> 0.0021030309 | AG2: =AF2*100 -> 0.21030309 | AH2: ='ENGLAND GE2029'!N3 -> 0 | AI2: ='ENGLAND GE2029'!Y3*100 -> 0 | AJ2: =MAX(I2,K2,M2,O2,Q2,S2,AH2,Z2,AB2) -> 0.4417057 | AK2: =Q2-AJ2 -> -0.31329692
A3: ='ENGLAND GE2029'!A4 -> Bolsover | B3: ='ENGLAND GE2029'!B4 -> DBY | C3: ='ENGLAND GE2029'!C4 -> East M | D3: ='ENGLAND GE2029'!D4 -> England | E3: ='ENGLAND GE2029'!AP4 -> Ref | F3: ='ENGLAND GE2029'!AQ4 -> gain from | G3: ='ENGLAND GE2029'!AR4 -> LAB | H3: =IF(E3='ENGLAND GE2029'!AO4,"",E3) -> Ref | I3: ='ENGLAND GE2029'!E4 -> 0.19751276 | J3: ='ENGLAND GE2029'!P4*100 -> -20.775188 | K3: ='ENGLAND GE2029'!F4 -> 0.17761165 | L3: ='ENGLAND GE2029'!Q4*100 -> -7.8645124 | M3: ='ENGLAND GE2029'!G4 -> 0.33822238 | N3: ='ENGLAND GE2029'!R4*100 -> 12.304115 | O3: ='ENGLAND GE2029'!H4 -> 0.030034677 | P3: ='ENGLAND GE2029'!S4*100 -> -0.47958829 | Q3: ='ENGLAND GE2029'!I4 -> 0.21635215 | R3: ='ENGLAND GE2029'!T4*100 -> 12.788535 | T3: 0 | U3: =MAX('ENGLAND GE2029'!J4,'ENGLAND GE2029'!K4,'ENGLAND GE2029'!L4,'ENGLAND GE2029'!M4,'ENGLAND GE2029'!N4) -> 0.036723051 | V3: =IF(Z3=U3,AA3,IF(U3=AB3,AC3,IF(U3=AD3,AE3,IF(U3=AF3,AG3,IF(U3=AH3,AI3,"="))))) -> 3.6723051 | Z3: ='ENGLAND GE2029'!J4 -> 0 | AA3: ='ENGLAND GE2029'!U4*100 -> 0 | AB3: ='ENGLAND GE2029'!K4 -> 0 | AC3: ='ENGLAND GE2029'!V4*100 -> 0 | AD3: ='ENGLAND GE2029'!L4 -> 0.036723051 | AE3: =AD3*100 -> 3.6723051 | AF3: ='ENGLAND GE2029'!M4 -> 0.0035433345 | AG3: =AF3*100 -> 0.35433345 | AH3: ='ENGLAND GE2029'!N4 -> 0 | AI3: ='ENGLAND GE2029'!Y4*100 -> 0 | AJ3: =MAX(I3,K3,M3,O3,Q3,S3,AH3,Z3,AB3) -> 0.33822238 | AK3: =Q3-AJ3 -> -0.12187023
A4: ='ENGLAND GE2029'!A5 -> Chesterfield | B4: ='ENGLAND GE2029'!B5 -> DBY | C4: ='ENGLAND GE2029'!C5 -> East M | D4: ='ENGLAND GE2029'!D5 -> England | E4: ='ENGLAND GE2029'!AP5 -> Ref | F4: ='ENGLAND GE2029'!AQ5 -> gain from | G4: ='ENGLAND GE2029'!AR5 -> LAB | H4: =IF(E4='ENGLAND GE2029'!AO5,"",E4) -> Ref | I4: ='ENGLAND GE2029'!E5 -> 0.24579343 | J4: ='ENGLAND GE2029'!P5*100 -> -21.903631 | K4: ='ENGLAND GE2029'!F5 -> 0.1537472 | L4: ='ENGLAND GE2029'!Q5*100 -> -5.0704728 | M4: ='ENGLAND GE2029'!G5 -> 0.32408336 | N4: ='ENGLAND GE2029'!R5*100 -> 13.404606 | O4: ='ENGLAND GE2029'!H5 -> 0.057479099 | P4: ='ENGLAND GE2029'!S5*100 -> -0.39575513 | Q4: ='ENGLAND GE2029'!I5 -> 0.17125226 | R4: ='ENGLAND GE2029'!T5*100 -> 10.671129 | T4: 0 | U4: =MAX('ENGLAND GE2029'!J5,'ENGLAND GE2029'!K5,'ENGLAND GE2029'!L5,'ENGLAND GE2029'!M5,'ENGLAND GE2029'!N5) -> 0.035187883 | V4: =IF(Z4=U4,AA4,IF(U4=AB4,AC4,IF(U4=AD4,AE4,IF(U4=AF4,AG4,IF(U4=AH4,AI4,"="))))) -> 3.5187883 | Z4: ='ENGLAND GE2029'!J5 -> 0 | AA4: ='ENGLAND GE2029'!U5*100 -> 0 | AB4: ='ENGLAND GE2029'!K5 -> 0.0040028773 | AC4: ='ENGLAND GE2029'!V5*100 -> -0.1965117 | AD4: ='ENGLAND GE2029'!L5 -> 0.035187883 | AE4: =AD4*100 -> 3.5187883 | AF4: ='ENGLAND GE2029'!M5 -> 0.0030640518 | AG4: =AF4*100 -> 0.30640518 | AH4: ='ENGLAND GE2029'!N5 -> 0.0053898393 | AI4: ='ENGLAND GE2029'!Y5*100 -> -0.33455716 | AJ4: =MAX(I4,K4,M4,O4,Q4,S4,AH4,Z4,AB4) -> 0.32408336 | AK4: =Q4-AJ4 -> -0.1528311
A5: ='ENGLAND GE2029'!A6 -> Derby North | B5: ='ENGLAND GE2029'!B6 -> DBY | C5: ='ENGLAND GE2029'!C6 -> East M | D5: ='ENGLAND GE2029'!D6 -> England | E5: ='ENGLAND GE2029'!AP6 -> Ref | F5: ='ENGLAND GE2029'!AQ6 -> gain from | G5: ='ENGLAND GE2029'!AR6 -> LAB | H5: =IF(E5='ENGLAND GE2029'!AO6,"",E5) -> Ref | I5: ='ENGLAND GE2029'!E6 -> 0.23516694 | J5: ='ENGLAND GE2029'!P6*100 -> -21.985396 | K5: ='ENGLAND GE2029'!F6 -> 0.1743052 | L5: ='ENGLAND GE2029'!Q6*100 -> -6.2846243 | M5: ='ENGLAND GE2029'!G6 -> 0.30501926 | N5: ='ENGLAND GE2029'!R6*100 -> 12.202359 | O5: ='ENGLAND GE2029'!H6 -> 0.040716867 | P5: ='ENGLAND GE2029'!S6*100 -> -0.38101258 | Q5: ='ENGLAND GE2029'!I6 -> 0.20826291 | R5: ='ENGLAND GE2029'!T6*100 -> 12.795792 | T5: 0 | U5: =MAX('ENGLAND GE2029'!J6,'ENGLAND GE2029'!K6,'ENGLAND GE2029'!L6,'ENGLAND GE2029'!M6,'ENGLAND GE2029'!N6) -> 0.033117968 | V5: =IF(Z5=U5,AA5,IF(U5=AB5,AC5,IF(U5=AD5,AE5,IF(U5=AF5,AG5,IF(U5=AH5,AI5,"="))))) -> 3.3117968 | Z5: ='ENGLAND GE2029'!J6 -> 0 | AA5: ='ENGLAND GE2029'!U6*100 -> 0 | AB5: ='ENGLAND GE2029'!K6 -> 0 | AC5: ='ENGLAND GE2029'!V6*100 -> 0 | AD5: ='ENGLAND GE2029'!L6 -> 0.033117968 | AE5: =AD5*100 -> 3.3117968 | AF5: ='ENGLAND GE2029'!M6 -> 0.0034108521 | AG5: =AF5*100 -> 0.34108521 | AH5: ='ENGLAND GE2029'!N6 -> 0 | AI5: ='ENGLAND GE2029'!Y6*100 -> 0 | AJ5: =MAX(I5,K5,M5,O5,Q5,S5,AH5,Z5,AB5) -> 0.30501926 | AK5: =Q5-AJ5 -> -0.09675635
A6: ='ENGLAND GE2029'!A7 -> Derby South | B6: ='ENGLAND GE2029'!B7 -> DBY | C6: ='ENGLAND GE2029'!C7 -> East M | D6: ='ENGLAND GE2029'!D7 -> England | E6: ='ENGLAND GE2029'!AP7 -> Ref | F6: ='ENGLAND GE2029'!AQ7 -> gain from | G6: ='ENGLAND GE2029'!AR7 -> LAB | H6: =IF(E6='ENGLAND GE2029'!AO7,"",E6) -> Ref | I6: ='ENGLAND GE2029'!E7 -> 0.19568517 | J6: ='ENGLAND GE2029'!P7*100 -> -19.210595 | K6: ='ENGLAND GE2029'!F7 -> 0.099626389 | L6: ='ENGLAND GE2029'!Q7*100 -> -3.9200852 | M6: ='ENGLAND GE2029'!G7 -> 0.36992322 | N6: ='ENGLAND GE2029'!R7*100 -> 14.261768 | O6: ='ENGLAND GE2029'!H7 -> 0.043138424 | P6: ='ENGLAND GE2029'!S7*100 -> -0.5178376 | Q6: ='ENGLAND GE2029'!I7 -> 0.12857291 | R6: ='ENGLAND GE2029'!T7*100 -> 7.7796155 | T6: 0 | U6: =MAX('ENGLAND GE2029'!J7,'ENGLAND GE2029'!K7,'ENGLAND GE2029'!L7,'ENGLAND GE2029'!M7,'ENGLAND GE2029'!N7) -> 0.11468776 | V6: =IF(Z6=U6,AA6,IF(U6=AB6,AC6,IF(U6=AD6,AE6,IF(U6=AF6,AG6,IF(U6=AH6,AI6,"="))))) -> -2.4487083 | Z6: ='ENGLAND GE2029'!J7 -> 0 | AA6: ='ENGLAND GE2029'!U7*100 -> -0.78076954 | AB6: ='ENGLAND GE2029'!K7 -> 0.11468776 | AC6: ='ENGLAND GE2029'!V7*100 -> -2.4487083 | AD6: ='ENGLAND GE2029'!L7 -> 0.040165022 | AE6: =AD6*100 -> 4.0165022 | AF6: ='ENGLAND GE2029'!M7 -> 0.008201105 | AG6: =AF6*100 -> 0.8201105 | AH6: ='ENGLAND GE2029'!N7 -> 0 | AI6: ='ENGLAND GE2029'!Y7*100 -> 0 | AJ6: =MAX(I6,K6,M6,O6,Q6,S6,AH6,Z6,AB6) -> 0.36992322 | AK6: =Q6-AJ6 -> -0.2413503
A7: ='ENGLAND GE2029'!A8 -> Derbyshire Dales | B7: ='ENGLAND GE2029'!B8 -> DBY | C7: ='ENGLAND GE2029'!C8 -> East M | D7: ='ENGLAND GE2029'!D8 -> England | E7: ='ENGLAND GE2029'!AP8 -> Ref | F7: ='ENGLAND GE2029'!AQ8 -> gain from | G7: ='ENGLAND GE2029'!AR8 -> LAB | H7: =IF(E7='ENGLAND GE2029'!AO8,"",E7) -> Ref | I7: ='ENGLAND GE2029'!E8 -> 0.18921001 | J7: ='ENGLAND GE2029'!P8*100 -> -15.715838 | K7: ='ENGLAND GE2029'!F8 -> 0.26377831 | L7: ='ENGLAND GE2029'!Q8*100 -> -7.576374 | M7: ='ENGLAND GE2029'!G8 -> 0.26554262 | N7: ='ENGLAND GE2029'!R8*100 -> 11.481708 | O7: ='ENGLAND GE2029'!H8 -> 0.091615286 | P7: ='ENGLAND GE2029'!S8*100 -> -0.31732929 | Q7: ='ENGLAND GE2029'!I8 -> 0.15129916 | R7: ='ENGLAND GE2029'!T8*100 -> 9.6103338 | T7: 0 | U7: =MAX('ENGLAND GE2029'!J8,'ENGLAND GE2029'!K8,'ENGLAND GE2029'!L8,'ENGLAND GE2029'!M8,'ENGLAND GE2029'!N8) -> 0.028831727 | V7: =IF(Z7=U7,AA7,IF(U7=AB7,AC7,IF(U7=AD7,AE7,IF(U7=AF7,AG7,IF(U7=AH7,AI7,"="))))) -> 2.8831727 | Z7: ='ENGLAND GE2029'!J8 -> 0.0036946496 | AA7: ='ENGLAND GE2029'!U8*100 -> -0.3502261 | AB7: ='ENGLAND GE2029'!K8 -> 0 | AC7: ='ENGLAND GE2029'!V8*100 -> 0 | AD7: ='ENGLAND GE2029'!L8 -> 0.028831727 | AE7: =AD7*100 -> 2.8831727 | AF7: ='ENGLAND GE2029'!M8 -> 0.0028010139 | AG7: =AF7*100 -> 0.28010139 | AH7: ='ENGLAND GE2029'!N8 -> 0.0032272233 | AI7: ='ENGLAND GE2029'!Y8*100 -> -0.29554885 | AJ7: =MAX(I7,K7,M7,O7,Q7,S7,AH7,Z7,AB7) -> 0.26554262 | AK7: =Q7-AJ7 -> -0.11424346
A8: ='ENGLAND GE2029'!A9 -> Erewash | B8: ='ENGLAND GE2029'!B9 -> DBY | C8: ='ENGLAND GE2029'!C9 -> East M | D8: ='ENGLAND GE2029'!D9 -> England | E8: ='ENGLAND GE2029'!AP9 -> Ref | F8: ='ENGLAND GE2029'!AQ9 -> gain from | G8: ='ENGLAND GE2029'!AR9 -> LAB | H8: =IF(E8='ENGLAND GE2029'!AO9,"",E8) -> Ref | I8: ='ENGLAND GE2029'!E9 -> 0.20605586 | J8: ='ENGLAND GE2029'!P9*100 -> -19.44464 | K8: ='ENGLAND GE2029'!F9 -> 0.19335706 | L8: ='ENGLAND GE2029'!Q9*100 -> -7.0908388 | M8: ='ENGLAND GE2029'!G9 -> 0.35349458 | N8: ='ENGLAND GE2029'!R9*100 -> 14.045454 | O8: ='ENGLAND GE2029'!H9 -> 0.051350871 | P8: ='ENGLAND GE2029'!S9*100 -> -0.50598626 | Q8: ='ENGLAND GE2029'!I9 -> 0.14875676 | R8: ='ENGLAND GE2029'!T9*100 -> 9.1136896 | T8: 0 | U8: =MAX('ENGLAND GE2029'!J9,'ENGLAND GE2029'!K9,'ENGLAND GE2029'!L9,'ENGLAND GE2029'!M9,'ENGLAND GE2029'!N9) -> 0.038381255 | V8: =IF(Z8=U8,AA8,IF(U8=AB8,AC8,IF(U8=AD8,AE8,IF(U8=AF8,AG8,IF(U8=AH8,AI8,"="))))) -> 3.8381255 | Z8: ='ENGLAND GE2029'!J9 -> 0.0058222362 | AA8: ='ENGLAND GE2029'!U9*100 -> -0.23394157 | AB8: ='ENGLAND GE2029'!K9 -> 0 | AC8: ='ENGLAND GE2029'!V9*100 -> 0 | AD8: ='ENGLAND GE2029'!L9 -> 0.038381255 | AE8: =AD8*100 -> 3.8381255 | AF8: ='ENGLAND GE2029'!M9 -> 0.0027813735 | AG8: =AF8*100 -> 0.27813735 | AH8: ='ENGLAND GE2029'!N9 -> 0 | AI8: ='ENGLAND GE2029'!Y9*100 -> 0 | AJ8: =MAX(I8,K8,M8,O8,Q8,S8,AH8,Z8,AB8) -> 0.35349458 | AK8: =Q8-AJ8 -> -0.20473782
A9: ='ENGLAND GE2029'!A10 -> High Peak | B9: ='ENGLAND GE2029'!B10 -> DBY | C9: ='ENGLAND GE2029'!C10 -> East M | D9: ='ENGLAND GE2029'!D10 -> England | E9: ='ENGLAND GE2029'!AP10 -> Lab | F9: ='ENGLAND GE2029'!AQ10 -> HOLD | G9: ='ENGLAND GE2029'!AR10 | H9: =IF(E9='ENGLAND GE2029'!AO10,"",E9) | I9: ='ENGLAND GE2029'!E10 -> 0.25466577 | J9: ='ENGLAND GE2029'!P10*100 -> -20.326619 | K9: ='ENGLAND GE2029'!F10 -> 0.23506451 | L9: ='ENGLAND GE2029'!Q10*100 -> -6.2155337 | M9: ='ENGLAND GE2029'!G10 -> 0.25365294 | N9: ='ENGLAND GE2029'!R10*100 -> 11.22271 | O9: ='ENGLAND GE2029'!H10 -> 0.03413431 | P9: ='ENGLAND GE2029'!S10*100 -> -0.055658093 | Q9: ='ENGLAND GE2029'!I10 -> 0.19180045 | R9: ='ENGLAND GE2029'!T10*100 -> 12.306899 | T9: 0 | U9: =MAX('ENGLAND GE2029'!J10,'ENGLAND GE2029'!K10,'ENGLAND GE2029'!L10,'ENGLAND GE2029'!M10,'ENGLAND GE2029'!N10) -> 0.027540785 | V9: =IF(Z9=U9,AA9,IF(U9=AB9,AC9,IF(U9=AD9,AE9,IF(U9=AF9,AG9,IF(U9=AH9,AI9,"="))))) -> 2.7540785 | Z9: ='ENGLAND GE2029'!J10 -> 0 | AA9: ='ENGLAND GE2029'!U10*100 -> 0 | AB9: ='ENGLAND GE2029'!K10 -> 0 | AC9: ='ENGLAND GE2029'!V10*100 -> 0 | AD9: ='ENGLAND GE2029'!L10 -> 0.027540785 | AE9: =AD9*100 -> 2.7540785 | AF9: ='ENGLAND GE2029'!M10 -> 0.003141236 | AG9: =AF9*100 -> 0.3141236 | AH9: ='ENGLAND GE2029'!N10 -> 0 | AI9: ='ENGLAND GE2029'!Y10*100 -> 0 | AJ9: =MAX(I9,K9,M9,O9,Q9,S9,AH9,Z9,AB9) -> 0.25466577 | AK9: =Q9-AJ9 -> -0.062865318
A10: ='ENGLAND GE2029'!A11 -> Mid Derbyshire | B10: ='ENGLAND GE2029'!B11 -> DBY | C10: ='ENGLAND GE2029'!C11 -> East M | D10: ='ENGLAND GE2029'!D11 -> England | E10: ='ENGLAND GE2029'!AP11 -> Ref | F10: ='ENGLAND GE2029'!AQ11 -> gain from | G10: ='ENGLAND GE2029'!AR11 -> LAB | H10: =IF(E10='ENGLAND GE2029'!AO11,"",E10) -> Ref | I10: ='ENGLAND GE2029'!E11 -> 0.18844448 | J10: ='ENGLAND GE2029'!P11*100 -> -17.640418 | K10: ='ENGLAND GE2029'!F11 -> 0.23897798 | L10: ='ENGLAND GE2029'!Q11*100 -> -8.6369596 | M10: ='ENGLAND GE2029'!G11 -> 0.29276829 | N10: ='ENGLAND GE2029'!R11*100 -> 11.70116 | O10: ='ENGLAND GE2029'!H11 -> 0.045382261 | P10: ='ENGLAND GE2029'!S11*100 -> -0.42780463 | Q10: ='ENGLAND GE2029'!I11 -> 0.19336138 | R10: ='ENGLAND GE2029'!T11*100 -> 11.875523 | T10: 0 | U10: =MAX('ENGLAND GE2029'!J11,'ENGLAND GE2029'!K11,'ENGLAND GE2029'!L11,'ENGLAND GE2029'!M11,'ENGLAND GE2029'!N11) -> 0.031787798 | V10: =IF(Z10=U10,AA10,IF(U10=AB10,AC10,IF(U10=AD10,AE10,IF(U10=AF10,AG10,IF(U10=AH10,AI10,"="))))) -> 3.1787798 | Z10: ='ENGLAND GE2029'!J11 -> 0.0038974212 | AA10: ='ENGLAND GE2029'!U11*100 -> -0.27281599 | AB10: ='ENGLAND GE2029'!K11 -> 0.001798433 | AC10: ='ENGLAND GE2029'!V11*100 -> -0.13566056 | AD10: ='ENGLAND GE2029'!L11 -> 0.031787798 | AE10: =AD10*100 -> 3.1787798 | AF10: ='ENGLAND GE2029'!M11 -> 0.0035819574 | AG10: =AF10*100 -> 0.35819574 | AH10: ='ENGLAND GE2029'!N11 -> 0 | AI10: ='ENGLAND GE2029'!Y11*100 -> 0 | AJ10: =MAX(I10,K10,M10,O10,Q10,S10,AH10,Z10,AB10) -> 0.29276829 | AK10: =Q10-AJ10 -> -0.099406907
A11: ='ENGLAND GE2029'!A12 -> North East Derbyshire | B11: ='ENGLAND GE2029'!B12 -> DBY | C11: ='ENGLAND GE2029'!C12 -> East M | D11: ='ENGLAND GE2029'!D12 -> England | E11: ='ENGLAND GE2029'!AP12 -> Ref | F11: ='ENGLAND GE2029'!AQ12 -> gain from | G11: ='ENGLAND GE2029'!AR12 -> LAB | H11: =IF(E11='ENGLAND GE2029'!AO12,"",E11) -> Ref | I11: ='ENGLAND GE2029'!E12 -> 0.20962524 | J11: ='ENGLAND GE2029'!P12*100 -> -17.390505 | K11: ='ENGLAND GE2029'!F12 -> 0.2684065 | L11: ='ENGLAND GE2029'!Q12*100 -> -7.6903756 | M11: ='ENGLAND GE2029'!G12 -> 0.30357546 | N11: ='ENGLAND GE2029'!R12*100 -> 13.135639 | O11: ='ENGLAND GE2029'!H12 -> 0.045520994 | P11: ='ENGLAND GE2029'!S12*100 -> -0.15509108 | Q11: ='ENGLAND GE2029'!I12 -> 0.13579839 | R11: ='ENGLAND GE2029'!T12*100 -> 8.6284592 | T11: 0 | U11: =MAX('ENGLAND GE2029'!J12,'ENGLAND GE2029'!K12,'ENGLAND GE2029'!L12,'ENGLAND GE2029'!M12,'ENGLAND GE2029'!N12) -> 0.032961205 | V11: =IF(Z11=U11,AA11,IF(U11=AB11,AC11,IF(U11=AD11,AE11,IF(U11=AF11,AG11,IF(U11=AH11,AI11,"="))))) -> 3.2961205 | Z11: ='ENGLAND GE2029'!J12 -> 0 | AA11: ='ENGLAND GE2029'!U12*100 -> 0 | AB11: ='ENGLAND GE2029'!K12 -> 0 | AC11: ='ENGLAND GE2029'!V12*100 -> 0 | AD11: ='ENGLAND GE2029'!L12 -> 0.032961205 | AE11: =AD11*100 -> 3.2961205 | AF11: ='ENGLAND GE2029'!M12 -> 0.0022240553 | AG11: =AF11*100 -> 0.22240553 | AH11: ='ENGLAND GE2029'!N12 -> 0.0018881599 | AI11: ='ENGLAND GE2029'!Y12*100 -> -0.046652548 | AJ11: =MAX(I11,K11,M11,O11,Q11,S11,AH11,Z11,AB11) -> 0.30357546 | AK11: =Q11-AJ11 -> -0.16777707
A12: ='ENGLAND GE2029'!A13 -> South Derbyshire | B12: ='ENGLAND GE2029'!B13 -> DBY | C12: ='ENGLAND GE2029'!C13 -> East M | D12: ='ENGLAND GE2029'!D13 -> England | E12: ='ENGLAND GE2029'!AP13 -> Ref | F12: ='ENGLAND GE2029'!AQ13 -> gain from | G12: ='ENGLAND GE2029'!AR13 -> LAB | H12: =IF(E12='ENGLAND GE2029'!AO13,"",E12) -> Ref | I12: ='ENGLAND GE2029'!E13 -> 0.20994139 | J12: ='ENGLAND GE2029'!P13*100 -> -17.77972 | K12: ='ENGLAND GE2029'!F13 -> 0.22839302 | L12: ='ENGLAND GE2029'!Q13*100 -> -6.8215855 | M12: ='ENGLAND GE2029'!G13 -> 0.34281581 | N12: ='ENGLAND GE2029'!R13*100 -> 14.649773 | O12: ='ENGLAND GE2029'!H13 -> 0.044698386 | P12: ='ENGLAND GE2029'!S13*100 -> -0.19596811 | Q12: ='ENGLAND GE2029'!I13 -> 0.1153032 | R12: ='ENGLAND GE2029'!T13*100 -> 7.2864911 | T12: 0 | U12: =MAX('ENGLAND GE2029'!J13,'ENGLAND GE2029'!K13,'ENGLAND GE2029'!L13,'ENGLAND GE2029'!M13,'ENGLAND GE2029'!N13) -> 0.037221791 | V12: =IF(Z12=U12,AA12,IF(U12=AB12,AC12,IF(U12=AD12,AE12,IF(U12=AF12,AG12,IF(U12=AH12,AI12,"="))))) -> 3.7221791 | Z12: ='ENGLAND GE2029'!J13 -> 0.018570536 | AA12: ='ENGLAND GE2029'!U13*100 -> -0.7666428 | AB12: ='ENGLAND GE2029'!K13 -> 0 | AC12: ='ENGLAND GE2029'!V13*100 -> 0 | AD12: ='ENGLAND GE2029'!L13 -> 0.037221791 | AE12: =AD12*100 -> 3.7221791 | AF12: ='ENGLAND GE2029'!M13 -> 0.0030558688 | AG12: =AF12*100 -> 0.30558688 | AH12: ='ENGLAND GE2029'!N13 -> 0 | AI12: ='ENGLAND GE2029'!Y13*100 -> -0.40011369 | AJ12: =MAX(I12,K12,M12,O12,Q12,S12,AH12,Z12,AB12) -> 0.34281581 | AK12: =Q12-AJ12 -> -0.22751261
A13: ='ENGLAND GE2029'!A14 -> Harborough, Oadby and Wigston | B13: ='ENGLAND GE2029'!B14 -> LEI | C13: ='ENGLAND GE2029'!C14 -> East M | D13: ='ENGLAND GE2029'!D14 -> England | E13: ='ENGLAND GE2029'!AP14 -> Con | F13: ='ENGLAND GE2029'!AQ14 -> HOLD | G13: ='ENGLAND GE2029'!AR14 | H13: =IF(E13='ENGLAND GE2029'!AO14,"",E13) | I13: ='ENGLAND GE2029'!E14 -> 0.1694981 | J13: ='ENGLAND GE2029'!P14*100 -> -15.273427 | K13: ='ENGLAND GE2029'!F14 -> 0.27635361 | L13: ='ENGLAND GE2029'!Q14*100 -> -9.3074401 | M13: ='ENGLAND GE2029'!G14 -> 0.21319068 | N13: ='ENGLAND GE2029'!R14*100 -> 8.752085 | O13: ='ENGLAND GE2029'!H14 -> 0.087405063 | P13: ='ENGLAND GE2029'!S14*100 -> -0.65099134 | Q13: ='ENGLAND GE2029'!I14 -> 0.22363327 | R13: ='ENGLAND GE2029'!T14*100 -> 13.890735 | T13: 0 | U13: =MAX('ENGLAND GE2029'!J14,'ENGLAND GE2029'!K14,'ENGLAND GE2029'!L14,'ENGLAND GE2029'!M14,'ENGLAND GE2029'!N14) -> 0.023147529 | V13: =IF(Z13=U13,AA13,IF(U13=AB13,AC13,IF(U13=AD13,AE13,IF(U13=AF13,AG13,IF(U13=AH13,AI13,"="))))) -> 2.3147529 | Z13: ='ENGLAND GE2029'!J14 -> 0 | AA13: ='ENGLAND GE2029'!U14*100 -> 0 | AB13: ='ENGLAND GE2029'!K14 -> 0 | AC13: ='ENGLAND GE2029'!V14*100 -> 0 | AD13: ='ENGLAND GE2029'!L14 -> 0.023147529 | AE13: =AD13*100 -> 2.3147529 | AF13: ='ENGLAND GE2029'!M14 -> 0.003662582 | AG13: =AF13*100 -> 0.3662582 | AH13: ='ENGLAND GE2029'!N14 -> 0.0031091653 | AI13: ='ENGLAND GE2029'!Y14*100 -> -0.091973163 | AJ13: =MAX(I13,K13,M13,O13,Q13,S13,AH13,Z13,AB13) -> 0.27635361 | AK13: =Q13-AJ13 -> -0.052720347
... A544: ='ENGLAND GE2029'!A545 -> Wetherby and Easingwold | B544: ='ENGLAND GE2029'!B545 -> WYK | C544: ='ENGLAND GE2029'!C545 -> YH | D544: ='ENGLAND GE2029'!D545 -> England | E544: ='ENGLAND GE2029'!AP545 -> Con | F544: ='ENGLAND GE2029'!AQ545 -> HOLD | G544: ='ENGLAND GE2029'!AR545 | H544: =IF(E544='ENGLAND GE2029'!AO545,"",E544) | I544: ='ENGLAND GE2029'!E545 -> 0.15442065 | J544: ='ENGLAND GE2029'!P545*100 -> -14.698198 | K544: ='ENGLAND GE2029'!F545 -> 0.28717119 | L544: ='ENGLAND GE2029'!Q545*100 -> -10.696188 | M544: ='ENGLAND GE2029'!G545 -> 0.24980287 | N544: ='ENGLAND GE2029'!R545*100 -> 11.034364 | O544: ='ENGLAND GE2029'!H545 -> 0.058126977 | P544: ='ENGLAND GE2029'!S545*100 -> -0.59959493 | Q544: ='ENGLAND GE2029'!I545 -> 0.20687476 | R544: ='ENGLAND GE2029'!T545*100 -> 12.021026 | T544: 0 | U544: =MAX('ENGLAND GE2029'!J545,'ENGLAND GE2029'!K545,'ENGLAND GE2029'!L545,'ENGLAND GE2029'!M545,'ENGLAND GE2029'!N545) -> 0.03016374 | V544: =IF(Z544=U544,AA544,IF(U544=AB544,AC544,IF(U544=AD544,AE544,IF(U544=AF544,AG544,IF(U544=AH544,AI544,"="))))) -> 3.016374 | Z544: ='ENGLAND GE2029'!J545 -> 0 | AA544: ='ENGLAND GE2029'!U545*100 -> 0 | AB544: ='ENGLAND GE2029'!K545 -> 0 | AC544: ='ENGLAND GE2029'!V545*100 -> 0 | AD544: ='ENGLAND GE2029'!L545 -> 0.03016374 | AE544: =AD544*100 -> 3.016374 | AF544: ='ENGLAND GE2029'!M545 -> 0.0031212212 | AG544: =AF544*100 -> 0.31212212 | AH544: ='ENGLAND GE2029'!N545 -> 0.010318592 | AI544: ='ENGLAND GE2029'!Y545*100 -> -0.3899055 | AJ544: =MAX(I544,K544,M544,O544,Q544,S544,AH544,Z544,AB544) -> 0.28717119 | AK544: =Q544-AJ544 -> -0.080296427
A545: ='SCOTLAND GE2029'!A3 -> Aberdeen North | B545: ='SCOTLAND GE2029'!#REF! -> #REF! | C545: ='SCOTLAND GE2029'!#REF! -> #REF! | D545: ='SCOTLAND GE2029'!#REF! -> #REF! | E545: ='SCOTLAND GE2029'!AL3 -> SNP | F545: ='SCOTLAND GE2029'!AM3 -> HOLD | G545: ='SCOTLAND GE2029'!AN3 | H545: =IF(E545='SCOTLAND GE2029'!AK3,"",E545) | I545: ='SCOTLAND GE2029'!B3 -> 0.13387141 | J545: ='SCOTLAND GE2029'!L3*100 -> -16.95613 | K545: ='SCOTLAND GE2029'!C3 -> 0.11091108 | L545: ='SCOTLAND GE2029'!M3*100 -> -2.8796728 | M545: ='SCOTLAND GE2029'!D3 -> 0.23375728 | N545: ='SCOTLAND GE2029'!N3*100 -> 14.393664 | O545: ='SCOTLAND GE2029'!E3 -> 0.057888289 | P545: ='SCOTLAND GE2029'!O3*100 -> -0.34729182 | Q545: ='SCOTLAND GE2029'!F3 -> 0.073525782 | R545: ='SCOTLAND GE2029'!P3*100 -> 4.3237149 | S545: ='SCOTLAND GE2029'!I3 -> 0.36098389 | T545: ='SCOTLAND GE2029'!S3*100 -> 1.574099 | U545: =MAX(Z545,AB545,AH545) -> 0.029062268 | V545: =IF(Z545=U545,AA545,IF(AB545=U545,AC545,IF(AH545=U545,AI545,"="))) -> -0.10838297 | Z545: ='SCOTLAND GE2029'!G3 -> 0 | AA545: ='SCOTLAND GE2029'!Q3*100 -> 0 | AB545: ='SCOTLAND GE2029'!H3 -> 0 | AC545: ='SCOTLAND GE2029'!R3*100 -> 0 | AH545: ='SCOTLAND GE2029'!J3 -> 0.029062268 | AI545: ='SCOTLAND GE2029'!T3*100 -> -0.10838297 | AJ545: =MAX(I545,K545,M545,O545,Q545,S545,AH545,Z545,AB545) -> 0.36098389 | AK545: =Q545-AJ545 -> -0.28745811
A546: ='SCOTLAND GE2029'!A4 -> Aberdeen South | B546: ='SCOTLAND GE2029'!#REF! -> #REF! | C546: ='SCOTLAND GE2029'!#REF! -> #REF! | D546: ='SCOTLAND GE2029'!#REF! -> #REF! | E546: ='SCOTLAND GE2029'!AL4 -> SNP | F546: ='SCOTLAND GE2029'!AM4 -> HOLD | G546: ='SCOTLAND GE2029'!AN4 | H546: =IF(E546='SCOTLAND GE2029'!AK4,"",E546) | I546: ='SCOTLAND GE2029'!B4 -> 0.11045906 | J546: ='SCOTLAND GE2029'!L4*100 -> -13.670892 | K546: ='SCOTLAND GE2029'!C4 -> 0.19607106 | L546: ='SCOTLAND GE2029'!M4*100 -> -4.7752439 | M546: ='SCOTLAND GE2029'!D4 -> 0.18196339 | N546: ='SCOTLAND GE2029'!N4*100 -> 11.293761 | O546: ='SCOTLAND GE2029'!E4 -> 0.060229488 | P546: ='SCOTLAND GE2029'!O4*100 -> -0.27978069 | Q546: ='SCOTLAND GE2029'!F4 -> 0.085368338 | R546: ='SCOTLAND GE2029'!P4*100 -> 5.0650461 | S546: ='SCOTLAND GE2029'!I4 -> 0.3476632 | T546: ='SCOTLAND GE2029'!S4*100 -> 1.940773 | U546: =MAX(Z546,AB546,AH546) -> 0.0093325496 | V546: =IF(Z546=U546,AA546,IF(AB546=U546,AC546,IF(AH546=U546,AI546,"="))) -> 0.44776569 | Z546: ='SCOTLAND GE2029'!G4 -> 0.0093325496 | AA546: ='SCOTLAND GE2029'!Q4*100 -> 0.44776569 | AB546: ='SCOTLAND GE2029'!H4 -> 0 | AC546: ='SCOTLAND GE2029'!R4*100 -> 0 | AH546: ='SCOTLAND GE2029'!J4 -> 0.008912911 | AI546: ='SCOTLAND GE2029'!T4*100 -> -0.021428723 | AJ546: =MAX(I546,K546,M546,O546,Q546,S546,AH546,Z546,AB546) -> 0.3476632 | AK546: =Q546-AJ546 -> -0.26229487
A547: ='SCOTLAND GE2029'!A5 -> Aberdeenshire North and Moray East | B547: ='SCOTLAND GE2029'!#REF! -> #REF! | C547: ='SCOTLAND GE2029'!#REF! -> #REF! | D547: ='SCOTLAND GE2029'!#REF! -> #REF! | E547: ='SCOTLAND GE2029'!AL5 -> Ref | F547: ='SCOTLAND GE2029'!AM5 -> gain from | G547: ='SCOTLAND GE2029'!AN5 -> SNP | H547: =IF(E547='SCOTLAND GE2029'!AK5,"",E547) -> Ref | I547: ='SCOTLAND GE2029'!B5 -> 0.039943355 | J547: ='SCOTLAND GE2029'!L5*100 -> -6.1554498 | K547: ='SCOTLAND GE2029'!C5 -> 0.23203368 | L547: ='SCOTLAND GE2029'!M5*100 -> -9.5634695 | M547: ='SCOTLAND GE2029'!D5 -> 0.33810789 | N547: ='SCOTLAND GE2029'!N5*100 -> 19.246005 | O547: ='SCOTLAND GE2029'!E5 -> 0.061304066 | P547: ='SCOTLAND GE2029'!O5*100 -> -1.1546044 | Q547: ='SCOTLAND GE2029'!F5 -> 0 | R547: ='SCOTLAND GE2029'!P5*100 -> 0 | S547: ='SCOTLAND GE2029'!I5 -> 0.328611 | T547: ='SCOTLAND GE2029'!S5*100 -> -2.3724808 | U547: =MAX(Z547,AB547,AH547) -> 0 | V547: =IF(Z547=U547,AA547,IF(AB547=U547,AC547,IF(AH547=U547,AI547,"="))) -> 0 | Z547: ='SCOTLAND GE2029'!G5 -> 0 | AA547: ='SCOTLAND GE2029'!Q5*100 -> 0 | AB547: ='SCOTLAND GE2029'!H5 -> 0 | AC547: ='SCOTLAND GE2029'!R5*100 -> 0 | AH547: ='SCOTLAND GE2029'!J5 -> 0 | AI547: ='SCOTLAND GE2029'!T5*100 -> 0 | AJ547: =MAX(I547,K547,M547,O547,Q547,S547,AH547,Z547,AB547) -> 0.33810789 | AK547: =Q547-AJ547 -> -0.33810789
A548: ='SCOTLAND GE2029'!A6 -> Airdrie and Shotts | B548: ='SCOTLAND GE2029'!#REF! -> #REF! | C548: ='SCOTLAND GE2029'!#REF! -> #REF! | D548: ='SCOTLAND GE2029'!#REF! -> #REF! | E548: ='SCOTLAND GE2029'!AL6 -> SNP | F548: ='SCOTLAND GE2029'!AM6 -> gain from | G548: ='SCOTLAND GE2029'!AN6 -> LAB | H548: =IF(E548='SCOTLAND GE2029'!AK6,"",E548) -> SNP | I548: ='SCOTLAND GE2029'!B6 -> 0.26884314 | J548: ='SCOTLAND GE2029'!L6*100 -> -24.582985 | K548: ='SCOTLAND GE2029'!C6 -> 0.043476914 | L548: ='SCOTLAND GE2029'!M6*100 -> -0.27784721 | M548: ='SCOTLAND GE2029'!D6 -> 0.24967224 | N548: ='SCOTLAND GE2029'!N6*100 -> 16.864349 | O548: ='SCOTLAND GE2029'!E6 -> 0.022085815 | P548: ='SCOTLAND GE2029'!O6*100 -> 0.23127287 | Q548: ='SCOTLAND GE2029'!F6 -> 0 | R548: ='SCOTLAND GE2029'!P6*100 -> 0 | S548: ='SCOTLAND GE2029'!I6 -> 0.38233278 | T548: ='SCOTLAND GE2029'!S6*100 -> 7.3490805 | U548: =MAX(Z548,AB548,AH548) -> 0.033589107 | V548: =IF(Z548=U548,AA548,IF(AB548=U548,AC548,IF(AH548=U548,AI548,"="))) -> 0.41612994 | Z548: ='SCOTLAND GE2029'!G6 -> 0 | AA548: ='SCOTLAND GE2029'!Q6*100 -> 0 | AB548: ='SCOTLAND GE2029'!H6 -> 0 | AC548: ='SCOTLAND GE2029'!R6*100 -> 0 | AH548: ='SCOTLAND GE2029'!J6 -> 0.033589107 | AI548: ='SCOTLAND GE2029'!T6*100 -> 0.41612994 | AJ548: =MAX(I548,K548,M548,O548,Q548,S548,AH548,Z548,AB548) -> 0.38233278 | AK548: =Q548-AJ548 -> -0.38233278
A549: ='SCOTLAND GE2029'!A7 -> Alloa and Grangemouth | B549: ='SCOTLAND GE2029'!#REF! -> #REF! | C549: ='SCOTLAND GE2029'!#REF! -> #REF! | D549: ='SCOTLAND GE2029'!#REF! -> #REF! | E549: ='SCOTLAND GE2029'!AL7 -> SNP | F549: ='SCOTLAND GE2029'!AM7 -> gain from | G549: ='SCOTLAND GE2029'!AN7 -> LAB | H549: =IF(E549='SCOTLAND GE2029'!AK7,"",E549) -> SNP | I549: ='SCOTLAND GE2029'!B7 -> 0.19875082 | J549: ='SCOTLAND GE2029'!L7*100 -> -23.907836 | K549: ='SCOTLAND GE2029'!C7 -> 0.061994501 | L549: ='SCOTLAND GE2029'!M7*100 -> -1.3901715 | M549: ='SCOTLAND GE2029'!D7 -> 0.24722964 | N549: ='SCOTLAND GE2029'!N7*100 -> 15.490178 | O549: ='SCOTLAND GE2029'!E7 -> 0.027117096 | P549: ='SCOTLAND GE2029'!O7*100 -> -0.081911929 | Q549: ='SCOTLAND GE2029'!F7 -> 0.086144012 | R549: ='SCOTLAND GE2029'!P7*100 -> 5.1654558 | S549: ='SCOTLAND GE2029'!I7 -> 0.31117238 | T549: ='SCOTLAND GE2029'!S7*100 -> 2.1931825 | U549: =MAX(Z549,AB549,AH549) -> 0.041752639 | V549: =IF(Z549=U549,AA549,IF(AB549=U549,AC549,IF(AH549=U549,AI549,"="))) -> 2.0369663 | Z549: ='SCOTLAND GE2029'!G7 -> 0.041752639 | AA549: ='SCOTLAND GE2029'!Q7*100 -> 2.0369663 | AB549: ='SCOTLAND GE2029'!H7 -> 0.010478958 | AC549: ='SCOTLAND GE2029'!R7*100 -> 0.50664679 | AH549: ='SCOTLAND GE2029'!J7 -> 0.015359961 | AI549: ='SCOTLAND GE2029'!T7*100 -> -0.01251 | AJ549: =MAX(I549,K549,M549,O549,Q549,S549,AH549,Z549,AB549) -> 0.31117238 | AK549: =Q549-AJ549 -> -0.22502837
A550: ='SCOTLAND GE2029'!A8 -> Angus and Perthshire Glens | B550: ='SCOTLAND GE2029'!#REF! -> #REF! | C550: ='SCOTLAND GE2029'!#REF! -> #REF! | D550: ='SCOTLAND GE2029'!#REF! -> #REF! | E550: ='SCOTLAND GE2029'!AL8 -> SNP | F550: ='SCOTLAND GE2029'!AM8 -> HOLD | G550: ='SCOTLAND GE2029'!AN8 | H550: =IF(E550='SCOTLAND GE2029'!AK8,"",E550) | I550: ='SCOTLAND GE2029'!B8 -> 0.063604782 | J550: ='SCOTLAND GE2029'!L8*100 -> -7.9991569 | K550: ='SCOTLAND GE2029'!C8 -> 0.24024723 | L550: ='SCOTLAND GE2029'!M8*100 -> -6.1180501 | M550: ='SCOTLAND GE2029'!D8 -> 0.17912525 | N550: ='SCOTLAND GE2029'!N8*100 -> 11.056902 | O550: ='SCOTLAND GE2029'!E8 -> 0.063132517 | P550: ='SCOTLAND GE2029'!O8*100 -> -0.35228853 | Q550: ='SCOTLAND GE2029'!F8 -> 0 | R550: ='SCOTLAND GE2029'!P8*100 -> 0 | S550: ='SCOTLAND GE2029'!I8 -> 0.42439442 | T550: ='SCOTLAND GE2029'!S8*100 -> 2.0111245 | U550: =MAX(Z550,AB550,AH550) -> 0.029495805 | V550: =IF(Z550=U550,AA550,IF(AB550=U550,AC550,IF(AH550=U550,AI550,"="))) -> 1.4014687 | Z550: ='SCOTLAND GE2029'!G8 -> 0.029495805 | AA550: ='SCOTLAND GE2029'!Q8*100 -> 1.4014687 | AB550: ='SCOTLAND GE2029'!H8 -> 0 | AC550: ='SCOTLAND GE2029'!R8*100 -> 0 | AH550: ='SCOTLAND GE2029'!J8 -> 0 | AI550: ='SCOTLAND GE2029'!T8*100 -> 0 | AJ550: =MAX(I550,K550,M550,O550,Q550,S550,AH550,Z550,AB550) -> 0.42439442 | AK550: =Q550-AJ550 -> -0.42439442
A551: ='SCOTLAND GE2029'!A9 -> Arbroath and Broughty Ferry | B551: ='SCOTLAND GE2029'!#REF! -> #REF! | C551: ='SCOTLAND GE2029'!#REF! -> #REF! | D551: ='SCOTLAND GE2029'!#REF! -> #REF! | E551: ='SCOTLAND GE2029'!AL9 -> SNP | F551: ='SCOTLAND GE2029'!AM9 -> HOLD | G551: ='SCOTLAND GE2029'!AN9 | H551: =IF(E551='SCOTLAND GE2029'!AK9,"",E551) | I551: ='SCOTLAND GE2029'!B9 -> 0.15795912 | J551: ='SCOTLAND GE2029'!L9*100 -> -17.574444 | K551: ='SCOTLAND GE2029'!C9 -> 0.13207673 | L551: ='SCOTLAND GE2029'!M9*100 -> -2.2988209 | M551: ='SCOTLAND GE2029'!D9 -> 0.24050553 | N551: ='SCOTLAND GE2029'!N9*100 -> 15.437093 | O551: ='SCOTLAND GE2029'!E9 -> 0.051598698 | P551: ='SCOTLAND GE2029'!O9*100 -> 0.062061723 | Q551: ='SCOTLAND GE2029'!F9 -> 0 | R551: ='SCOTLAND GE2029'!P9*100 -> 0 | S551: ='SCOTLAND GE2029'!I9 -> 0.39619671 | T551: ='SCOTLAND GE2029'!S9*100 -> 4.3022196 | U551: =MAX(Z551,AB551,AH551) -> 0.021663212 | V551: =IF(Z551=U551,AA551,IF(AB551=U551,AC551,IF(AH551=U551,AI551,"="))) -> 0.071890453 | Z551: ='SCOTLAND GE2029'!G9 -> 0 | AA551: ='SCOTLAND GE2029'!Q9*100 -> 0 | AB551: ='SCOTLAND GE2029'!H9 -> 0 | AC551: ='SCOTLAND GE2029'!R9*100 -> 0 | AH551: ='SCOTLAND GE2029'!J9 -> 0.021663212 | AI551: ='SCOTLAND GE2029'!T9*100 -> 0.071890453 | AJ551: =MAX(I551,K551,M551,O551,Q551,S551,AH551,Z551,AB551) -> 0.39619671 | AK551: =Q551-AJ551 -> -0.39619671
A552: ='SCOTLAND GE2029'!A10 -> Argyll, Bute and South Lochaber | B552: ='SCOTLAND GE2029'!#REF! -> #REF! | C552: ='SCOTLAND GE2029'!#REF! -> #REF! | D552: ='SCOTLAND GE2029'!#REF! -> #REF! | E552: ='SCOTLAND GE2029'!AL10 -> SNP | F552: ='SCOTLAND GE2029'!AM10 -> HOLD | G552: ='SCOTLAND GE2029'!AN10 | H552: =IF(E552='SCOTLAND GE2029'!AK10,"",E552) | I552: ='SCOTLAND GE2029'!B10 -> 0.085778644 | J552: ='SCOTLAND GE2029'!L10*100 -> -10.558599 | K552: ='SCOTLAND GE2029'!C10 -> 0.16810449 | L552: ='SCOTLAND GE2029'!M10*100 -> -4.0312435 | M552: ='SCOTLAND GE2029'!D10 -> 0.17946912 | N552: ='SCOTLAND GE2029'!N10*100 -> 11.15943 | O552: ='SCOTLAND GE2029'!E10 -> 0.1572277 | P552: ='SCOTLAND GE2029'!O10*100 -> -0.6808676 | Q552: ='SCOTLAND GE2029'!F10 -> 0 | R552: ='SCOTLAND GE2029'!P10*100 -> 0 | S552: ='SCOTLAND GE2029'!I10 -> 0.36897735 | T552: ='SCOTLAND GE2029'!S10*100 -> 2.1645536 | U552: =MAX(Z552,AB552,AH552) -> 0.040442692 | V552: =IF(Z552=U552,AA552,IF(AB552=U552,AC552,IF(AH552=U552,AI552,"="))) -> 1.9467256 | Z552: ='SCOTLAND GE2029'!G10 -> 0.040442692 | AA552: ='SCOTLAND GE2029'!Q10*100 -> 1.9467256 | AB552: ='SCOTLAND GE2029'!H10 -> 0 | AC552: ='SCOTLAND GE2029'!R10*100 -> 0 | AH552: ='SCOTLAND GE2029'!J10 -> 0 | AI552: ='SCOTLAND GE2029'!T10*100 -> 0 | AJ552: =MAX(I552,K552,M552,O552,Q552,S552,AH552,Z552,AB552) -> 0.36897735 | AK552: =Q552-AJ552 -> -0.36897735
A553: ='SCOTLAND GE2029'!A11 -> Ayr, Carrick and Cumnock | B553: ='SCOTLAND GE2029'!#REF! -> #REF! | C553: ='SCOTLAND GE2029'!#REF! -> #REF! | D553: ='SCOTLAND GE2029'!#REF! -> #REF! | E553: ='SCOTLAND GE2029'!AL11 -> SNP | F553: ='SCOTLAND GE2029'!AM11 -> gain from | G553: ='SCOTLAND GE2029'!AN11 -> LAB | H553: =IF(E553='SCOTLAND GE2029'!AK11,"",E553) -> SNP | I553: ='SCOTLAND GE2029'!B11 -> 0.17314011 | J553: ='SCOTLAND GE2029'!L11*100 -> -19.157555 | K553: ='SCOTLAND GE2029'!C11 -> 0.19296012 | L553: ='SCOTLAND GE2029'!M11*100 -> -3.2929077 | M553: ='SCOTLAND GE2029'!D11 -> 0.2424349 | N553: ='SCOTLAND GE2029'!N11*100 -> 15.586074 | O553: ='SCOTLAND GE2029'!E11 -> 0.026806182 | P553: ='SCOTLAND GE2029'!O11*100 -> 0.039910705 | Q553: ='SCOTLAND GE2029'!F11 -> 0.056533536 | R553: ='SCOTLAND GE2029'!P11*100 -> 3.4889994 | S553: ='SCOTLAND GE2029'!I11 -> 0.29616456 | T553: ='SCOTLAND GE2029'!S11*100 -> 3.2924381 | U553: =MAX(Z553,AB553,AH553) -> 0.011960597 | V553: =IF(Z553=U553,AA553,IF(AB553=U553,AC553,IF(AH553=U553,AI553,"="))) -> 0.043040309 | Z553: ='SCOTLAND GE2029'!G11 -> 0 | AA553: ='SCOTLAND GE2029'!Q11*100 -> 0 | AB553: ='SCOTLAND GE2029'!H11 -> 0 | AC553: ='SCOTLAND GE2029'!R11*100 -> 0 | AH553: ='SCOTLAND GE2029'!J11 -> 0.011960597 | AI553: ='SCOTLAND GE2029'!T11*100 -> 0.043040309 | AJ553: =MAX(I553,K553,M553,O553,Q553,S553,AH553,Z553,AB553) -> 0.29616456 | AK553: =Q553-AJ553 -> -0.23963103
A554: ='SCOTLAND GE2029'!A12 -> Bathgate and Linlithgow | B554: ='SCOTLAND GE2029'!#REF! -> #REF! | C554: ='SCOTLAND GE2029'!#REF! -> #REF! | D554: ='SCOTLAND GE2029'!#REF! -> #REF! | E554: ='SCOTLAND GE2029'!AL12 -> SNP | F554: ='SCOTLAND GE2029'!AM12 -> gain from | G554: ='SCOTLAND GE2029'!AN12 -> LAB | H554: =IF(E554='SCOTLAND GE2029'!AK12,"",E554) -> SNP | I554: ='SCOTLAND GE2029'!B12 -> 0.226074 | J554: ='SCOTLAND GE2029'!L12*100 -> -24.400801 | K554: ='SCOTLAND GE2029'!C12 -> 0.064679619 | L554: ='SCOTLAND GE2029'!M12*100 -> -1.0061853 | M554: ='SCOTLAND GE2029'!D12 -> 0.2376597 | N554: ='SCOTLAND GE2029'!N12*100 -> 15.388459 | O554: ='SCOTLAND GE2029'!E12 -> 0.05307467 | P554: ='SCOTLAND GE2029'!O12*100 -> 0.14640674 | Q554: ='SCOTLAND GE2029'!F12 -> 0.087439053 | R554: ='SCOTLAND GE2029'!P12*100 -> 5.4394954 | S554: ='SCOTLAND GE2029'!I12 -> 0.31026811 | T554: ='SCOTLAND GE2029'!S12*100 -> 3.8046548 | U554: =MAX(Z554,AB554,AH554) -> 0.011261679 | V554: =IF(Z554=U554,AA554,IF(AB554=U554,AC554,IF(AH554=U554,AI554,"="))) -> 0.58177229 | Z554: ='SCOTLAND GE2029'!G12 -> 0.011261679 | AA554: ='SCOTLAND GE2029'!Q12*100 -> 0.58177229 | AB554: ='SCOTLAND GE2029'!H12 -> 0 | AC554: ='SCOTLAND GE2029'!R12*100 -> 0 | AH554: ='SCOTLAND GE2029'!J12 -> 0.0095431648 | AI554: ='SCOTLAND GE2029'!T12*100 -> 0.046198095 | AJ554: =MAX(I554,K554,M554,O554,Q554,S554,AH554,Z554,AB554) -> 0.31026811 | AK554: =Q554-AJ554 -> -0.22282906
A555: ='SCOTLAND GE2029'!A13 -> Berwickshire, Roxburgh and Selkirk | B555: ='SCOTLAND GE2029'!#REF! -> #REF! | C555: ='SCOTLAND GE2029'!#REF! -> #REF! | D555: ='SCOTLAND GE2029'!#REF! -> #REF! | E555: ='SCOTLAND GE2029'!AL13 -> Con | F555: ='SCOTLAND GE2029'!AM13 -> HOLD | G555: ='SCOTLAND GE2029'!AN13 | H555: =IF(E555='SCOTLAND GE2029'!AK13,"",E555) | I555: ='SCOTLAND GE2029'!B13 -> 0.058852678 | J555: ='SCOTLAND GE2029'!L13*100 -> -7.6698678 | K555: ='SCOTLAND GE2029'!C13 -> 0.31667574 | L555: ='SCOTLAND GE2029'!M13*100 -> -8.8668131 | M555: ='SCOTLAND GE2029'!D13 -> 0.18372915 | N555: ='SCOTLAND GE2029'!N13*100 -> 11.199068 | O555: ='SCOTLAND GE2029'!E13 -> 0.073501257 | P555: ='SCOTLAND GE2029'!O13*100 -> -0.56688107 | Q555: ='SCOTLAND GE2029'!F13 -> 0.078299165 | R555: ='SCOTLAND GE2029'!P13*100 -> 4.5522843 | S555: ='SCOTLAND GE2029'!I13 -> 0.27124167 | T555: ='SCOTLAND GE2029'!S13*100 -> 0.7634989 | U555: =MAX(Z555,AB555,AH555) -> 0.013197009 | V555: =IF(Z555=U555,AA555,IF(AB555=U555,AC555,IF(AH555=U555,AI555,"="))) -> 0.61305539 | Z555: ='SCOTLAND GE2029'!G13 -> 0.013197009 | AA555: ='SCOTLAND GE2029'!Q13*100 -> 0.61305539 | AB555: ='SCOTLAND GE2029'!H13 -> 0 | AC555: ='SCOTLAND GE2029'!R13*100 -> 0 | AH555: ='SCOTLAND GE2029'!J13 -> 0.004503325 | AI555: ='SCOTLAND GE2029'!T13*100 -> -0.024344248 | AJ555: =MAX(I555,K555,M555,O555,Q555,S555,AH555,Z555,AB555) -> 0.31667574 | AK555: =Q555-AJ555 -> -0.23837658
A556: ='SCOTLAND GE2029'!A14 -> Caithness, Sutherland and Easter Ross | B556: ='SCOTLAND GE2029'!#REF! -> #REF! | C556: ='SCOTLAND GE2029'!#REF! -> #REF! | D556: ='SCOTLAND GE2029'!#REF! -> #REF! | E556: ='SCOTLAND GE2029'!AL14 -> LD | F556: ='SCOTLAND GE2029'!AM14 -> HOLD | G556: ='SCOTLAND GE2029'!AN14 | H556: =IF(E556='SCOTLAND GE2029'!AK14,"",E556) | I556: ='SCOTLAND GE2029'!B14 -> 0.029647742 | J556: ='SCOTLAND GE2029'!L14*100 -> -4.4383703 | K556: ='SCOTLAND GE2029'!C14 -> 0.0291076 | L556: ='SCOTLAND GE2029'!M14*100 -> -1.1285034 | M556: ='SCOTLAND GE2029'!D14 -> 0.1723723 | N556: ='SCOTLAND GE2029'!N14*100 -> 9.9404957 | O556: ='SCOTLAND GE2029'!E14 -> 0.4228147 | P556: ='SCOTLAND GE2029'!O14*100 -> -7.0930959 | Q556: ='SCOTLAND GE2029'!F14 -> 0.078524967 | R556: ='SCOTLAND GE2029'!P14*100 -> 4.288824 | S556: ='SCOTLAND GE2029'!I14 -> 0.25242478 | T556: ='SCOTLAND GE2029'!S14*100 -> -1.3536829 | U556: =MAX(Z556,AB556,AH556) -> 0.015107922 | V556: =IF(Z556=U556,AA556,IF(AB556=U556,AC556,IF(AH556=U556,AI556,"="))) -> -0.21566717 | Z556: ='SCOTLAND GE2029'!G14 -> 0 | AA556: ='SCOTLAND GE2029'!Q14*100 -> 0 | AB556: ='SCOTLAND GE2029'!H14 -> 0 | AC556: ='SCOTLAND GE2029'!R14*100 -> 0 | AH556: ='SCOTLAND GE2029'!J14 -> 0.015107922 | AI556: ='SCOTLAND GE2029'!T14*100 -> -0.21566717 | AJ556: =MAX(I556,K556,M556,O556,Q556,S556,AH556,Z556,AB556) -> 0.4228147 | AK556: =Q556-AJ556 -> -0.34428973
... A601: ='SCOTLAND GE2029'!A59 -> West Dunbartonshire | B601: ='SCOTLAND GE2029'!#REF! -> #REF! | C601: ='SCOTLAND GE2029'!#REF! -> #REF! | D601: ='SCOTLAND GE2029'!#REF! -> #REF! | E601: ='SCOTLAND GE2029'!AL59 -> SNP | F601: ='SCOTLAND GE2029'!AM59 -> gain from | G601: ='SCOTLAND GE2029'!AN59 -> LAB | H601: =IF(E601='SCOTLAND GE2029'!AK59,"",E601) -> SNP | I601: ='SCOTLAND GE2029'!B59 -> 0.23928047 | J601: ='SCOTLAND GE2029'!L59*100 -> -24.859342 | K601: ='SCOTLAND GE2029'!C59 -> 0.032862931 | L601: ='SCOTLAND GE2029'!M59*100 -> -0.43743363 | M601: ='SCOTLAND GE2029'!D59 -> 0.20245258 | N601: ='SCOTLAND GE2029'!N59*100 -> 13.247481 | O601: ='SCOTLAND GE2029'!E59 -> 0.022228663 | P601: ='SCOTLAND GE2029'!O59*100 -> 0.10332305 | Q601: ='SCOTLAND GE2029'!F59 -> 0.10198731 | R601: ='SCOTLAND GE2029'!P59*100 -> 6.4194263 | S601: ='SCOTLAND GE2029'!I59 -> 0.3906021 | T601: ='SCOTLAND GE2029'!S59*100 -> 5.4557231 | U601: =MAX(Z601,AB601,AH601) -> 0.010585947 | V601: =IF(Z601=U601,AA601,IF(AB601=U601,AC601,IF(AH601=U601,AI601,"="))) -> 0.070821879 | Z601: ='SCOTLAND GE2029'!G59 -> 0 | AA601: ='SCOTLAND GE2029'!Q59*100 -> 0 | AB601: ='SCOTLAND GE2029'!H59 -> 0 | AC601: ='SCOTLAND GE2029'!R59*100 -> 0 | AH601: ='SCOTLAND GE2029'!J59 -> 0.010585947 | AI601: ='SCOTLAND GE2029'!T59*100 -> 0.070821879 | AJ601: =MAX(I601,K601,M601,O601,Q601,S601,AH601,Z601,AB601) -> 0.3906021 | AK601: =Q601-AJ601 -> -0.28861479
A602: ='WALES GE2029'!A3 -> Aberafan Maesteg | B602: ='WALES GE2029'!#REF! -> #REF! | C602: ='WALES GE2029'!#REF! -> #REF! | D602: ='WALES GE2029'!#REF! -> #REF! | E602: ='WALES GE2029'!AL3 -> Ref | F602: ='WALES GE2029'!AM3 -> gain from | G602: ='WALES GE2029'!AN3 -> LAB | H602: =IF(E602='WALES GE2029'!AK3,"",E602) -> Ref | I602: ='WALES GE2029'!B3 -> 0.21264181 | J602: ='WALES GE2029'!L3*100 -> -28.623944 | K602: ='WALES GE2029'!C3 -> 0.060676204 | L602: ='WALES GE2029'!M3*100 -> -2.0517508 | M602: ='WALES GE2029'!D3 -> 0.35680419 | N602: ='WALES GE2029'!N3*100 -> 14.748495 | O602: ='WALES GE2029'!E3 -> 0.025342083 | P602: ='WALES GE2029'!O3*100 -> -0.027742832 | Q602: ='WALES GE2029'!F3 -> 0.097264787 | R602: ='WALES GE2029'!P3*100 -> 6.6666812 | S602: ='WALES GE2029'!I3 -> 0.22018635 | T602: ='WALES GE2029'!S3*100 -> 8.8201115 | U602: =MAX(Z602,AB602,AH602) -> 0.020533266 | V602: =IF(Z602=U602,AA602,IF(AB602=U602,AC602,IF(AH602=U602,AI602,"="))) -> 0.32484866 | Z602: ='WALES GE2029'!G3 -> 0.020533266 | AA602: ='WALES GE2029'!Q3*100 -> 0.32484866 | AB602: ='WALES GE2029'!H3 -> 0 | AC602: ='WALES GE2029'!R3*100 -> 0 | AH602: ='WALES GE2029'!J3 -> 0.0065513205 | AI602: ='WALES GE2029'!T3*100 -> 0.14330121 | AJ602: =MAX(I602,K602,M602,O602,Q602,S602,AH602,Z602,AB602) -> 0.35680419 | AK602: =Q602-AJ602 -> -0.2595394
A603: ='WALES GE2029'!A4 -> Alyn and Deeside | B603: ='WALES GE2029'!#REF! -> #REF! | C603: ='WALES GE2029'!#REF! -> #REF! | D603: ='WALES GE2029'!#REF! -> #REF! | E603: ='WALES GE2029'!AL4 -> Ref | F603: ='WALES GE2029'!AM4 -> gain from | G603: ='WALES GE2029'!AN4 -> LAB | H603: =IF(E603='WALES GE2029'!AK4,"",E603) -> Ref | I603: ='WALES GE2029'!B4 -> 0.18077123 | J603: ='WALES GE2029'!L4*100 -> -24.315483 | K603: ='WALES GE2029'!C4 -> 0.13597565 | L603: ='WALES GE2029'!M4*100 -> -4.5901195 | M603: ='WALES GE2029'!D4 -> 0.37732478 | N603: ='WALES GE2029'!N4*100 -> 15.606279 | O603: ='WALES GE2029'!E4 -> 0.047094434 | P603: ='WALES GE2029'!O4*100 -> -0.049498347 | Q603: ='WALES GE2029'!F4 -> 0.14115533 | R603: ='WALES GE2029'!P4*100 -> 9.6769272 | S603: ='WALES GE2029'!I4 -> 0.074541285 | T603: ='WALES GE2029'!S4*100 -> 2.9878675 | U603: =MAX(Z603,AB603,AH603) -> 0.043137285 | V603: =IF(Z603=U603,AA603,IF(AB603=U603,AC603,IF(AH603=U603,AI603,"="))) -> 0.68402718 | Z603: ='WALES GE2029'!G4 -> 0.043137285 | AA603: ='WALES GE2029'!Q4*100 -> 0.68402718 | AB603: ='WALES GE2029'!H4 -> 0 | AC603: ='WALES GE2029'!R4*100 -> 0 | AH603: ='WALES GE2029'!J4 -> 0 | AI603: ='WALES GE2029'!T4*100 -> 0 | AJ603: =MAX(I603,K603,M603,O603,Q603,S603,AH603,Z603,AB603) -> 0.37732478 | AK603: =Q603-AJ603 -> -0.23616944
A604: ='WALES GE2029'!A5 -> Bangor Aberconwy | B604: ='WALES GE2029'!#REF! -> #REF! | C604: ='WALES GE2029'!#REF! -> #REF! | D604: ='WALES GE2029'!#REF! -> #REF! | E604: ='WALES GE2029'!AL5 -> PC | F604: ='WALES GE2029'!AM5 -> gain from | G604: ='WALES GE2029'!AN5 -> LAB | H604: =IF(E604='WALES GE2029'!AK5,"",E604) -> PC | I604: ='WALES GE2029'!B5 -> 0.13322493 | J604: ='WALES GE2029'!L5*100 -> -20.302087 | K604: ='WALES GE2029'!C5 -> 0.15067116 | L604: ='WALES GE2029'!M5*100 -> -6.6227546 | M604: ='WALES GE2029'!D5 -> 0.23166867 | N604: ='WALES GE2029'!N5*100 -> 8.5461272 | O604: ='WALES GE2029'!E5 -> 0.033636774 | P604: ='WALES GE2029'!O5*100 -> -0.29450794 | Q604: ='WALES GE2029'!F5 -> 0.096533705 | R604: ='WALES GE2029'!P5*100 -> 6.3864478 | S604: ='WALES GE2029'!I5 -> 0.33918501 | T604: ='WALES GE2029'!S5*100 -> 12.046202 | U604: =MAX(Z604,AB604,AH604) -> 0.015079753 | V604: =IF(Z604=U604,AA604,IF(AB604=U604,AC604,IF(AH604=U604,AI604,"="))) -> 0.24057247 | Z604: ='WALES GE2029'!G5 -> 0 | AA604: ='WALES GE2029'!Q5*100 -> 0 | AB604: ='WALES GE2029'!H5 -> 0 | AC604: ='WALES GE2029'!R5*100 -> 0 | AH604: ='WALES GE2029'!J5 -> 0.015079753 | AI604: ='WALES GE2029'!T5*100 -> 0.24057247 | AJ604: =MAX(I604,K604,M604,O604,Q604,S604,AH604,Z604,AB604) -> 0.33918501 | AK604: =Q604-AJ604 -> -0.24265131
A605: ='WALES GE2029'!A6 -> Blaenau Gwent and Rhymney | B605: ='WALES GE2029'!#REF! -> #REF! | C605: ='WALES GE2029'!#REF! -> #REF! | D605: ='WALES GE2029'!#REF! -> #REF! | E605: ='WALES GE2029'!AL6 -> Ref | F605: ='WALES GE2029'!AM6 -> gain from | G605: ='WALES GE2029'!AN6 -> LAB | H605: =IF(E605='WALES GE2029'!AK6,"",E605) -> Ref | I605: ='WALES GE2029'!B6 -> 0.19589011 | J605: ='WALES GE2029'!L6*100 -> -33.973585 | K605: ='WALES GE2029'!C6 -> 0.03231911 | L605: ='WALES GE2029'!M6*100 -> -9.3875663 | M605: ='WALES GE2029'!D6 -> 0.26807326 | N605: ='WALES GE2029'!N6*100 -> 26.807326 | O605: ='WALES GE2029'!E6 -> 0.036828139 | P605: ='WALES GE2029'!O6*100 -> -0.55487078 | Q605: ='WALES GE2029'!F6 -> 0.16044562 | R605: ='WALES GE2029'!P6*100 -> 10.299626 | S605: ='WALES GE2029'!I6 -> 0.18829443 | T605: ='WALES GE2029'!S6*100 -> 5.9827082 | U605: =MAX(Z605,AB605,AH605) -> 0.084027229 | V605: =IF(Z605=U605,AA605,IF(AB605=U605,AC605,IF(AH605=U605,AI605,"="))) -> 0.35179049 | Z605: ='WALES GE2029'!G6 -> 0.084027229 | AA605: ='WALES GE2029'!Q6*100 -> 0.35179049 | AB605: ='WALES GE2029'!H6 -> 0.022508949 | AC605: ='WALES GE2029'!R6*100 -> 0.34594201 | AH605: ='WALES GE2029'!J6 -> 0.011613147 | AI605: ='WALES GE2029'!T6*100 -> 0.12862972 | AJ605: =MAX(I605,K605,M605,O605,Q605,S605,AH605,Z605,AB605) -> 0.26807326 | AK605: =Q605-AJ605 -> -0.10762764
A606: ='WALES GE2029'!A7 -> Brecon, Radnor and Cwm Tawe | B606: ='WALES GE2029'!#REF! -> #REF! | C606: ='WALES GE2029'!#REF! -> #REF! | D606: ='WALES GE2029'!#REF! -> #REF! | E606: ='WALES GE2029'!AL7 -> LD | F606: ='WALES GE2029'!AM7 -> HOLD | G606: ='WALES GE2029'!AN7 | H606: =IF(E606='WALES GE2029'!AK7,"",E606) | I606: ='WALES GE2029'!B7 -> 0.090730803 | J606: ='WALES GE2029'!L7*100 -> -12.203881 | K606: ='WALES GE2029'!C7 -> 0.19697939 | L606: ='WALES GE2029'!M7*100 -> -6.6490574 | M606: ='WALES GE2029'!D7 -> 0.2405916 | N606: ='WALES GE2029'!N7*100 -> 9.9511426 | O606: ='WALES GE2029'!E7 -> 0.29202793 | P606: ='WALES GE2029'!O7*100 -> -0.30653022 | Q606: ='WALES GE2029'!F7 -> 0.081165607 | R606: ='WALES GE2029'!P7*100 -> 5.5643565 | S606: ='WALES GE2029'!I7 -> 0.0817509 | T606: ='WALES GE2029'!S7*100 -> 3.2769203 | U606: =MAX(Z606,AB606,AH606) -> 0.016753762 | V606: =IF(Z606=U606,AA606,IF(AB606=U606,AC606,IF(AH606=U606,AI606,"="))) -> 0.36704928 | Z606: ='WALES GE2029'!G7 -> 0 | AA606: ='WALES GE2029'!Q7*100 -> 0 | AB606: ='WALES GE2029'!H7 -> 0 | AC606: ='WALES GE2029'!R7*100 -> 0 | AH606: ='WALES GE2029'!J7 -> 0.016753762 | AI606: ='WALES GE2029'!T7*100 -> 0.36704928 | AJ606: =MAX(I606,K606,M606,O606,Q606,S606,AH606,Z606,AB606) -> 0.29202793 | AK606: =Q606-AJ606 -> -0.21086233
A607: ='WALES GE2029'!A8 -> Bridgend | B607: ='WALES GE2029'!#REF! -> #REF! | C607: ='WALES GE2029'!#REF! -> #REF! | D607: ='WALES GE2029'!#REF! -> #REF! | E607: ='WALES GE2029'!AL8 -> Ref | F607: ='WALES GE2029'!AM8 -> gain from | G607: ='WALES GE2029'!AN8 -> LAB | H607: =IF(E607='WALES GE2029'!AK8,"",E607) -> Ref | I607: ='WALES GE2029'!B8 -> 0.16509285 | J607: ='WALES GE2029'!L8*100 -> -23.409505 | K607: ='WALES GE2029'!C8 -> 0.1185418 | L607: ='WALES GE2029'!M8*100 -> -4.4942516 | M607: ='WALES GE2029'!D8 -> 0.31664506 | N607: ='WALES GE2029'!N8*100 -> 12.519633 | O607: ='WALES GE2029'!E8 -> 0.033543754 | P607: ='WALES GE2029'!O8*100 -> -0.14057309 | Q607: ='WALES GE2029'!F8 -> 0.13120414 | R607: ='WALES GE2029'!P8*100 -> 8.8665344 | S607: ='WALES GE2029'!I8 -> 0.14197894 | T607: ='WALES GE2029'!S8*100 -> 5.4266848 | U607: =MAX(Z607,AB607,AH607) -> 0.092993466 | V607: =IF(Z607=U607,AA607,IF(AB607=U607,AC607,IF(AH607=U607,AI607,"="))) -> 1.2314778 | Z607: ='WALES GE2029'!G8 -> 0.092993466 | AA607: ='WALES GE2029'!Q8*100 -> 1.2314778 | AB607: ='WALES GE2029'!H8 -> 0 | AC607: ='WALES GE2029'!R8*100 -> 0 | AH607: ='WALES GE2029'!J8 -> 0 | AI607: ='WALES GE2029'!T8*100 -> 0 | AJ607: =MAX(I607,K607,M607,O607,Q607,S607,AH607,Z607,AB607) -> 0.31664506 | AK607: =Q607-AJ607 -> -0.18544092
A608: ='WALES GE2029'!A9 -> Caerfyrddin | B608: ='WALES GE2029'!#REF! -> #REF! | C608: ='WALES GE2029'!#REF! -> #REF! | D608: ='WALES GE2029'!#REF! -> #REF! | E608: ='WALES GE2029'!AL9 -> PC | F608: ='WALES GE2029'!AM9 -> HOLD | G608: ='WALES GE2029'!AN9 | H608: =IF(E608='WALES GE2029'!AK9,"",E608) | I608: ='WALES GE2029'!B9 -> 0.084424981 | J608: ='WALES GE2029'!L9*100 -> -15.645301 | K608: ='WALES GE2029'!C9 -> 0.11891322 | L608: ='WALES GE2029'!M9*100 -> -7.4600503 | M608: ='WALES GE2029'!D9 -> 0.21342729 | N608: ='WALES GE2029'!N9*100 -> 6.1159944 | O608: ='WALES GE2029'!E9 -> 0.026058002 | P608: ='WALES GE2029'!O9*100 -> -0.5978661 | Q608: ='WALES GE2029'!F9 -> 0.078581415 | R608: ='WALES GE2029'!P9*100 -> 4.8518263 | S608: ='WALES GE2029'!I9 -> 0.46684875 | T608: ='WALES GE2029'!S9*100 -> 12.652773 | U608: =MAX(Z608,AB608,AH608) -> 0.0065083506 | V608: =IF(Z608=U608,AA608,IF(AB608=U608,AC608,IF(AH608=U608,AI608,"="))) -> 0.032468249 | Z608: ='WALES GE2029'!G9 -> 0 | AA608: ='WALES GE2029'!Q9*100 -> 0 | AB608: ='WALES GE2029'!H9 -> 0.005237988 | AC608: ='WALES GE2029'!R9*100 -> 0.050156135 | AH608: ='WALES GE2029'!J9 -> 0.0065083506 | AI608: ='WALES GE2029'!T9*100 -> 0.032468249 | AJ608: =MAX(I608,K608,M608,O608,Q608,S608,AH608,Z608,AB608) -> 0.46684875 | AK608: =Q608-AJ608 -> -0.38826733
A609: ='WALES GE2029'!A10 -> Caerphilly | B609: ='WALES GE2029'!#REF! -> #REF! | C609: ='WALES GE2029'!#REF! -> #REF! | D609: ='WALES GE2029'!#REF! -> #REF! | E609: ='WALES GE2029'!AL10 -> PC | F609: ='WALES GE2029'!AM10 -> gain from | G609: ='WALES GE2029'!AN10 -> LAB | H609: =IF(E609='WALES GE2029'!AK10,"",E609) -> PC | I609: ='WALES GE2029'!B10 -> 0.13383441 | J609: ='WALES GE2029'!L10*100 -> -24.640308 | K609: ='WALES GE2029'!C10 -> 0.059655974 | L609: ='WALES GE2029'!M10*100 -> -5.5032523 | M609: ='WALES GE2029'!D10 -> 0.32198741 | N609: ='WALES GE2029'!N10*100 -> 11.918362 | O609: ='WALES GE2029'!E10 -> 0.03342289 | P609: ='WALES GE2029'!O10*100 -> -1.3341769 | Q609: ='WALES GE2029'!F10 -> 0.090529654 | R609: ='WALES GE2029'!P10*100 -> 4.7374347 | S609: ='WALES GE2029'!I10 -> 0.36056966 | T609: ='WALES GE2029'!S10*100 -> 14.82194 | U609: =MAX(Z609,AB609,AH609) -> 0 | V609: =IF(Z609=U609,AA609,IF(AB609=U609,AC609,IF(AH609=U609,AI609,"="))) -> 0 | Z609: ='WALES GE2029'!G10 -> 0 | AA609: ='WALES GE2029'!Q10*100 -> 0 | AB609: ='WALES GE2029'!H10 -> 0 | AC609: ='WALES GE2029'!R10*100 -> 0 | AH609: ='WALES GE2029'!J10 -> 0 | AI609: ='WALES GE2029'!T10*100 -> 0 | AJ609: =MAX(I609,K609,M609,O609,Q609,S609,AH609,Z609,AB609) -> 0.36056966 | AK609: =Q609-AJ609 -> -0.27004001
A610: ='WALES GE2029'!A11 -> Cardiff East | B610: ='WALES GE2029'!#REF! -> #REF! | C610: ='WALES GE2029'!#REF! -> #REF! | D610: ='WALES GE2029'!#REF! -> #REF! | E610: ='WALES GE2029'!AL11 -> Grn | F610: ='WALES GE2029'!AM11 -> gain from | G610: ='WALES GE2029'!AN11 -> LAB | H610: =IF(E610='WALES GE2029'!AK11,"",E610) -> Grn | I610: ='WALES GE2029'!B11 -> 0.15533753 | J610: ='WALES GE2029'!L11*100 -> -24.936048 | K610: ='WALES GE2029'!C11 -> 0.067308134 | L610: ='WALES GE2029'!M11*100 -> -3.2709758 | M610: ='WALES GE2029'!D11 -> 0.19539428 | N610: ='WALES GE2029'!N11*100 -> 6.8103426 | O610: ='WALES GE2029'!E11 -> 0.15336817 | P610: ='WALES GE2029'!O11*100 -> -1.8806762 | Q610: ='WALES GE2029'!F11 -> 0.28652818 | R610: ='WALES GE2029'!P11*100 -> 18.64336 | S610: ='WALES GE2029'!I11 -> 0.13631859 | T610: ='WALES GE2029'!S11*100 -> 4.5579132 | U610: =MAX(Z610,AB610,AH610) -> 0.0057451147 | V610: =IF(Z610=U610,AA610,IF(AB610=U610,AC610,IF(AH610=U610,AI610,"="))) -> 0.076083438 | Z610: ='WALES GE2029'!G11 -> 0 | AA610: ='WALES GE2029'!Q11*100 -> 0 | AB610: ='WALES GE2029'!H11 -> 0 | AC610: ='WALES GE2029'!R11*100 -> 0 | AH610: ='WALES GE2029'!J11 -> 0.0057451147 | AI610: ='WALES GE2029'!T11*100 -> 0.076083438 | AJ610: =MAX(I610,K610,M610,O610,Q610,S610,AH610,Z610,AB610) -> 0.28652818 | AK610: =Q610-AJ610 -> 0
A611: ='WALES GE2029'!A12 -> Cardiff North | B611: ='WALES GE2029'!#REF! -> #REF! | C611: ='WALES GE2029'!#REF! -> #REF! | D611: ='WALES GE2029'!#REF! -> #REF! | E611: ='WALES GE2029'!AL12 -> Ref | F611: ='WALES GE2029'!AM12 -> gain from | G611: ='WALES GE2029'!AN12 -> LAB | H611: =IF(E611='WALES GE2029'!AK12,"",E611) -> Ref | I611: ='WALES GE2029'!B12 -> 0.18802921 | J611: ='WALES GE2029'!L12*100 -> -25.114674 | K611: ='WALES GE2029'!C12 -> 0.15245854 | L611: ='WALES GE2029'!M12*100 -> -5.0646387 | M611: ='WALES GE2029'!D12 -> 0.21586069 | N611: ='WALES GE2029'!N12*100 -> 8.9789031 | O611: ='WALES GE2029'!E12 -> 0.066304843 | P611: ='WALES GE2029'!O12*100 -> -0.042782581 | Q611: ='WALES GE2029'!F12 -> 0.21253901 | R611: ='WALES GE2029'!P12*100 -> 14.597486 | S611: ='WALES GE2029'!I12 -> 0.16480771 | T611: ='WALES GE2029'!S12*100 -> 6.6457072 | U611: =MAX(Z611,AB611,AH611) -> 0 | V611: =IF(Z611=U611,AA611,IF(AB611=U611,AC611,IF(AH611=U611,AI611,"="))) -> 0 | Z611: ='WALES GE2029'!G12 -> 0 | AA611: ='WALES GE2029'!Q12*100 -> 0 | AB611: ='WALES GE2029'!H12 -> 0 | AC611: ='WALES GE2029'!R12*100 -> 0 | AH611: ='WALES GE2029'!J12 -> 0 | AI611: ='WALES GE2029'!T12*100 -> 0 | AJ611: =MAX(I611,K611,M611,O611,Q611,S611,AH611,Z611,AB611) -> 0.21586069 | AK611: =Q611-AJ611 -> -0.0033216847
A612: ='WALES GE2029'!A13 -> Cardiff South and Penarth | B612: ='WALES GE2029'!#REF! -> #REF! | C612: ='WALES GE2029'!#REF! -> #REF! | D612: ='WALES GE2029'!#REF! -> #REF! | E612: ='WALES GE2029'!AL13 -> Grn | F612: ='WALES GE2029'!AM13 -> gain from | G612: ='WALES GE2029'!AN13 -> LAB | H612: =IF(E612='WALES GE2029'!AK13,"",E612) -> Grn | I612: ='WALES GE2029'!B13 -> 0.16354367 | J612: ='WALES GE2029'!L13*100 -> -28.132054 | K612: ='WALES GE2029'!C13 -> 0.089813951 | L612: ='WALES GE2029'!M13*100 -> -4.9531567 | M612: ='WALES GE2029'!D13 -> 0.16861334 | N612: ='WALES GE2029'!N13*100 -> 5.3925772 | O612: ='WALES GE2029'!E13 -> 0.0633287 | P612: ='WALES GE2029'!O13*100 -> -1.090042 | Q612: ='WALES GE2029'!F13 -> 0.39617842 | R612: ='WALES GE2029'!P13*100 -> 25.167668 | S612: ='WALES GE2029'!I13 -> 0.11852193 | T612: ='WALES GE2029'!S13*100 -> 3.615007 | U612: =MAX(Z612,AB612,AH612) -> 0 | V612: =IF(Z612=U612,AA612,IF(AB612=U612,AC612,IF(AH612=U612,AI612,"="))) -> 0 | Z612: ='WALES GE2029'!G13 -> 0 | AA612: ='WALES GE2029'!Q13*100 -> 0 | AB612: ='WALES GE2029'!H13 -> 0 | AC612: ='WALES GE2029'!R13*100 -> 0 | AH612: ='WALES GE2029'!J13 -> 0 | AI612: ='WALES GE2029'!T13*100 -> 0 | AJ612: =MAX(I612,K612,M612,O612,Q612,S612,AH612,Z612,AB612) -> 0.39617842 | AK612: =Q612-AJ612 -> 0
A613: ='WALES GE2029'!A14 -> Cardiff West | B613: ='WALES GE2029'!#REF! -> #REF! | C613: ='WALES GE2029'!#REF! -> #REF! | D613: ='WALES GE2029'!#REF! -> #REF! | E613: ='WALES GE2029'!AL14 -> PC | F613: ='WALES GE2029'!AM14 -> gain from | G613: ='WALES GE2029'!AN14 -> LAB | H613: =IF(E613='WALES GE2029'!AK14,"",E613) -> PC | I613: ='WALES GE2029'!B14 -> 0.13722346 | J613: ='WALES GE2029'!L14*100 -> -23.013807 | K613: ='WALES GE2029'!C14 -> 0.10001308 | L613: ='WALES GE2029'!M14*100 -> -5.2700467 | M613: ='WALES GE2029'!D14 -> 0.18777717 | N613: ='WALES GE2029'!N14*100 -> 6.207616 | O613: ='WALES GE2029'!E14 -> 0.037206695 | P613: ='WALES GE2029'!O14*100 -> -0.57139658 | Q613: ='WALES GE2029'!F14 -> 0.19649875 | R613: ='WALES GE2029'!P14*100 -> 12.59623 | S613: ='WALES GE2029'!I14 -> 0.30780558 | T613: ='WALES GE2029'!S14*100 -> 9.7268686 | U613: =MAX(Z613,AB613,AH613) -> 0.027869517 | V613: =IF(Z613=U613,AA613,IF(AB613=U613,AC613,IF(AH613=U613,AI613,"="))) -> 0.30242412 | Z613: ='WALES GE2029'!G14 -> 0.005605747 | AA613: ='WALES GE2029'!Q14*100 -> 0.022111443 | AB613: ='WALES GE2029'!H14 -> 0 | AC613: ='WALES GE2029'!R14*100 -> 0 | AH613: ='WALES GE2029'!J14 -> 0.027869517 | AI613: ='WALES GE2029'!T14*100 -> 0.30242412 | AJ613: =MAX(I613,K613,M613,O613,Q613,S613,AH613,Z613,AB613) -> 0.30780558 | AK613: =Q613-AJ613 -> -0.11130683
